BEGIN:VCALENDAR
VERSION:2.0
PRODID:-//Elkhart Public Library - ECPv6.15.20//NONSGML v1.0//EN
CALSCALE:GREGORIAN
METHOD:PUBLISH
X-WR-CALNAME:Elkhart Public Library
X-ORIGINAL-URL:https://www.myepl.org
X-WR-CALDESC:Events for Elkhart Public Library
REFRESH-INTERVAL;VALUE=DURATION:PT1H
X-Robots-Tag:noindex
X-PUBLISHED-TTL:PT1H
BEGIN:VTIMEZONE
TZID:America/Indiana/Indianapolis
BEGIN:DAYLIGHT
TZOFFSETFROM:-0500
TZOFFSETTO:-0400
TZNAME:EDT
DTSTART:20230312T070000
END:DAYLIGHT
BEGIN:STANDARD
TZOFFSETFROM:-0400
TZOFFSETTO:-0500
TZNAME:EST
DTSTART:20231105T060000
END:STANDARD
BEGIN:DAYLIGHT
TZOFFSETFROM:-0500
TZOFFSETTO:-0400
TZNAME:EDT
DTSTART:20240310T070000
END:DAYLIGHT
BEGIN:STANDARD
TZOFFSETFROM:-0400
TZOFFSETTO:-0500
TZNAME:EST
DTSTART:20241103T060000
END:STANDARD
BEGIN:DAYLIGHT
TZOFFSETFROM:-0500
TZOFFSETTO:-0400
TZNAME:EDT
DTSTART:20250309T070000
END:DAYLIGHT
BEGIN:STANDARD
TZOFFSETFROM:-0400
TZOFFSETTO:-0500
TZNAME:EST
DTSTART:20251102T060000
END:STANDARD
END:VTIMEZONE
BEGIN:VEVENT
DTSTART;TZID=America/Indiana/Indianapolis:20240503T160000
DTEND;TZID=America/Indiana/Indianapolis:20240503T180000
DTSTAMP:20260421T213816
CREATED:20240112T184207Z
LAST-MODIFIED:20240112T184207Z
UID:43117-1714752000-1714759200@www.myepl.org
SUMMARY:Ask a Museum Curator
DESCRIPTION:Who decides what goes into the museum collection? How are items preserved? And what can I do to maintain my own treasures? Michelle Nash\, curator of collections for the Elkhart County Historical Museum\, will be on hand to field your questions and celebrate National Preservation Week. \nApril 30 – Dunlap – Noon to 2 p.m.; Pierre Moran 4 to 6 p.m.\nMay 1 – Downtown – Noon to 2 p.m.\nMay 3 – Cleveland – Noon to 2 p.m.; Osolo 4 to 6 p.m.
URL:https://www.myepl.org/event/ask-a-museum-curator/2024-05-03/2/
CATEGORIES:Educational
ATTACH;FMTTYPE=image/png:https://www.myepl.org/wp-content/uploads/2024/01/Primary-Color-Horizontal.png
END:VEVENT
BEGIN:VEVENT
DTSTART;TZID=America/Indiana/Indianapolis:20240503T120000
DTEND;TZID=America/Indiana/Indianapolis:20240503T140000
DTSTAMP:20260421T213816
CREATED:20240112T184207Z
LAST-MODIFIED:20240112T184207Z
UID:43116-1714737600-1714744800@www.myepl.org
SUMMARY:Ask a Museum Curator
DESCRIPTION:Who decides what goes into the museum collection? How are items preserved? And what can I do to maintain my own treasures? Michelle Nash\, curator of collections for the Elkhart County Historical Museum\, will be on hand to field your questions and celebrate National Preservation Week. \nApril 30 – Dunlap – Noon to 2 p.m.; Pierre Moran 4 to 6 p.m.\nMay 1 – Downtown – Noon to 2 p.m.\nMay 3 – Cleveland – Noon to 2 p.m.; Osolo 4 to 6 p.m.
URL:https://www.myepl.org/event/ask-a-museum-curator/2024-05-03/
CATEGORIES:Educational
ATTACH;FMTTYPE=image/png:https://www.myepl.org/wp-content/uploads/2024/01/Primary-Color-Horizontal.png
END:VEVENT
BEGIN:VEVENT
DTSTART;TZID=America/Indiana/Indianapolis:20240501T120000
DTEND;TZID=America/Indiana/Indianapolis:20240501T140000
DTSTAMP:20260421T213816
CREATED:20240112T184207Z
LAST-MODIFIED:20240112T184207Z
UID:43115-1714564800-1714572000@www.myepl.org
SUMMARY:Ask a Museum Curator
DESCRIPTION:Who decides what goes into the museum collection? How are items preserved? And what can I do to maintain my own treasures? Michelle Nash\, curator of collections for the Elkhart County Historical Museum\, will be on hand to field your questions and celebrate National Preservation Week. \nApril 30 – Dunlap – Noon to 2 p.m.; Pierre Moran 4 to 6 p.m.\nMay 1 – Downtown – Noon to 2 p.m.\nMay 3 – Cleveland – Noon to 2 p.m.; Osolo 4 to 6 p.m.
URL:https://www.myepl.org/event/ask-a-museum-curator/2024-05-01/
CATEGORIES:Educational
ATTACH;FMTTYPE=image/png:https://www.myepl.org/wp-content/uploads/2024/01/Primary-Color-Horizontal.png
END:VEVENT
BEGIN:VEVENT
DTSTART;TZID=America/Indiana/Indianapolis:20240430T120000
DTEND;TZID=America/Indiana/Indianapolis:20240430T140000
DTSTAMP:20260421T213816
CREATED:20240112T184207Z
LAST-MODIFIED:20240328T122301Z
UID:41867-1714478400-1714485600@www.myepl.org
SUMMARY:Ask a Museum Curator
DESCRIPTION:Who decides what goes into the museum collection? How are items preserved? And what can I do to maintain my own treasures? Michelle Nash\, curator of collections for the Elkhart County Historical Museum\, will be on hand to field your questions and celebrate National Preservation Week. \nApril 30 – Dunlap – Noon to 2 p.m.; Pierre Moran 4 to 6 p.m.\nMay 1 – Downtown – Noon to 2 p.m.\nMay 3 – Cleveland – Noon to 2 p.m.; Osolo 4 to 6 p.m.
URL:https://www.myepl.org/event/ask-a-museum-curator/2024-04-30/
CATEGORIES:Educational
ATTACH;FMTTYPE=image/png:https://www.myepl.org/wp-content/uploads/2024/01/Primary-Color-Horizontal.png
END:VEVENT
END:VCALENDAR