BEGIN:VCALENDAR
VERSION:2.0
PRODID:-//Elkhart Public Library - ECPv6.15.20//NONSGML v1.0//EN
CALSCALE:GREGORIAN
METHOD:PUBLISH
X-WR-CALNAME:Elkhart Public Library
X-ORIGINAL-URL:https://www.myepl.org
X-WR-CALDESC:Events for Elkhart Public Library
REFRESH-INTERVAL;VALUE=DURATION:PT1H
X-Robots-Tag:noindex
X-PUBLISHED-TTL:PT1H
BEGIN:VTIMEZONE
TZID:America/Indiana/Indianapolis
BEGIN:DAYLIGHT
TZOFFSETFROM:-0500
TZOFFSETTO:-0400
TZNAME:EDT
DTSTART:20250309T070000
END:DAYLIGHT
BEGIN:STANDARD
TZOFFSETFROM:-0400
TZOFFSETTO:-0500
TZNAME:EST
DTSTART:20251102T060000
END:STANDARD
BEGIN:DAYLIGHT
TZOFFSETFROM:-0500
TZOFFSETTO:-0400
TZNAME:EDT
DTSTART:20260308T070000
END:DAYLIGHT
BEGIN:STANDARD
TZOFFSETFROM:-0400
TZOFFSETTO:-0500
TZNAME:EST
DTSTART:20261101T060000
END:STANDARD
BEGIN:DAYLIGHT
TZOFFSETFROM:-0500
TZOFFSETTO:-0400
TZNAME:EDT
DTSTART:20270314T070000
END:DAYLIGHT
BEGIN:STANDARD
TZOFFSETFROM:-0400
TZOFFSETTO:-0500
TZNAME:EST
DTSTART:20271107T060000
END:STANDARD
END:VTIMEZONE
BEGIN:VEVENT
DTSTART;VALUE=DATE:20260411
DTEND;VALUE=DATE:20260412
DTSTAMP:20260420T160248
CREATED:20251212T185110Z
LAST-MODIFIED:20260303T184452Z
UID:53597-1775865600-1775951999@www.myepl.org
SUMMARY:Spring Break Children's Craft
DESCRIPTION:Pop up in the children’s room throughout spring break to grab a craft to take home.
URL:https://www.myepl.org/event/spring-break-childrens-craft/2026-04-11/
LOCATION:Osolo Branch\, 3429 E. Bristol St.\, Elkhart\, IN\, 46516\, United States
CATEGORIES:Crafts,Just for Fun
ATTACH;FMTTYPE=image/jpeg:https://www.myepl.org/wp-content/uploads/2025/12/SpringBreakcraft_Calendar.jpg
END:VEVENT
BEGIN:VEVENT
DTSTART;VALUE=DATE:20260410
DTEND;VALUE=DATE:20260411
DTSTAMP:20260420T160248
CREATED:20251212T185110Z
LAST-MODIFIED:20260303T184452Z
UID:53596-1775779200-1775865599@www.myepl.org
SUMMARY:Spring Break Children's Craft
DESCRIPTION:Pop up in the children’s room throughout spring break to grab a craft to take home.
URL:https://www.myepl.org/event/spring-break-childrens-craft/2026-04-10/
LOCATION:Osolo Branch\, 3429 E. Bristol St.\, Elkhart\, IN\, 46516\, United States
CATEGORIES:Crafts,Just for Fun
ATTACH;FMTTYPE=image/jpeg:https://www.myepl.org/wp-content/uploads/2025/12/SpringBreakcraft_Calendar.jpg
END:VEVENT
BEGIN:VEVENT
DTSTART;VALUE=DATE:20260409
DTEND;VALUE=DATE:20260410
DTSTAMP:20260420T160248
CREATED:20251212T185110Z
LAST-MODIFIED:20260303T184452Z
UID:53595-1775692800-1775779199@www.myepl.org
SUMMARY:Spring Break Children's Craft
DESCRIPTION:Pop up in the children’s room throughout spring break to grab a craft to take home.
URL:https://www.myepl.org/event/spring-break-childrens-craft/2026-04-09/
LOCATION:Osolo Branch\, 3429 E. Bristol St.\, Elkhart\, IN\, 46516\, United States
CATEGORIES:Crafts,Just for Fun
ATTACH;FMTTYPE=image/jpeg:https://www.myepl.org/wp-content/uploads/2025/12/SpringBreakcraft_Calendar.jpg
END:VEVENT
BEGIN:VEVENT
DTSTART;VALUE=DATE:20260408
DTEND;VALUE=DATE:20260409
DTSTAMP:20260420T160248
CREATED:20251212T185110Z
LAST-MODIFIED:20260303T184452Z
UID:53594-1775606400-1775692799@www.myepl.org
SUMMARY:Spring Break Children's Craft
DESCRIPTION:Pop up in the children’s room throughout spring break to grab a craft to take home.
URL:https://www.myepl.org/event/spring-break-childrens-craft/2026-04-08/
LOCATION:Osolo Branch\, 3429 E. Bristol St.\, Elkhart\, IN\, 46516\, United States
CATEGORIES:Crafts,Just for Fun
ATTACH;FMTTYPE=image/jpeg:https://www.myepl.org/wp-content/uploads/2025/12/SpringBreakcraft_Calendar.jpg
END:VEVENT
BEGIN:VEVENT
DTSTART;VALUE=DATE:20260407
DTEND;VALUE=DATE:20260408
DTSTAMP:20260420T160248
CREATED:20251212T185110Z
LAST-MODIFIED:20260303T184451Z
UID:53593-1775520000-1775606399@www.myepl.org
SUMMARY:Spring Break Children's Craft
DESCRIPTION:Pop up in the children’s room throughout spring break to grab a craft to take home.
URL:https://www.myepl.org/event/spring-break-childrens-craft/2026-04-07/
LOCATION:Osolo Branch\, 3429 E. Bristol St.\, Elkhart\, IN\, 46516\, United States
CATEGORIES:Crafts,Just for Fun
ATTACH;FMTTYPE=image/jpeg:https://www.myepl.org/wp-content/uploads/2025/12/SpringBreakcraft_Calendar.jpg
END:VEVENT
BEGIN:VEVENT
DTSTART;VALUE=DATE:20260406
DTEND;VALUE=DATE:20260407
DTSTAMP:20260420T160248
CREATED:20251212T185110Z
LAST-MODIFIED:20260303T184451Z
UID:53592-1775433600-1775519999@www.myepl.org
SUMMARY:Spring Break Children's Craft
DESCRIPTION:Pop up in the children’s room throughout spring break to grab a craft to take home.
URL:https://www.myepl.org/event/spring-break-childrens-craft/2026-04-06/
LOCATION:Osolo Branch\, 3429 E. Bristol St.\, Elkhart\, IN\, 46516\, United States
CATEGORIES:Crafts,Just for Fun
ATTACH;FMTTYPE=image/jpeg:https://www.myepl.org/wp-content/uploads/2025/12/SpringBreakcraft_Calendar.jpg
END:VEVENT
END:VCALENDAR