BEGIN:VCALENDAR
VERSION:2.0
PRODID:-//Elkhart Public Library - ECPv6.15.20//NONSGML v1.0//EN
CALSCALE:GREGORIAN
METHOD:PUBLISH
X-ORIGINAL-URL:https://www.myepl.org
X-WR-CALDESC:Events for Elkhart Public Library
REFRESH-INTERVAL;VALUE=DURATION:PT1H
X-Robots-Tag:noindex
X-PUBLISHED-TTL:PT1H
BEGIN:VTIMEZONE
TZID:America/Indiana/Indianapolis
BEGIN:DAYLIGHT
TZOFFSETFROM:-0500
TZOFFSETTO:-0400
TZNAME:EDT
DTSTART:20250309T070000
END:DAYLIGHT
BEGIN:STANDARD
TZOFFSETFROM:-0400
TZOFFSETTO:-0500
TZNAME:EST
DTSTART:20251102T060000
END:STANDARD
BEGIN:DAYLIGHT
TZOFFSETFROM:-0500
TZOFFSETTO:-0400
TZNAME:EDT
DTSTART:20260308T070000
END:DAYLIGHT
BEGIN:STANDARD
TZOFFSETFROM:-0400
TZOFFSETTO:-0500
TZNAME:EST
DTSTART:20261101T060000
END:STANDARD
BEGIN:DAYLIGHT
TZOFFSETFROM:-0500
TZOFFSETTO:-0400
TZNAME:EDT
DTSTART:20270314T070000
END:DAYLIGHT
BEGIN:STANDARD
TZOFFSETFROM:-0400
TZOFFSETTO:-0500
TZNAME:EST
DTSTART:20271107T060000
END:STANDARD
END:VTIMEZONE
BEGIN:VEVENT
DTSTART;TZID=America/Indiana/Indianapolis:20260609T143000
DTEND;TZID=America/Indiana/Indianapolis:20260609T163000
DTSTAMP:20260422T191458
CREATED:20260311T201952Z
LAST-MODIFIED:20260311T201952Z
UID:55104-1781015400-1781022600@www.myepl.org
SUMMARY:Computer One-on-One
DESCRIPTION:Reserve 30 minutes of stress-free basic computer help from our experts. From saving a file to accessing library resources\, we can help. Sessions start at 2:30\, 3\, 3:30 and 4 p.m.
URL:https://www.myepl.org/event/computer-one-on-one-27/
LOCATION:Downtown Library\, 300 S. Second St.\, Elkhart\, IN\, 46516\, United States
CATEGORIES:Adult Programs,Computer Classes
ATTACH;FMTTYPE=image/jpeg:https://www.myepl.org/wp-content/uploads/2023/01/Computer-class-scaled.jpg
END:VEVENT
BEGIN:VEVENT
DTSTART;TZID=America/Indiana/Indianapolis:20260609T153000
DTEND;TZID=America/Indiana/Indianapolis:20260609T163000
DTSTAMP:20260422T191458
CREATED:20260306T215205Z
LAST-MODIFIED:20260306T215205Z
UID:55000-1781019000-1781022600@www.myepl.org
SUMMARY:Coffee and Canvas for Adults
DESCRIPTION:Follow local artist Linda Pieri as we create a new painting each month. \nRegistration for this program opens May 1.
URL:https://www.myepl.org/event/coffee-and-canvas-for-adults-44/
LOCATION:Downtown Library\, 300 S. Second St.\, Elkhart\, IN\, 46516\, United States
CATEGORIES:Adult Programs,Art
ATTACH;FMTTYPE=image/jpeg:https://www.myepl.org/wp-content/uploads/2026/03/new-sapling-scaled.jpg
END:VEVENT
BEGIN:VEVENT
DTSTART;TZID=America/Indiana/Indianapolis:20260609T163000
DTEND;TZID=America/Indiana/Indianapolis:20260609T171500
DTSTAMP:20260422T191458
CREATED:20260316T205655Z
LAST-MODIFIED:20260316T205655Z
UID:55497-1781022600-1781025300@www.myepl.org
SUMMARY:Roz Puppets Presents: "Dinosaur Pirates"
DESCRIPTION:Hit the high seas for a story filled with music\, fun and audience participation. This show is made to delight the whole family. 
URL:https://www.myepl.org/event/roz-puppets-presents-dinosaur-pirates/
LOCATION:Dunlap Branch\, 58485 C.R. 13 East\, Elkhart\, IN\, 46516\, United States
CATEGORIES:Adult Programs,Just for Fun,Preschool Programs,School Age Programs,Teen Programs
ATTACH;FMTTYPE=image/jpeg:https://www.myepl.org/wp-content/uploads/2024/04/Roz-Puppets-01-scaled.jpg
END:VEVENT
BEGIN:VEVENT
DTSTART;TZID=America/Indiana/Indianapolis:20260609T173000
DTEND;TZID=America/Indiana/Indianapolis:20260609T183000
DTSTAMP:20260422T191458
CREATED:20260318T194235Z
LAST-MODIFIED:20260318T194235Z
UID:55602-1781026200-1781029800@www.myepl.org
SUMMARY:Coffee and Canvas for Adults
DESCRIPTION:Follow along with artist Linda Pieri to create a unique painting. \nRegistration for this program opens May 1.
URL:https://www.myepl.org/event/coffee-and-canvas-for-adults-45/
LOCATION:Downtown Library\, 300 S. Second St.\, Elkhart\, IN\, 46516\, United States
CATEGORIES:Adult Programs,Art
ATTACH;FMTTYPE=image/jpeg:https://www.myepl.org/wp-content/uploads/2026/03/new-sapling-scaled.jpg
END:VEVENT
END:VCALENDAR