BEGIN:VCALENDAR
VERSION:2.0
PRODID:-//Elkhart Public Library - ECPv6.15.20//NONSGML v1.0//EN
CALSCALE:GREGORIAN
METHOD:PUBLISH
X-WR-CALNAME:Elkhart Public Library
X-ORIGINAL-URL:https://www.myepl.org
X-WR-CALDESC:Events for Elkhart Public Library
REFRESH-INTERVAL;VALUE=DURATION:PT1H
X-Robots-Tag:noindex
X-PUBLISHED-TTL:PT1H
BEGIN:VTIMEZONE
TZID:America/Indiana/Indianapolis
BEGIN:DAYLIGHT
TZOFFSETFROM:-0500
TZOFFSETTO:-0400
TZNAME:EDT
DTSTART:20250309T070000
END:DAYLIGHT
BEGIN:STANDARD
TZOFFSETFROM:-0400
TZOFFSETTO:-0500
TZNAME:EST
DTSTART:20251102T060000
END:STANDARD
BEGIN:DAYLIGHT
TZOFFSETFROM:-0500
TZOFFSETTO:-0400
TZNAME:EDT
DTSTART:20260308T070000
END:DAYLIGHT
BEGIN:STANDARD
TZOFFSETFROM:-0400
TZOFFSETTO:-0500
TZNAME:EST
DTSTART:20261101T060000
END:STANDARD
BEGIN:DAYLIGHT
TZOFFSETFROM:-0500
TZOFFSETTO:-0400
TZNAME:EDT
DTSTART:20270314T070000
END:DAYLIGHT
BEGIN:STANDARD
TZOFFSETFROM:-0400
TZOFFSETTO:-0500
TZNAME:EST
DTSTART:20271107T060000
END:STANDARD
END:VTIMEZONE
BEGIN:VEVENT
DTSTART;TZID=America/Indiana/Indianapolis:20260714T143000
DTEND;TZID=America/Indiana/Indianapolis:20260714T163000
DTSTAMP:20260423T014130
CREATED:20260311T202542Z
LAST-MODIFIED:20260311T202542Z
UID:55112-1784039400-1784046600@www.myepl.org
SUMMARY:Computer One-on-One
DESCRIPTION:Call 574.294.2847 or come in to the downtown Computer Center to reserve 30 minutes of stress-free basic computer help from our experts. From saving a file to accessing library resources\, we can help. Sessions start at 2:30\, 3\, 3:30 and 4 p.m.
URL:https://www.myepl.org/event/computer-one-on-one-31/
LOCATION:Downtown Library\, 300 S. Second St.\, Elkhart\, IN\, 46516\, United States
CATEGORIES:Adult Programs,Computer Classes
ATTACH;FMTTYPE=image/jpeg:https://www.myepl.org/wp-content/uploads/2023/01/Computer-class-scaled.jpg
END:VEVENT
BEGIN:VEVENT
DTSTART;TZID=America/Indiana/Indianapolis:20260714T153000
DTEND;TZID=America/Indiana/Indianapolis:20260714T163000
DTSTAMP:20260423T014130
CREATED:20260318T194442Z
LAST-MODIFIED:20260318T194442Z
UID:55605-1784043000-1784046600@www.myepl.org
SUMMARY:Coffee and Canvas for Adults
DESCRIPTION:Follow along with artist Linda Pieri to create a unique painting. \nRegistration for this program opens June 1.
URL:https://www.myepl.org/event/coffee-and-canvas-for-adults-46/
LOCATION:Downtown Library\, 300 S. Second St.\, Elkhart\, IN\, 46516\, United States
CATEGORIES:Adult Programs,Art
ATTACH;FMTTYPE=image/jpeg:https://www.myepl.org/wp-content/uploads/2026/03/butterfly.jpg
END:VEVENT
BEGIN:VEVENT
DTSTART;TZID=America/Indiana/Indianapolis:20260714T173000
DTEND;TZID=America/Indiana/Indianapolis:20260714T183000
DTSTAMP:20260423T014130
CREATED:20260318T194618Z
LAST-MODIFIED:20260318T194618Z
UID:55609-1784050200-1784053800@www.myepl.org
SUMMARY:Coffee and Canvas for Adults
DESCRIPTION:Follow along with artist Linda Pieri to create a unique painting. \nRegistration for this program opens June 1.
URL:https://www.myepl.org/event/coffee-and-canvas-for-adults-47/
LOCATION:Downtown Library\, 300 S. Second St.\, Elkhart\, IN\, 46516\, United States
CATEGORIES:Adult Programs,Art
ATTACH;FMTTYPE=image/jpeg:https://www.myepl.org/wp-content/uploads/2026/03/butterfly.jpg
END:VEVENT
END:VCALENDAR