BEGIN:VCALENDAR
VERSION:2.0
PRODID:-//Elkhart Public Library - ECPv6.15.20//NONSGML v1.0//EN
CALSCALE:GREGORIAN
METHOD:PUBLISH
X-ORIGINAL-URL:https://www.myepl.org
X-WR-CALDESC:Events for Elkhart Public Library
REFRESH-INTERVAL;VALUE=DURATION:PT1H
X-Robots-Tag:noindex
X-PUBLISHED-TTL:PT1H
BEGIN:VTIMEZONE
TZID:America/Indiana/Indianapolis
BEGIN:DAYLIGHT
TZOFFSETFROM:-0500
TZOFFSETTO:-0400
TZNAME:EDT
DTSTART:20250309T070000
END:DAYLIGHT
BEGIN:STANDARD
TZOFFSETFROM:-0400
TZOFFSETTO:-0500
TZNAME:EST
DTSTART:20251102T060000
END:STANDARD
BEGIN:DAYLIGHT
TZOFFSETFROM:-0500
TZOFFSETTO:-0400
TZNAME:EDT
DTSTART:20260308T070000
END:DAYLIGHT
BEGIN:STANDARD
TZOFFSETFROM:-0400
TZOFFSETTO:-0500
TZNAME:EST
DTSTART:20261101T060000
END:STANDARD
BEGIN:DAYLIGHT
TZOFFSETFROM:-0500
TZOFFSETTO:-0400
TZNAME:EDT
DTSTART:20270314T070000
END:DAYLIGHT
BEGIN:STANDARD
TZOFFSETFROM:-0400
TZOFFSETTO:-0500
TZNAME:EST
DTSTART:20271107T060000
END:STANDARD
END:VTIMEZONE
BEGIN:VEVENT
DTSTART;TZID=America/Indiana/Indianapolis:20260722T143000
DTEND;TZID=America/Indiana/Indianapolis:20260722T163000
DTSTAMP:20260422T222907
CREATED:20260311T202655Z
LAST-MODIFIED:20260311T202655Z
UID:55114-1784730600-1784737800@www.myepl.org
SUMMARY:Computer One-on-One
DESCRIPTION:Call 574.294.2847 or come in to the downtown Computer Center to reserve 30 minutes of stress-free basic computer help from our experts. From saving a file to accessing library resources\, we can help. Sessions start at 2:30\, 3\, 3:30 and 4 p.m.
URL:https://www.myepl.org/event/computer-one-on-one-32/
LOCATION:Downtown Library\, 300 S. Second St.\, Elkhart\, IN\, 46516\, United States
CATEGORIES:Adult Programs,Computer Classes
ATTACH;FMTTYPE=image/jpeg:https://www.myepl.org/wp-content/uploads/2023/01/Computer-class-scaled.jpg
END:VEVENT
BEGIN:VEVENT
DTSTART;TZID=America/Indiana/Indianapolis:20260722T170000
DTEND;TZID=America/Indiana/Indianapolis:20260722T183000
DTSTAMP:20260422T222907
CREATED:20260320T203652Z
LAST-MODIFIED:20260320T203652Z
UID:55769-1784739600-1784745000@www.myepl.org
SUMMARY:Sit & Stitch
DESCRIPTION:Bring any needlework project to work on with other enthusiasts. Beginners welcome.
URL:https://www.myepl.org/event/sit-stitch-4/2026-07-22/
LOCATION:Osolo Branch\, 3429 E. Bristol St.\, Elkhart\, IN\, 46516\, United States
CATEGORIES:Adult Programs,Crafts
ATTACH;FMTTYPE=image/png:https://www.myepl.org/wp-content/uploads/2026/01/SitStitch_Calendar.png
END:VEVENT
END:VCALENDAR