BEGIN:VCALENDAR
VERSION:2.0
PRODID:-//Elkhart Public Library - ECPv6.15.20//NONSGML v1.0//EN
CALSCALE:GREGORIAN
METHOD:PUBLISH
X-WR-CALNAME:Elkhart Public Library
X-ORIGINAL-URL:https://www.myepl.org
X-WR-CALDESC:Events for Elkhart Public Library
REFRESH-INTERVAL;VALUE=DURATION:PT1H
X-Robots-Tag:noindex
X-PUBLISHED-TTL:PT1H
BEGIN:VTIMEZONE
TZID:America/Indiana/Indianapolis
BEGIN:DAYLIGHT
TZOFFSETFROM:-0500
TZOFFSETTO:-0400
TZNAME:EDT
DTSTART:20240310T070000
END:DAYLIGHT
BEGIN:STANDARD
TZOFFSETFROM:-0400
TZOFFSETTO:-0500
TZNAME:EST
DTSTART:20241103T060000
END:STANDARD
BEGIN:DAYLIGHT
TZOFFSETFROM:-0500
TZOFFSETTO:-0400
TZNAME:EDT
DTSTART:20250309T070000
END:DAYLIGHT
BEGIN:STANDARD
TZOFFSETFROM:-0400
TZOFFSETTO:-0500
TZNAME:EST
DTSTART:20251102T060000
END:STANDARD
BEGIN:DAYLIGHT
TZOFFSETFROM:-0500
TZOFFSETTO:-0400
TZNAME:EDT
DTSTART:20260308T070000
END:DAYLIGHT
BEGIN:STANDARD
TZOFFSETFROM:-0400
TZOFFSETTO:-0500
TZNAME:EST
DTSTART:20261101T060000
END:STANDARD
END:VTIMEZONE
BEGIN:VEVENT
DTSTART;TZID=America/Indiana/Indianapolis:20250807T170000
DTEND;TZID=America/Indiana/Indianapolis:20250807T183000
DTSTAMP:20260419T141904
CREATED:20250611T181029Z
LAST-MODIFIED:20250804T143415Z
UID:50036-1754586000-1754591400@www.myepl.org
SUMMARY:Cutting Board Craft Mirrors for Adults
DESCRIPTION:(This event is full. Keep watching for more great activities.) \nCreate a decorative mirror using a cutting board\, stencils\, mosaic tiles and more. \nRegistration for this program opens July 1.
URL:https://www.myepl.org/event/cutting-board-craft-mirrors-for-adults/
LOCATION:Downtown Library\, 300 S. Second St.\, Elkhart\, IN\, 46516\, United States
CATEGORIES:Adult Programs,Crafts
END:VEVENT
BEGIN:VEVENT
DTSTART;TZID=America/Indiana/Indianapolis:20250806T143000
DTEND;TZID=America/Indiana/Indianapolis:20250806T163000
DTSTAMP:20260419T141904
CREATED:20250716T175427Z
LAST-MODIFIED:20250716T175427Z
UID:50864-1754490600-1754497800@www.myepl.org
SUMMARY:Computer One-on-One
DESCRIPTION:Get one-on-one help from our computer experts. From accessing library resources to saving a file\, we can help. Reserve your 30-minutes of stress-free basic help by calling 574-294-2847.
URL:https://www.myepl.org/event/computer-one-on-one-10/
LOCATION:Downtown Library\, 300 S. Second St.\, Elkhart\, IN\, 46516\, United States
CATEGORIES:Adult Programs,Computer Classes
ATTACH;FMTTYPE=image/jpeg:https://www.myepl.org/wp-content/uploads/2023/01/Computer-class-scaled.jpg
END:VEVENT
BEGIN:VEVENT
DTSTART;TZID=America/Indiana/Indianapolis:20250802T100000
DTEND;TZID=America/Indiana/Indianapolis:20250802T113000
DTSTAMP:20260419T141904
CREATED:20250311T164839Z
LAST-MODIFIED:20250502T152115Z
UID:48313-1754128800-1754134200@www.myepl.org
SUMMARY:Get into Gardening
DESCRIPTION:Start or improve your garden throughout this informative series focusing on pollinators\, native plants and harvesting seeds.  \nMay 3 – Gardening how-to with Purdue Extension educator Mark Evans\nMay 24 – The Buzz on Pollinator Habitat\nJune 14 – Super Start with the Super Nine – all about the nine native plants selected for their value to our local environment\nAug. 2 – How to Harvest Your Seeds with Mark Evans 
URL:https://www.myepl.org/event/get-into-gardening/2025-08-02/
LOCATION:Downtown Library\, 300 S. Second St.\, Elkhart\, IN\, 46516\, United States
CATEGORIES:Adult Programs,Educational
ATTACH;FMTTYPE=image/png:https://www.myepl.org/wp-content/uploads/2025/03/getintogardening_digital_Calendar.png
END:VEVENT
BEGIN:VEVENT
DTSTART;TZID=America/Indiana/Indianapolis:20250731T173000
DTEND;TZID=America/Indiana/Indianapolis:20250731T183000
DTSTAMP:20260419T141904
CREATED:20250318T163327Z
LAST-MODIFIED:20250505T162515Z
UID:48499-1753983000-1753986600@www.myepl.org
SUMMARY:What to Watchlist
DESCRIPTION:Share the latest on your favorite TV shows and movies. Discuss fan theories and hidden gems. Plus\, we’ll watch trailers for what’s coming up.
URL:https://www.myepl.org/event/what-to-watchlist/2025-07-31/
LOCATION:Downtown Library\, 300 S. Second St.\, Elkhart\, IN\, 46516\, United States
CATEGORIES:Adult Programs,Movies
ATTACH;FMTTYPE=image/png:https://www.myepl.org/wp-content/uploads/2025/03/WhattoWatchlist_Calendar.png
END:VEVENT
BEGIN:VEVENT
DTSTART;TZID=America/Indiana/Indianapolis:20250731T143000
DTEND;TZID=America/Indiana/Indianapolis:20250731T163000
DTSTAMP:20260419T141904
CREATED:20250716T175335Z
LAST-MODIFIED:20250716T175335Z
UID:50862-1753972200-1753979400@www.myepl.org
SUMMARY:Computer One-on-One
DESCRIPTION:Get one-on-one help from our computer experts. From accessing library resources to saving a file\, we can help. Reserve your 30-minutes of stress-free basic help by calling 574-294-2847.
URL:https://www.myepl.org/event/computer-one-on-one-9/
LOCATION:Downtown Library\, 300 S. Second St.\, Elkhart\, IN\, 46516\, United States
CATEGORIES:Adult Programs,Computer Classes
ATTACH;FMTTYPE=image/jpeg:https://www.myepl.org/wp-content/uploads/2023/01/Computer-class-scaled.jpg
END:VEVENT
BEGIN:VEVENT
DTSTART;TZID=America/Indiana/Indianapolis:20250729T163000
DTEND;TZID=America/Indiana/Indianapolis:20250729T180000
DTSTAMP:20260419T141904
CREATED:20250320T201220Z
LAST-MODIFIED:20250716T185515Z
UID:48741-1753806600-1753812000@www.myepl.org
SUMMARY:Build-a-Bouquet
DESCRIPTION:(This event is full. Keep watching for more great activities.) \nMix and match flowers to create your own beautiful flower arrangement. 
URL:https://www.myepl.org/event/build-a-bouquet/
LOCATION:Downtown Library\, 300 S. Second St.\, Elkhart\, IN\, 46516\, United States
CATEGORIES:Adult Programs,Crafts,Teen Programs
ATTACH;FMTTYPE=image/png:https://www.myepl.org/wp-content/uploads/2025/03/Build-a-Bouquet_Calendar.png
END:VEVENT
BEGIN:VEVENT
DTSTART;TZID=America/Indiana/Indianapolis:20250710T173000
DTEND;TZID=America/Indiana/Indianapolis:20250710T183000
DTSTAMP:20260419T141904
CREATED:20250324T144351Z
LAST-MODIFIED:20250627T202944Z
UID:48897-1752168600-1752172200@www.myepl.org
SUMMARY:Food Preservation Basics
DESCRIPTION:Whether growing food in a garden or buying from the store\, keep it fresher longer with help from a Purdue Extension educator. \nRegistration for this program opens June 1. 
URL:https://www.myepl.org/event/food-preservation-basics/
LOCATION:Cleveland Branch\, 53715 C.R. 1\, Elkhart\, IN\, 46514\, United States
CATEGORIES:Adult Programs,Educational
ATTACH;FMTTYPE=image/png:https://www.myepl.org/wp-content/uploads/2025/03/foodpresbasics_Calendar-1.png
END:VEVENT
BEGIN:VEVENT
DTSTART;TZID=America/Indiana/Indianapolis:20250709T160000
DTEND;TZID=America/Indiana/Indianapolis:20250709T180000
DTSTAMP:20260419T141904
CREATED:20250311T184627Z
LAST-MODIFIED:20250627T195859Z
UID:48334-1752076800-1752084000@www.myepl.org
SUMMARY:Dot Mandalas for Beginners
DESCRIPTION:(This event is full. Keep watching for more great activities.) \nLearn how to make a rock mandala with all the supplies. The first session we’ll prepare and paint the rocks. Then\, return to seal them on July 16. \nRegistration for this program opens June 1.
URL:https://www.myepl.org/event/dot-mandalas-for-beginners/2025-07-09/
LOCATION:Downtown Library\, 300 S. Second St.\, Elkhart\, IN\, 46516\, United States
CATEGORIES:Adult Programs,Art
ATTACH;FMTTYPE=image/png:https://www.myepl.org/wp-content/uploads/2025/03/mandalas_Calendar.png
END:VEVENT
BEGIN:VEVENT
DTSTART;TZID=America/Indiana/Indianapolis:20250708T173000
DTEND;TZID=America/Indiana/Indianapolis:20250708T183000
DTSTAMP:20260419T141904
CREATED:20250318T185710Z
LAST-MODIFIED:20250627T195750Z
UID:48577-1751995800-1751999400@www.myepl.org
SUMMARY:Coffee and Canvas for Adults
DESCRIPTION:(This event is full. Keep watching for more great activities.) \nFollow along as local artist Linda Pieri helps us create a work of art. \nRegistration for this event opens June 1.
URL:https://www.myepl.org/event/coffee-and-canvas-for-adults-11/
LOCATION:Downtown Library\, 300 S. Second St.\, Elkhart\, IN\, 46516\, United States
CATEGORIES:Adult Programs,Art
ATTACH;FMTTYPE=image/jpeg:https://www.myepl.org/wp-content/uploads/2025/03/20241201_073916.jpg
END:VEVENT
BEGIN:VEVENT
DTSTART;TZID=America/Indiana/Indianapolis:20250708T153000
DTEND;TZID=America/Indiana/Indianapolis:20250708T163000
DTSTAMP:20260419T141904
CREATED:20250318T185255Z
LAST-MODIFIED:20250627T195809Z
UID:48573-1751988600-1751992200@www.myepl.org
SUMMARY:Coffee and Canvas for Adults
DESCRIPTION:(This event is full. Keep watching for more great activities.) \nFollow along as local artist Linda Pieri helps us create a work of art. \nRegistration for this event opens June 1.
URL:https://www.myepl.org/event/coffee-and-canvas-for-adults-10/
LOCATION:Downtown Library\, 300 S. Second St.\, Elkhart\, IN\, 46516\, United States
CATEGORIES:Adult Programs,Art
ATTACH;FMTTYPE=image/jpeg:https://www.myepl.org/wp-content/uploads/2025/03/20241201_073916.jpg
END:VEVENT
BEGIN:VEVENT
DTSTART;TZID=America/Indiana/Indianapolis:20250707T140000
DTEND;TZID=America/Indiana/Indianapolis:20250707T160000
DTSTAMP:20260419T141904
CREATED:20250609T132818Z
LAST-MODIFIED:20250702T140801Z
UID:49940-1751896800-1751904000@www.myepl.org
SUMMARY:South Bend Medical Foundation Blood Drive
DESCRIPTION:Roll your sleeves up to save lives. The South Bend Medical Foundation is bringing their blood donation bus to Dunlap. Sign up at Give Blood Now or by calling the Dunlap Branch. Walk-ins are welcome.
URL:https://www.myepl.org/event/south-bend-medical-foundation-blood-drive/
LOCATION:Dunlap Branch\, 58485 C.R. 13 East\, Elkhart\, IN\, 46516\, United States
CATEGORIES:Adult Programs,Featured
ATTACH;FMTTYPE=image/png:https://www.myepl.org/wp-content/uploads/2025/06/2023_SBM_WebLogo2.png
END:VEVENT
BEGIN:VEVENT
DTSTART;TZID=America/Indiana/Indianapolis:20250630T173000
DTEND;TZID=America/Indiana/Indianapolis:20250630T183000
DTSTAMP:20260419T141904
CREATED:20250319T202541Z
LAST-MODIFIED:20250421T151816Z
UID:48650-1751304600-1751308200@www.myepl.org
SUMMARY:Creative Teen and Adult Painting
DESCRIPTION:Follow along with local artist Linda Pieri as we create a painting. \nRegistration for this program opens May 1.
URL:https://www.myepl.org/event/creative-teen-and-adult-painting-3/
LOCATION:Dunlap Branch\, 58485 C.R. 13 East\, Elkhart\, IN\, 46516\, United States
CATEGORIES:Adult Programs,Art,Teen Programs
ATTACH;FMTTYPE=image/jpeg:https://www.myepl.org/wp-content/uploads/2025/03/20190119_124225-scaled.jpg
END:VEVENT
BEGIN:VEVENT
DTSTART;TZID=America/Indiana/Indianapolis:20250626T173000
DTEND;TZID=America/Indiana/Indianapolis:20250626T183000
DTSTAMP:20260419T141904
CREATED:20250318T163327Z
LAST-MODIFIED:20250505T162514Z
UID:48498-1750959000-1750962600@www.myepl.org
SUMMARY:What to Watchlist
DESCRIPTION:Share the latest on your favorite TV shows and movies. Discuss fan theories and hidden gems. Plus\, we’ll watch trailers for what’s coming up.
URL:https://www.myepl.org/event/what-to-watchlist/2025-06-26/
LOCATION:Downtown Library\, 300 S. Second St.\, Elkhart\, IN\, 46516\, United States
CATEGORIES:Adult Programs,Movies
ATTACH;FMTTYPE=image/png:https://www.myepl.org/wp-content/uploads/2025/03/WhattoWatchlist_Calendar.png
END:VEVENT
BEGIN:VEVENT
DTSTART;TZID=America/Indiana/Indianapolis:20250626T100000
DTEND;TZID=America/Indiana/Indianapolis:20250626T113000
DTSTAMP:20260419T141904
CREATED:20250311T184218Z
LAST-MODIFIED:20250609T152143Z
UID:48332-1750932000-1750937400@www.myepl.org
SUMMARY:Rain Garden and Rain Barrel Workshop
DESCRIPTION:Experts from Elkhart County Soil and Water Conservation District introduce rain gardens and rain barrels\, along with information on an incentive program for county residents.
URL:https://www.myepl.org/event/rain-garden-and-rain-barrel-workshop/
LOCATION:Downtown Library\, 300 S. Second St.\, Elkhart\, IN\, 46516\, United States
CATEGORIES:Adult Programs,Educational
ATTACH;FMTTYPE=image/jpeg:https://www.myepl.org/wp-content/uploads/2025/03/barrel-9.jpg
END:VEVENT
BEGIN:VEVENT
DTSTART;TZID=America/Indiana/Indianapolis:20250624T163000
DTEND;TZID=America/Indiana/Indianapolis:20250624T180000
DTSTAMP:20260419T141904
CREATED:20250320T200836Z
LAST-MODIFIED:20250620T145700Z
UID:48739-1750782600-1750788000@www.myepl.org
SUMMARY:DIY Enamel Pin Boards for Teens and Adults
DESCRIPTION:Create a custom enamel board to display pins. Bring spare pins to trade if you’d like. 
URL:https://www.myepl.org/event/diy-enamel-pin-boards-for-teens-and-adults/
LOCATION:Downtown Library\, 300 S. Second St.\, Elkhart\, IN\, 46516\, United States
CATEGORIES:Adult Programs,Crafts,Teen Programs
ATTACH;FMTTYPE=image/png:https://www.myepl.org/wp-content/uploads/2025/03/pinboards_Calendar-1.png
END:VEVENT
BEGIN:VEVENT
DTSTART;TZID=America/Indiana/Indianapolis:20250614T100000
DTEND;TZID=America/Indiana/Indianapolis:20250614T113000
DTSTAMP:20260419T141904
CREATED:20250311T164839Z
LAST-MODIFIED:20250502T152115Z
UID:48312-1749895200-1749900600@www.myepl.org
SUMMARY:Get into Gardening
DESCRIPTION:Start or improve your garden throughout this informative series focusing on pollinators\, native plants and harvesting seeds.  \nMay 3 – Gardening how-to with Purdue Extension educator Mark Evans\nMay 24 – The Buzz on Pollinator Habitat\nJune 14 – Super Start with the Super Nine – all about the nine native plants selected for their value to our local environment\nAug. 2 – How to Harvest Your Seeds with Mark Evans 
URL:https://www.myepl.org/event/get-into-gardening/2025-06-14/
LOCATION:Downtown Library\, 300 S. Second St.\, Elkhart\, IN\, 46516\, United States
CATEGORIES:Adult Programs,Educational
ATTACH;FMTTYPE=image/png:https://www.myepl.org/wp-content/uploads/2025/03/getintogardening_digital_Calendar.png
END:VEVENT
BEGIN:VEVENT
DTSTART;TZID=America/Indiana/Indianapolis:20250613T100000
DTEND;TZID=America/Indiana/Indianapolis:20250613T110000
DTSTAMP:20260419T141904
CREATED:20250318T155648Z
LAST-MODIFIED:20250528T210328Z
UID:48495-1749808800-1749812400@www.myepl.org
SUMMARY:Cutting Board Craft
DESCRIPTION:Decorate a beautiful bamboo cutting board using paints\, stencils and more.
URL:https://www.myepl.org/event/cutting-board-craft-2/
LOCATION:Downtown Library\, 300 S. Second St.\, Elkhart\, IN\, 46516\, United States
CATEGORIES:Adult Programs,Crafts
ATTACH;FMTTYPE=image/jpeg:https://www.myepl.org/wp-content/uploads/2025/03/Cutting-Board-Craft-scaled.jpg
END:VEVENT
BEGIN:VEVENT
DTSTART;TZID=America/Indiana/Indianapolis:20250612T173000
DTEND;TZID=America/Indiana/Indianapolis:20250612T183000
DTSTAMP:20260419T141904
CREATED:20250318T155218Z
LAST-MODIFIED:20250528T210344Z
UID:48493-1749749400-1749753000@www.myepl.org
SUMMARY:Cutting Board Craft
DESCRIPTION:Bring your creativity and decorate an 18-inch cutting board with paint\, stencils and more.
URL:https://www.myepl.org/event/cutting-board-craft/
LOCATION:Downtown Library\, 300 S. Second St.\, Elkhart\, IN\, 46516\, United States
CATEGORIES:Adult Programs,Crafts
ATTACH;FMTTYPE=image/jpeg:https://www.myepl.org/wp-content/uploads/2025/03/Cutting-Board-Craft-scaled.jpg
END:VEVENT
BEGIN:VEVENT
DTSTART;TZID=America/Indiana/Indianapolis:20250611T160000
DTEND;TZID=America/Indiana/Indianapolis:20250611T170000
DTSTAMP:20260419T141904
CREATED:20250311T183946Z
LAST-MODIFIED:20250528T162843Z
UID:48330-1749657600-1749661200@www.myepl.org
SUMMARY:Quilts and the Importance of Storytelling
DESCRIPTION:Learn the history of quilting and how it relates to storytelling\, specifically in the Black community\, from Dr. Tony Jean Dickerson. Dr. Dickerson is the Dean of Education at Martin University in Indianapolis and the founder of Akoma Nitoso Modern Quilt of Central Indiana. See beautiful quilts up close and hear the stories behind the patterns and fabrics.
URL:https://www.myepl.org/event/quilts-and-the-importance-of-storytelling/
LOCATION:Downtown Library\, 300 S. Second St.\, Elkhart\, IN\, 46516\, United States
CATEGORIES:Adult Programs,Educational
ATTACH;FMTTYPE=image/jpeg:https://www.myepl.org/wp-content/uploads/2025/03/quilt-storytelling.jpg
END:VEVENT
BEGIN:VEVENT
DTSTART;TZID=America/Indiana/Indianapolis:20250610T173000
DTEND;TZID=America/Indiana/Indianapolis:20250610T183000
DTSTAMP:20260419T141904
CREATED:20250318T184950Z
LAST-MODIFIED:20250528T140523Z
UID:48570-1749576600-1749580200@www.myepl.org
SUMMARY:Coffee and Canvas for Adults
DESCRIPTION:(This event is full. Keep watching for more great activities.) \nFollow along as local artist Linda Pieri helps us create a work of art. \nRegistration for this event opens May 1.
URL:https://www.myepl.org/event/coffee-and-canvas-for-adults-9/
LOCATION:Downtown Library\, 300 S. Second St.\, Elkhart\, IN\, 46516\, United States
CATEGORIES:Adult Programs,Art
ATTACH;FMTTYPE=image/jpeg:https://www.myepl.org/wp-content/uploads/2025/03/20241201_074142-scaled.jpg
END:VEVENT
BEGIN:VEVENT
DTSTART;TZID=America/Indiana/Indianapolis:20250610T153000
DTEND;TZID=America/Indiana/Indianapolis:20250610T163000
DTSTAMP:20260419T141904
CREATED:20250318T184741Z
LAST-MODIFIED:20250318T184741Z
UID:48566-1749569400-1749573000@www.myepl.org
SUMMARY:Coffee and Canvas for Adults
DESCRIPTION:Follow along as local artist Linda Pieri helps us create a work of art. \nRegistration for this event opens May 1.
URL:https://www.myepl.org/event/coffee-and-canvas-for-adults-8/
LOCATION:Downtown Library\, 300 S. Second St.\, Elkhart\, IN\, 46516\, United States
CATEGORIES:Adult Programs,Art
ATTACH;FMTTYPE=image/jpeg:https://www.myepl.org/wp-content/uploads/2025/03/20241201_074142-scaled.jpg
END:VEVENT
BEGIN:VEVENT
DTSTART;TZID=America/Indiana/Indianapolis:20250529T173000
DTEND;TZID=America/Indiana/Indianapolis:20250529T183000
DTSTAMP:20260419T141904
CREATED:20250318T163327Z
LAST-MODIFIED:20250505T162514Z
UID:48497-1748539800-1748543400@www.myepl.org
SUMMARY:What to Watchlist
DESCRIPTION:Share the latest on your favorite TV shows and movies. Discuss fan theories and hidden gems. Plus\, we’ll watch trailers for what’s coming up.
URL:https://www.myepl.org/event/what-to-watchlist/2025-05-29/
LOCATION:Downtown Library\, 300 S. Second St.\, Elkhart\, IN\, 46516\, United States
CATEGORIES:Adult Programs,Movies
ATTACH;FMTTYPE=image/png:https://www.myepl.org/wp-content/uploads/2025/03/WhattoWatchlist_Calendar.png
END:VEVENT
BEGIN:VEVENT
DTSTART;TZID=America/Indiana/Indianapolis:20250524T100000
DTEND;TZID=America/Indiana/Indianapolis:20250524T113000
DTSTAMP:20260419T141904
CREATED:20250311T164839Z
LAST-MODIFIED:20250502T152115Z
UID:48311-1748080800-1748086200@www.myepl.org
SUMMARY:Get into Gardening
DESCRIPTION:Start or improve your garden throughout this informative series focusing on pollinators\, native plants and harvesting seeds.  \nMay 3 – Gardening how-to with Purdue Extension educator Mark Evans\nMay 24 – The Buzz on Pollinator Habitat\nJune 14 – Super Start with the Super Nine – all about the nine native plants selected for their value to our local environment\nAug. 2 – How to Harvest Your Seeds with Mark Evans 
URL:https://www.myepl.org/event/get-into-gardening/2025-05-24/
LOCATION:Downtown Library\, 300 S. Second St.\, Elkhart\, IN\, 46516\, United States
CATEGORIES:Adult Programs,Educational
ATTACH;FMTTYPE=image/png:https://www.myepl.org/wp-content/uploads/2025/03/getintogardening_digital_Calendar.png
END:VEVENT
BEGIN:VEVENT
DTSTART;TZID=America/Indiana/Indianapolis:20250522T173000
DTEND;TZID=America/Indiana/Indianapolis:20250522T183000
DTSTAMP:20260419T141904
CREATED:20250319T202230Z
LAST-MODIFIED:20250515T145024Z
UID:48647-1747935000-1747938600@www.myepl.org
SUMMARY:Creative Teen and Adult Painting
DESCRIPTION:(This event is full. Keep watching for more great activities.) \nCreate a painting of a large pink flower by following along with local artist Linda Pieri. \nRegistration for this program opens April 1.
URL:https://www.myepl.org/event/creative-teen-and-adult-painting-2/
LOCATION:Dunlap Branch\, 58485 C.R. 13 East\, Elkhart\, IN\, 46516\, United States
CATEGORIES:Adult Programs,Art,Teen Programs
ATTACH;FMTTYPE=image/jpeg:https://www.myepl.org/wp-content/uploads/2025/03/20200418_074106-scaled.jpg
END:VEVENT
BEGIN:VEVENT
DTSTART;TZID=America/Indiana/Indianapolis:20250522T170000
DTEND;TZID=America/Indiana/Indianapolis:20250522T180000
DTSTAMP:20260419T141904
CREATED:20250320T175803Z
LAST-MODIFIED:20250320T180439Z
UID:48722-1747933200-1747936800@www.myepl.org
SUMMARY:Diabetes 101: Spanish and English
DESCRIPTION:Essential knowledge and practical skills for people managing their diabetes or their caretakers. Experts from Purdue Extension in Elkhart County will present this session in both Spanish and English. \nEste programa proporciona conocimientos esenciales y habilidades prácticas para el control eficaz de la diabetes para las personas con diabetes y sus cuidadores. Los participantes aprenderán sobre la diabetes\, su control y las estratedias para optimizar la salud y el bienestar. Dísponible en inglés y español. \nRegistration for this program opens April 1.
URL:https://www.myepl.org/event/diabetes-101-spanish-and-english/
LOCATION:Pierre Moran Branch\, 2400 Benham Ave\, Elkhart\, IN\, 46517\, United States
CATEGORIES:Adult Programs,Educational
ATTACH;FMTTYPE=image/png:https://www.myepl.org/wp-content/uploads/2024/12/Diabetes101_Calendar.png
END:VEVENT
BEGIN:VEVENT
DTSTART;TZID=America/Indiana/Indianapolis:20250519T173000
DTEND;TZID=America/Indiana/Indianapolis:20250519T183000
DTSTAMP:20260419T141904
CREATED:20250428T144943Z
LAST-MODIFIED:20250428T144943Z
UID:49360-1747675800-1747679400@www.myepl.org
SUMMARY:Charcuterie 101
DESCRIPTION:Discover the secrets of crafting exquisite charcuterie boards that are as visually stunning as they are delicious. Our hands-on class will elevate your entertaining game to new heights. To register\, call 574-533-0554 or email fink24@purdue.edu.
URL:https://www.myepl.org/event/charcuterie-101-3/
LOCATION:Downtown Library\, 300 S. Second St.\, Elkhart\, IN\, 46516\, United States
CATEGORIES:Adult Programs,Just for Fun
ATTACH;FMTTYPE=image/png:https://www.myepl.org/wp-content/uploads/2024/09/charcuterie101-cal.png
END:VEVENT
BEGIN:VEVENT
DTSTART;TZID=America/Indiana/Indianapolis:20250514T160000
DTEND;TZID=America/Indiana/Indianapolis:20250514T170000
DTSTAMP:20260419T141904
CREATED:20250311T183538Z
LAST-MODIFIED:20250505T152622Z
UID:48328-1747238400-1747242000@www.myepl.org
SUMMARY:DIY All-Purpose Cleaner
DESCRIPTION:Create an all-purpose cleaner that’s effective but less harsh and better for the environment and allergies.
URL:https://www.myepl.org/event/diy-all-purpose-cleaner/
LOCATION:Downtown Library\, 300 S. Second St.\, Elkhart\, IN\, 46516\, United States
CATEGORIES:Adult Programs,Educational
ATTACH;FMTTYPE=image/png:https://www.myepl.org/wp-content/uploads/2025/03/DIYCleaner_Calendar.png
END:VEVENT
BEGIN:VEVENT
DTSTART;TZID=America/Indiana/Indianapolis:20250513T173000
DTEND;TZID=America/Indiana/Indianapolis:20250513T183000
DTSTAMP:20260419T141904
CREATED:20250318T184442Z
LAST-MODIFIED:20250506T200653Z
UID:48563-1747157400-1747161000@www.myepl.org
SUMMARY:Coffee and Canvas for Adults
DESCRIPTION:(This event is full. Keep watching for more great activities.) \nFollow along as local artist Linda Pieri helps us create a work of art. \nRegistration for this event opens April 1.
URL:https://www.myepl.org/event/coffee-and-canvas-for-adults-7/
LOCATION:Downtown Library\, 300 S. Second St.\, Elkhart\, IN\, 46516\, United States
CATEGORIES:Adult Programs,Art
ATTACH;FMTTYPE=image/jpeg:https://www.myepl.org/wp-content/uploads/2025/03/20241220_142006-1-scaled.jpg
END:VEVENT
BEGIN:VEVENT
DTSTART;TZID=America/Indiana/Indianapolis:20250513T153000
DTEND;TZID=America/Indiana/Indianapolis:20250513T163000
DTSTAMP:20260419T141904
CREATED:20250318T184246Z
LAST-MODIFIED:20250506T204818Z
UID:48559-1747150200-1747153800@www.myepl.org
SUMMARY:Coffee and Canvas for Adults
DESCRIPTION:(This event is full. Keep watching for more great activities.) \nFollow along as local artist Linda Pieri helps us create a work of art. \nRegistration for this event opens April 1.
URL:https://www.myepl.org/event/coffee-and-canvas-for-adults-6/
LOCATION:Downtown Library\, 300 S. Second St.\, Elkhart\, IN\, 46516\, United States
CATEGORIES:Adult Programs,Art
ATTACH;FMTTYPE=image/jpeg:https://www.myepl.org/wp-content/uploads/2025/03/20241220_142006-1-scaled.jpg
END:VEVENT
BEGIN:VEVENT
DTSTART;TZID=America/Indiana/Indianapolis:20250503T100000
DTEND;TZID=America/Indiana/Indianapolis:20250503T113000
DTSTAMP:20260419T141904
CREATED:20250311T164839Z
LAST-MODIFIED:20250502T152115Z
UID:48310-1746266400-1746271800@www.myepl.org
SUMMARY:Get into Gardening
DESCRIPTION:Start or improve your garden throughout this informative series focusing on pollinators\, native plants and harvesting seeds.  \nMay 3 – Gardening how-to with Purdue Extension educator Mark Evans\nMay 24 – The Buzz on Pollinator Habitat\nJune 14 – Super Start with the Super Nine – all about the nine native plants selected for their value to our local environment\nAug. 2 – How to Harvest Your Seeds with Mark Evans 
URL:https://www.myepl.org/event/get-into-gardening/2025-05-03/
LOCATION:Downtown Library\, 300 S. Second St.\, Elkhart\, IN\, 46516\, United States
CATEGORIES:Adult Programs,Educational
ATTACH;FMTTYPE=image/png:https://www.myepl.org/wp-content/uploads/2025/03/getintogardening_digital_Calendar.png
END:VEVENT
END:VCALENDAR