BEGIN:VCALENDAR
VERSION:2.0
PRODID:-//Elkhart Public Library - ECPv6.15.20//NONSGML v1.0//EN
CALSCALE:GREGORIAN
METHOD:PUBLISH
X-WR-CALNAME:Elkhart Public Library
X-ORIGINAL-URL:https://www.myepl.org
X-WR-CALDESC:Events for Elkhart Public Library
REFRESH-INTERVAL;VALUE=DURATION:PT1H
X-Robots-Tag:noindex
X-PUBLISHED-TTL:PT1H
BEGIN:VTIMEZONE
TZID:America/Indiana/Indianapolis
BEGIN:DAYLIGHT
TZOFFSETFROM:-0500
TZOFFSETTO:-0400
TZNAME:EDT
DTSTART:20240310T070000
END:DAYLIGHT
BEGIN:STANDARD
TZOFFSETFROM:-0400
TZOFFSETTO:-0500
TZNAME:EST
DTSTART:20241103T060000
END:STANDARD
BEGIN:DAYLIGHT
TZOFFSETFROM:-0500
TZOFFSETTO:-0400
TZNAME:EDT
DTSTART:20250309T070000
END:DAYLIGHT
BEGIN:STANDARD
TZOFFSETFROM:-0400
TZOFFSETTO:-0500
TZNAME:EST
DTSTART:20251102T060000
END:STANDARD
BEGIN:DAYLIGHT
TZOFFSETFROM:-0500
TZOFFSETTO:-0400
TZNAME:EDT
DTSTART:20260308T070000
END:DAYLIGHT
BEGIN:STANDARD
TZOFFSETFROM:-0400
TZOFFSETTO:-0500
TZNAME:EST
DTSTART:20261101T060000
END:STANDARD
END:VTIMEZONE
BEGIN:VEVENT
DTSTART;TZID=America/Indiana/Indianapolis:20250415T170000
DTEND;TZID=America/Indiana/Indianapolis:20250415T183000
DTSTAMP:20260419T225557
CREATED:20241226T154709Z
LAST-MODIFIED:20250402T190132Z
UID:47442-1744736400-1744741800@www.myepl.org
SUMMARY:Fit for Life: Strength\, Balance and Flexibility
DESCRIPTION:Led by a Purdue Extension educator\, this two-session chair-based exercise program is designed to improve core muscles and improve mobility in a low-impact fashion. To register\, call 574.533.0554 or email fink24@purdue.edu.
URL:https://www.myepl.org/event/fit-for-life-strength-balance-and-flexibility/2025-04-15/
LOCATION:Dunlap Branch\, 58485 C.R. 13 East\, Elkhart\, IN\, 46516\, United States
CATEGORIES:Adult Programs,Educational
ATTACH;FMTTYPE=image/jpeg:https://www.myepl.org/wp-content/uploads/2024/12/fitforlife.jpg
END:VEVENT
BEGIN:VEVENT
DTSTART;VALUE=DATE:20250414
DTEND;VALUE=DATE:20250415
DTSTAMP:20260419T225557
CREATED:20241226T135936Z
LAST-MODIFIED:20241226T135936Z
UID:47393-1744588800-1744675199@www.myepl.org
SUMMARY:Peeps Diorama Contest
DESCRIPTION:Create a scene from a favorite book or characters with Peeps. Pick up an entry form and Peeps starting Monday\, March 24 while supplies last. Return your scene and form by Tuesday\, April 15. We’ll host a work day from 9 a.m. to 3 p.m. Saturday\, April 12 to build an entry. Winners will be announced on Wednesday\, April 23. 
URL:https://www.myepl.org/event/peeps-diorama-contest-3/2025-04-14/
LOCATION:Cleveland Branch\, 53715 C.R. 1\, Elkhart\, IN\, 46514\, United States
CATEGORIES:Adult Programs,Just for Fun,School Age Programs,Teen Programs
ATTACH;FMTTYPE=image/png:https://www.myepl.org/wp-content/uploads/2023/03/Peeps-Diorama-Contest-Calendar.png
END:VEVENT
BEGIN:VEVENT
DTSTART;TZID=America/Indiana/Indianapolis:20250412T130000
DTEND;TZID=America/Indiana/Indianapolis:20250412T140000
DTSTAMP:20260419T225557
CREATED:20241226T174342Z
LAST-MODIFIED:20250404T165158Z
UID:47501-1744462800-1744466400@www.myepl.org
SUMMARY:Family History Workshop
DESCRIPTION:Dive deeper into your family history with a speaker series of experts from across the region. \n April 12 – Jessica Trotter\, a librarian and archivist\, shares tips for tracking down offline collections and planning a trip for research  \nApril 19 – EPL’s genealogy librarian shares the numerous resources online and in person available at the library  \nApril 26 – A genetic genealogist shares all about DNA testing and how to use it most effectively 
URL:https://www.myepl.org/event/family-history-workshop/
LOCATION:Downtown Library\, 300 S. Second St.\, Elkhart\, IN\, 46516\, United States
CATEGORIES:Adult Programs,Educational
ATTACH;FMTTYPE=image/jpeg:https://www.myepl.org/wp-content/uploads/2024/07/TrotterJessica2022-scaled.jpg
END:VEVENT
BEGIN:VEVENT
DTSTART;TZID=America/Indiana/Indianapolis:20250412T120000
DTEND;TZID=America/Indiana/Indianapolis:20250412T140000
DTSTAMP:20260419T225557
CREATED:20241226T163343Z
LAST-MODIFIED:20250120T164747Z
UID:47466-1744459200-1744466400@www.myepl.org
SUMMARY:FAFSA Fácil
DESCRIPTION:Ven y aprende todo lo que necesitas saber sobre la FAFSA. 12 de Abril de 12 p.m. a 2 p.m. estaremos ofreciendo un evento informativo parar guiarte en el proceso de inscripción a la FAFSA.
URL:https://www.myepl.org/event/fafsa-facil/
LOCATION:Downtown Library\, 300 S. Second St.\, Elkhart\, IN\, 46516\, United States
CATEGORIES:Adult Programs,Educational,Teen Programs
ATTACH;FMTTYPE=image/png:https://www.myepl.org/wp-content/uploads/2024/12/FAFSA-Facil_Calendar.png
END:VEVENT
BEGIN:VEVENT
DTSTART;TZID=America/Indiana/Indianapolis:20250410T110000
DTEND;TZID=America/Indiana/Indianapolis:20250410T120000
DTSTAMP:20260419T225557
CREATED:20241220T155654Z
LAST-MODIFIED:20250404T185335Z
UID:47210-1744282800-1744286400@www.myepl.org
SUMMARY:DIY Craft for Adults
DESCRIPTION:Get creative and make something with a simple do-it-yourself craft. \nRegistration for this program opens March 1.
URL:https://www.myepl.org/event/diy-craft-for-adults-2/
LOCATION:Downtown Library\, 300 S. Second St.\, Elkhart\, IN\, 46516\, United States
CATEGORIES:Adult Programs,Crafts
ATTACH;FMTTYPE=image/jpeg:https://www.myepl.org/wp-content/uploads/2024/12/image0-2.jpeg
END:VEVENT
BEGIN:VEVENT
DTSTART;TZID=America/Indiana/Indianapolis:20250408T173000
DTEND;TZID=America/Indiana/Indianapolis:20250408T183000
DTSTAMP:20260419T225557
CREATED:20241220T154338Z
LAST-MODIFIED:20250404T153153Z
UID:47207-1744133400-1744137000@www.myepl.org
SUMMARY:DIY Craft for Adults
DESCRIPTION:Get creative with this simple do-it-yourself project. \nThere is an additional session Thursday at 11 a.m. \nRegistration for this program opens March 1.
URL:https://www.myepl.org/event/diy-craft-for-adults/
LOCATION:Downtown Library\, 300 S. Second St.\, Elkhart\, IN\, 46516\, United States
CATEGORIES:Adult Programs,Crafts
ATTACH;FMTTYPE=image/jpeg:https://www.myepl.org/wp-content/uploads/2024/12/image001-4.jpg
END:VEVENT
BEGIN:VEVENT
DTSTART;TZID=America/Indiana/Indianapolis:20250408T153000
DTEND;TZID=America/Indiana/Indianapolis:20250408T163000
DTSTAMP:20260419T225557
CREATED:20241226T145823Z
LAST-MODIFIED:20250327T192951Z
UID:47411-1744126200-1744129800@www.myepl.org
SUMMARY:Coffee and Canvas for Adults
DESCRIPTION:(This event is full. Keep watching for more great activities.) \nFollow along with local artist Linda Pieri as we create a painting. To serve more people\, there will be two sessions each month with the same painting.
URL:https://www.myepl.org/event/coffee-and-canvas-for-adults-32/
LOCATION:Downtown Library\, 300 S. Second St.\, Elkhart\, IN\, 46516\, United States
CATEGORIES:Adult Programs,Art
ATTACH;FMTTYPE=image/jpeg:https://www.myepl.org/wp-content/uploads/2024/12/Eiffel-Tower-scaled.jpg
END:VEVENT
BEGIN:VEVENT
DTSTART;VALUE=DATE:20250407
DTEND;VALUE=DATE:20250408
DTSTAMP:20260419T225557
CREATED:20241226T135936Z
LAST-MODIFIED:20241226T135936Z
UID:47392-1743984000-1744070399@www.myepl.org
SUMMARY:Peeps Diorama Contest
DESCRIPTION:Create a scene from a favorite book or characters with Peeps. Pick up an entry form and Peeps starting Monday\, March 24 while supplies last. Return your scene and form by Tuesday\, April 15. We’ll host a work day from 9 a.m. to 3 p.m. Saturday\, April 12 to build an entry. Winners will be announced on Wednesday\, April 23. 
URL:https://www.myepl.org/event/peeps-diorama-contest-3/2025-04-07/
LOCATION:Cleveland Branch\, 53715 C.R. 1\, Elkhart\, IN\, 46514\, United States
CATEGORIES:Adult Programs,Just for Fun,School Age Programs,Teen Programs
ATTACH;FMTTYPE=image/png:https://www.myepl.org/wp-content/uploads/2023/03/Peeps-Diorama-Contest-Calendar.png
END:VEVENT
BEGIN:VEVENT
DTSTART;TZID=America/Indiana/Indianapolis:20250405T100000
DTEND;TZID=America/Indiana/Indianapolis:20250405T110000
DTSTAMP:20260419T225557
CREATED:20241226T173059Z
LAST-MODIFIED:20250305T210920Z
UID:47499-1743847200-1743850800@www.myepl.org
SUMMARY:Urban Turf
DESCRIPTION:Expert help to get your lawn in top shape this summer. Topics include weed control\, soil testing\, grass species\, grubs and moles at this fun and informative presentation.
URL:https://www.myepl.org/event/urban-turf/
LOCATION:Osolo Branch\, 3429 E. Bristol St.\, Elkhart\, IN\, 46516\, United States
CATEGORIES:Adult Programs,Educational
ATTACH;FMTTYPE=image/png:https://www.myepl.org/wp-content/uploads/2024/12/UrbanTurf_Calendar.png
END:VEVENT
BEGIN:VEVENT
DTSTART;TZID=America/Indiana/Indianapolis:20250404T173000
DTEND;TZID=America/Indiana/Indianapolis:20250404T183000
DTSTAMP:20260419T225557
CREATED:20241220T213114Z
LAST-MODIFIED:20250131T182131Z
UID:47325-1743787800-1743791400@www.myepl.org
SUMMARY:Pop Quiz
DESCRIPTION:Bring your team and compete in our pop culture trivia with a new theme each month. \nApril 4 – Marvel \nRegistration for this program starts March 1.
URL:https://www.myepl.org/event/pop-quiz-2025-04-04/
LOCATION:Downtown Library\, 300 S. Second St.\, Elkhart\, IN\, 46516\, United States
CATEGORIES:Adult Programs,Just for Fun
ATTACH;FMTTYPE=image/png:https://www.myepl.org/wp-content/uploads/2024/12/popquiz_Calendar-1.png
END:VEVENT
BEGIN:VEVENT
DTSTART;TZID=America/Indiana/Indianapolis:20250401T173000
DTEND;TZID=America/Indiana/Indianapolis:20250401T183000
DTSTAMP:20260419T225557
CREATED:20241209T213455Z
LAST-MODIFIED:20250331T170918Z
UID:46934-1743528600-1743532200@www.myepl.org
SUMMARY:CANCELED - Diabetes 101
DESCRIPTION:Learn practical skills for managing diabetes from a Purdue Extension Health and Human Sciences educator. Register by calling 574.533.0554 or be emailing fink24@purdue.edu.
URL:https://www.myepl.org/event/diabetes-101/
LOCATION:Cleveland Branch\, 53715 C.R. 1\, Elkhart\, IN\, 46514\, United States
CATEGORIES:Adult Programs,Educational
ATTACH;FMTTYPE=image/png:https://www.myepl.org/wp-content/uploads/2024/12/Diabetes101_Calendar.png
END:VEVENT
BEGIN:VEVENT
DTSTART;VALUE=DATE:20250331
DTEND;VALUE=DATE:20250401
DTSTAMP:20260419T225557
CREATED:20241226T135936Z
LAST-MODIFIED:20241226T135936Z
UID:47391-1743379200-1743465599@www.myepl.org
SUMMARY:Peeps Diorama Contest
DESCRIPTION:Create a scene from a favorite book or characters with Peeps. Pick up an entry form and Peeps starting Monday\, March 24 while supplies last. Return your scene and form by Tuesday\, April 15. We’ll host a work day from 9 a.m. to 3 p.m. Saturday\, April 12 to build an entry. Winners will be announced on Wednesday\, April 23. 
URL:https://www.myepl.org/event/peeps-diorama-contest-3/2025-03-31/
LOCATION:Cleveland Branch\, 53715 C.R. 1\, Elkhart\, IN\, 46514\, United States
CATEGORIES:Adult Programs,Just for Fun,School Age Programs,Teen Programs
ATTACH;FMTTYPE=image/png:https://www.myepl.org/wp-content/uploads/2023/03/Peeps-Diorama-Contest-Calendar.png
END:VEVENT
BEGIN:VEVENT
DTSTART;TZID=America/Indiana/Indianapolis:20250326T173000
DTEND;TZID=America/Indiana/Indianapolis:20250326T183000
DTSTAMP:20260419T225557
CREATED:20241220T161144Z
LAST-MODIFIED:20241220T161144Z
UID:47213-1743010200-1743013800@www.myepl.org
SUMMARY:Cooking with an Air Fryer
DESCRIPTION:Learn the ins and outs an an air fryer\, different model options\, cooking techniques and safety tips from a Purdue Extension educator. Register by emailing fink24@purdue.edu or by calling 574-533-0554.
URL:https://www.myepl.org/event/cooking-with-an-air-fryer/
LOCATION:Downtown Library\, 300 S. Second St.\, Elkhart\, IN\, 46516\, United States
CATEGORIES:Adult Programs,Educational
ATTACH;FMTTYPE=image/png:https://www.myepl.org/wp-content/uploads/2024/01/AirFryer101_calendar-1.png
END:VEVENT
BEGIN:VEVENT
DTSTART;TZID=America/Indiana/Indianapolis:20250325T173000
DTEND;TZID=America/Indiana/Indianapolis:20250325T181500
DTSTAMP:20260419T225557
CREATED:20241226T154041Z
LAST-MODIFIED:20250224T215111Z
UID:47440-1742923800-1742926500@www.myepl.org
SUMMARY:Effective Communication
DESCRIPTION:Improve social\, emotion and mental connections through better communication and increase problem-solving and conflict resolution skills with a Purdue Extension educator. To register call 574.533.0554 or email fink24@purdue.edu.
URL:https://www.myepl.org/event/effective-communication/
LOCATION:Dunlap Branch\, 58485 C.R. 13 East\, Elkhart\, IN\, 46516\, United States
CATEGORIES:Adult Programs,Educational
ATTACH;FMTTYPE=image/png:https://www.myepl.org/wp-content/uploads/2024/12/EffectiveCommunication_Calendar.png
END:VEVENT
BEGIN:VEVENT
DTSTART;VALUE=DATE:20250324
DTEND;VALUE=DATE:20250325
DTSTAMP:20260419T225557
CREATED:20241226T135936Z
LAST-MODIFIED:20241226T135936Z
UID:47390-1742774400-1742860799@www.myepl.org
SUMMARY:Peeps Diorama Contest
DESCRIPTION:Create a scene from a favorite book or characters with Peeps. Pick up an entry form and Peeps starting Monday\, March 24 while supplies last. Return your scene and form by Tuesday\, April 15. We’ll host a work day from 9 a.m. to 3 p.m. Saturday\, April 12 to build an entry. Winners will be announced on Wednesday\, April 23. 
URL:https://www.myepl.org/event/peeps-diorama-contest-3/2025-03-24/
LOCATION:Cleveland Branch\, 53715 C.R. 1\, Elkhart\, IN\, 46514\, United States
CATEGORIES:Adult Programs,Just for Fun,School Age Programs,Teen Programs
ATTACH;FMTTYPE=image/png:https://www.myepl.org/wp-content/uploads/2023/03/Peeps-Diorama-Contest-Calendar.png
END:VEVENT
BEGIN:VEVENT
DTSTART;TZID=America/Indiana/Indianapolis:20250322T110000
DTEND;TZID=America/Indiana/Indianapolis:20250322T130000
DTSTAMP:20260419T225557
CREATED:20241226T143434Z
LAST-MODIFIED:20250313T205407Z
UID:47397-1742641200-1742648400@www.myepl.org
SUMMARY:Prop Swap
DESCRIPTION:A plant hobby doesn’t have to be expensive. Join other green thumbs to swap cutting and add new members to your family. Bring a plant to trim and propagate or take one of ours. Pots and dirt available while supplies last. 
URL:https://www.myepl.org/event/prop-swap-2/
LOCATION:Downtown Library\, 300 S. Second St.\, Elkhart\, IN\, 46516\, United States
CATEGORIES:Adult Programs,Just for Fun
ATTACH;FMTTYPE=image/png:https://www.myepl.org/wp-content/uploads/2023/12/prop-swap-calendar.png
END:VEVENT
BEGIN:VEVENT
DTSTART;TZID=America/Indiana/Indianapolis:20250315T093000
DTEND;TZID=America/Indiana/Indianapolis:20250315T143000
DTSTAMP:20260419T225557
CREATED:20241211T175533Z
LAST-MODIFIED:20250228T172647Z
UID:47026-1742031000-1742049000@www.myepl.org
SUMMARY:Manga Madness
DESCRIPTION:Join our one-day reading challenge. Read manga or graphic novels for as long as you can\, every minute brings you closer to a prize. Plus more activities and snacks. 
URL:https://www.myepl.org/event/manga-madness/
LOCATION:Downtown Library\, 300 S. Second St.\, Elkhart\, IN\, 46516\, United States
CATEGORIES:Adult Programs,Teen Programs
ATTACH;FMTTYPE=image/png:https://www.myepl.org/wp-content/uploads/2024/12/MangaMadness_Calendar.png
END:VEVENT
BEGIN:VEVENT
DTSTART;TZID=America/Indiana/Indianapolis:20250313T173000
DTEND;TZID=America/Indiana/Indianapolis:20250313T193000
DTSTAMP:20260419T225557
CREATED:20241226T153540Z
LAST-MODIFIED:20250305T201719Z
UID:47437-1741887000-1741894200@www.myepl.org
SUMMARY:Diabetes 101
DESCRIPTION:With expert help from the Purdue Extension office\, learn how to manage diabetes effectively. To register call 574.533.0554 or email fink24@purdue.edu.
URL:https://www.myepl.org/event/diabetes-101-2/
LOCATION:Dunlap Branch\, 58485 C.R. 13 East\, Elkhart\, IN\, 46516\, United States
CATEGORIES:Adult Programs,Educational
ATTACH;FMTTYPE=image/png:https://www.myepl.org/wp-content/uploads/2024/12/Diabetes101_Calendar.png
END:VEVENT
BEGIN:VEVENT
DTSTART;TZID=America/Indiana/Indianapolis:20250311T153000
DTEND;TZID=America/Indiana/Indianapolis:20250311T163000
DTSTAMP:20260419T225557
CREATED:20241226T145625Z
LAST-MODIFIED:20250228T172818Z
UID:47407-1741707000-1741710600@www.myepl.org
SUMMARY:Coffee and Canvas for Adults
DESCRIPTION:(This event is full. Keep watching for more great activities.) \nFollow along with local artist Linda Pieri as we create a painting. To serve more people\, there will be two sessions each month with the same painting. \nRegistration for this program opens Feb. 1.
URL:https://www.myepl.org/event/coffee-and-canvas-for-adults-31/
LOCATION:Downtown Library\, 300 S. Second St.\, Elkhart\, IN\, 46516\, United States
CATEGORIES:Adult Programs,Art
ATTACH;FMTTYPE=image/jpeg:https://www.myepl.org/wp-content/uploads/2024/12/Daisies.jpg
END:VEVENT
BEGIN:VEVENT
DTSTART;TZID=America/Indiana/Indianapolis:20250307T173000
DTEND;TZID=America/Indiana/Indianapolis:20250307T183000
DTSTAMP:20260419T225557
CREATED:20241220T213114Z
LAST-MODIFIED:20250131T181739Z
UID:47324-1741368600-1741372200@www.myepl.org
SUMMARY:Pop Quiz
DESCRIPTION:Register your team to compete in our pop culture trivia with a new theme each month. \nRegistration for this program starts Jan. 31. \nMarch 7 – Anime\nApril 4 – Marvel
URL:https://www.myepl.org/event/pop-quiz-2025-03-07/
LOCATION:Downtown Library\, 300 S. Second St.\, Elkhart\, IN\, 46516\, United States
CATEGORIES:Adult Programs,Just for Fun
ATTACH;FMTTYPE=image/png:https://www.myepl.org/wp-content/uploads/2024/12/popquiz_Calendar-1.png
END:VEVENT
BEGIN:VEVENT
DTSTART;TZID=America/Indiana/Indianapolis:20250220T160000
DTEND;TZID=America/Indiana/Indianapolis:20250220T180000
DTSTAMP:20260419T225557
CREATED:20241226T161024Z
LAST-MODIFIED:20250122T164600Z
UID:47457-1740067200-1740074400@www.myepl.org
SUMMARY:Let's Move Dance Class
DESCRIPTION:Get dancing with direction from a local choreographer. For all skill levels\, ages 13 and up. 
URL:https://www.myepl.org/event/lets-move-dance-class/
LOCATION:Pierre Moran Branch\, 2400 Benham Ave\, Elkhart\, IN\, 46517\, United States
CATEGORIES:Adult Programs,Just for Fun,Teen Programs
ATTACH;FMTTYPE=image/png:https://www.myepl.org/wp-content/uploads/2024/12/LetsMoveDanceClass_Calendar.png
END:VEVENT
BEGIN:VEVENT
DTSTART;TZID=America/Indiana/Indianapolis:20250211T173000
DTEND;TZID=America/Indiana/Indianapolis:20250211T183000
DTSTAMP:20260419T225557
CREATED:20241226T153137Z
LAST-MODIFIED:20250117T200039Z
UID:47435-1739295000-1739298600@www.myepl.org
SUMMARY:Cooking with an Air Fryer
DESCRIPTION:Learns the ins\, outs and safety tips from a Purdue Extension educator to start cooking with an air fryer. To register\, call 574.533.0554 or email finke24@purdue.edu.
URL:https://www.myepl.org/event/cooking-with-an-air-fryer-2/
LOCATION:Dunlap Branch\, 58485 C.R. 13 East\, Elkhart\, IN\, 46516\, United States
CATEGORIES:Adult Programs,Educational
ATTACH;FMTTYPE=image/png:https://www.myepl.org/wp-content/uploads/2024/12/cookingwithairfryer_Calendar.png
END:VEVENT
BEGIN:VEVENT
DTSTART;TZID=America/Indiana/Indianapolis:20250211T153000
DTEND;TZID=America/Indiana/Indianapolis:20250211T163000
DTSTAMP:20260419T225557
CREATED:20241226T145429Z
LAST-MODIFIED:20250204T151845Z
UID:47403-1739287800-1739291400@www.myepl.org
SUMMARY:Coffee and Canvas for Adults
DESCRIPTION:(This event is full. Keep watching for more great activities.) \nFollow along with local artist Linda Pieri as we create a painting. To serve more people\, there will be two sessions each month with the same painting.
URL:https://www.myepl.org/event/coffee-and-canvas-for-adults-30/
LOCATION:Downtown Library\, 300 S. Second St.\, Elkhart\, IN\, 46516\, United States
CATEGORIES:Adult Programs,Art
ATTACH;FMTTYPE=image/jpeg:https://www.myepl.org/wp-content/uploads/2024/12/Valentine-scaled.jpg
END:VEVENT
BEGIN:VEVENT
DTSTART;TZID=America/Indiana/Indianapolis:20250211T110000
DTEND;TZID=America/Indiana/Indianapolis:20250211T120000
DTSTAMP:20260419T225557
CREATED:20241226T202817Z
LAST-MODIFIED:20250127T214424Z
UID:47519-1739271600-1739275200@www.myepl.org
SUMMARY:DIY Mosaic Project for Valentine's Day
DESCRIPTION:Create a simple DIY mosaic picture frame or heart-shaped coaster for yourself or your Valentine. \nRegistration for this program opens Jan. 1.
URL:https://www.myepl.org/event/diy-mosaic-project-for-valentines-day/
LOCATION:Downtown Library\, 300 S. Second St.\, Elkhart\, IN\, 46516\, United States
CATEGORIES:Adult Programs,Crafts
ATTACH;FMTTYPE=image/png:https://www.myepl.org/wp-content/uploads/2024/12/DIYValentinesMosaicCraft_Calendar.png
END:VEVENT
BEGIN:VEVENT
DTSTART;TZID=America/Indiana/Indianapolis:20250207T173000
DTEND;TZID=America/Indiana/Indianapolis:20250207T183000
DTSTAMP:20260419T225557
CREATED:20241220T213114Z
LAST-MODIFIED:20250207T135536Z
UID:47323-1738949400-1738953000@www.myepl.org
SUMMARY:Pop Quiz
DESCRIPTION:Register your team and compete in our pop culture trivia with a new theme each month. \nFeb. 7 – Kpop\nMarch 7 – Anime\nApril 4 – Marvel
URL:https://www.myepl.org/event/pop-quiz/
LOCATION:Downtown Library\, 300 S. Second St.\, Elkhart\, IN\, 46516\, United States
CATEGORIES:Adult Programs,Just for Fun
ATTACH;FMTTYPE=image/png:https://www.myepl.org/wp-content/uploads/2024/12/popquiz_Calendar-1.png
END:VEVENT
BEGIN:VEVENT
DTSTART;TZID=America/Indiana/Indianapolis:20250120T080000
DTEND;TZID=America/Indiana/Indianapolis:20250120T090000
DTSTAMP:20260419T225557
CREATED:20250110T132941Z
LAST-MODIFIED:20250114T134119Z
UID:47739-1737360000-1737363600@www.myepl.org
SUMMARY:Martin Luther King Day Open House
DESCRIPTION:Enjoy a continental breakfast and performance from the Elkhart Community Chorus ahead of the day’s events. \nThe event is free and open to the public. \nThis event is shared with the Elkhart Chapter of Indiana Black Expo and serves as the kickoff to a full day of activities and remembrances throughout the city.
URL:https://www.myepl.org/event/martin-luther-king-day-open-house/
LOCATION:Downtown Library\, 300 S. Second St.\, Elkhart\, IN\, 46516\, United States
CATEGORIES:Adult Programs,Educational
ATTACH;FMTTYPE=image/jpeg:https://www.myepl.org/wp-content/uploads/2023/01/MartinLutherKing.jpeg
END:VEVENT
END:VCALENDAR