BEGIN:VCALENDAR
VERSION:2.0
PRODID:-//Elkhart Public Library - ECPv6.15.20//NONSGML v1.0//EN
CALSCALE:GREGORIAN
METHOD:PUBLISH
X-WR-CALNAME:Elkhart Public Library
X-ORIGINAL-URL:https://www.myepl.org
X-WR-CALDESC:Events for Elkhart Public Library
REFRESH-INTERVAL;VALUE=DURATION:PT1H
X-Robots-Tag:noindex
X-PUBLISHED-TTL:PT1H
BEGIN:VTIMEZONE
TZID:America/Indiana/Indianapolis
BEGIN:DAYLIGHT
TZOFFSETFROM:-0500
TZOFFSETTO:-0400
TZNAME:EDT
DTSTART:20240310T070000
END:DAYLIGHT
BEGIN:STANDARD
TZOFFSETFROM:-0400
TZOFFSETTO:-0500
TZNAME:EST
DTSTART:20241103T060000
END:STANDARD
BEGIN:DAYLIGHT
TZOFFSETFROM:-0500
TZOFFSETTO:-0400
TZNAME:EDT
DTSTART:20250309T070000
END:DAYLIGHT
BEGIN:STANDARD
TZOFFSETFROM:-0400
TZOFFSETTO:-0500
TZNAME:EST
DTSTART:20251102T060000
END:STANDARD
BEGIN:DAYLIGHT
TZOFFSETFROM:-0500
TZOFFSETTO:-0400
TZNAME:EDT
DTSTART:20260308T070000
END:DAYLIGHT
BEGIN:STANDARD
TZOFFSETFROM:-0400
TZOFFSETTO:-0500
TZNAME:EST
DTSTART:20261101T060000
END:STANDARD
END:VTIMEZONE
BEGIN:VEVENT
DTSTART;TZID=America/Indiana/Indianapolis:20250207T173000
DTEND;TZID=America/Indiana/Indianapolis:20250207T183000
DTSTAMP:20260420T003641
CREATED:20241220T213114Z
LAST-MODIFIED:20250207T135536Z
UID:47323-1738949400-1738953000@www.myepl.org
SUMMARY:Pop Quiz
DESCRIPTION:Register your team and compete in our pop culture trivia with a new theme each month. \nFeb. 7 – Kpop\nMarch 7 – Anime\nApril 4 – Marvel
URL:https://www.myepl.org/event/pop-quiz/
LOCATION:Downtown Library\, 300 S. Second St.\, Elkhart\, IN\, 46516\, United States
CATEGORIES:Adult Programs,Just for Fun
ATTACH;FMTTYPE=image/png:https://www.myepl.org/wp-content/uploads/2024/12/popquiz_Calendar-1.png
END:VEVENT
BEGIN:VEVENT
DTSTART;TZID=America/Indiana/Indianapolis:20250120T080000
DTEND;TZID=America/Indiana/Indianapolis:20250120T090000
DTSTAMP:20260420T003641
CREATED:20250110T132941Z
LAST-MODIFIED:20250114T134119Z
UID:47739-1737360000-1737363600@www.myepl.org
SUMMARY:Martin Luther King Day Open House
DESCRIPTION:Enjoy a continental breakfast and performance from the Elkhart Community Chorus ahead of the day’s events. \nThe event is free and open to the public. \nThis event is shared with the Elkhart Chapter of Indiana Black Expo and serves as the kickoff to a full day of activities and remembrances throughout the city.
URL:https://www.myepl.org/event/martin-luther-king-day-open-house/
LOCATION:Downtown Library\, 300 S. Second St.\, Elkhart\, IN\, 46516\, United States
CATEGORIES:Adult Programs,Educational
ATTACH;FMTTYPE=image/jpeg:https://www.myepl.org/wp-content/uploads/2023/01/MartinLutherKing.jpeg
END:VEVENT
END:VCALENDAR