BEGIN:VCALENDAR
VERSION:2.0
PRODID:-//Elkhart Public Library - ECPv6.15.20//NONSGML v1.0//EN
CALSCALE:GREGORIAN
METHOD:PUBLISH
X-ORIGINAL-URL:https://www.myepl.org
X-WR-CALDESC:Events for Elkhart Public Library
REFRESH-INTERVAL;VALUE=DURATION:PT1H
X-Robots-Tag:noindex
X-PUBLISHED-TTL:PT1H
BEGIN:VTIMEZONE
TZID:America/Indiana/Indianapolis
BEGIN:DAYLIGHT
TZOFFSETFROM:-0500
TZOFFSETTO:-0400
TZNAME:EDT
DTSTART:20250309T070000
END:DAYLIGHT
BEGIN:STANDARD
TZOFFSETFROM:-0400
TZOFFSETTO:-0500
TZNAME:EST
DTSTART:20251102T060000
END:STANDARD
BEGIN:DAYLIGHT
TZOFFSETFROM:-0500
TZOFFSETTO:-0400
TZNAME:EDT
DTSTART:20260308T070000
END:DAYLIGHT
BEGIN:STANDARD
TZOFFSETFROM:-0400
TZOFFSETTO:-0500
TZNAME:EST
DTSTART:20261101T060000
END:STANDARD
BEGIN:DAYLIGHT
TZOFFSETFROM:-0500
TZOFFSETTO:-0400
TZNAME:EDT
DTSTART:20270314T070000
END:DAYLIGHT
BEGIN:STANDARD
TZOFFSETFROM:-0400
TZOFFSETTO:-0500
TZNAME:EST
DTSTART:20271107T060000
END:STANDARD
END:VTIMEZONE
BEGIN:VEVENT
DTSTART;TZID=America/Indiana/Indianapolis:20260107T090000
DTEND;TZID=America/Indiana/Indianapolis:20260107T110000
DTSTAMP:20260421T100322
CREATED:20250922T153809Z
LAST-MODIFIED:20251031T135231Z
UID:52198-1767776400-1767783600@www.myepl.org
SUMMARY:Adult Cookies and Coloring Club
DESCRIPTION:Get creative and relax with an open coloring session at Pierre Moran. Drop in during 9 to 11 a.m. and use our supplies or bring your own.
URL:https://www.myepl.org/event/adult-cookies-and-coloring-club/2026-01-07/
LOCATION:Pierre Moran Branch\, 2400 Benham Ave\, Elkhart\, IN\, 46517\, United States
CATEGORIES:Adult Programs,Art
ATTACH;FMTTYPE=image/png:https://www.myepl.org/wp-content/uploads/2025/09/coloring_Calendar.png
END:VEVENT
BEGIN:VEVENT
DTSTART;TZID=America/Indiana/Indianapolis:20260107T160000
DTEND;TZID=America/Indiana/Indianapolis:20260107T180000
DTSTAMP:20260421T100322
CREATED:20250922T154849Z
LAST-MODIFIED:20251031T135328Z
UID:52202-1767801600-1767808800@www.myepl.org
SUMMARY:Cookies and Coloring Club
DESCRIPTION:Drop into Pierre Moran anytime from 4 to 6 p.m. for an all-ages open coloring session. Relax\, get creative and use our available supplies. Snack on cookies while you work.
URL:https://www.myepl.org/event/cookies-and-coloring-club/2026-01-07/
LOCATION:Pierre Moran Branch\, 2400 Benham Ave\, Elkhart\, IN\, 46517\, United States
CATEGORIES:Art,Preschool Programs,School Age Programs
ATTACH;FMTTYPE=image/png:https://www.myepl.org/wp-content/uploads/2025/09/coloring_Calendar-copy.png
END:VEVENT
BEGIN:VEVENT
DTSTART;TZID=America/Indiana/Indianapolis:20260112T130000
DTEND;TZID=America/Indiana/Indianapolis:20260112T140000
DTSTAMP:20260421T100322
CREATED:20250917T163928Z
LAST-MODIFIED:20260109T213718Z
UID:51894-1768222800-1768226400@www.myepl.org
SUMMARY:Homeschool: Simple Hardback Book Binding
DESCRIPTION:Learn how hardback books are made while making your own.
URL:https://www.myepl.org/event/homeschool-simple-hardback-book-binding/
LOCATION:Downtown Library\, 300 S. Second St.\, Elkhart\, IN\, 46516\, United States
CATEGORIES:Art
ATTACH;FMTTYPE=image/png:https://www.myepl.org/wp-content/uploads/2025/09/image001-2.png
END:VEVENT
BEGIN:VEVENT
DTSTART;TZID=America/Indiana/Indianapolis:20260112T163000
DTEND;TZID=America/Indiana/Indianapolis:20260112T173000
DTSTAMP:20260421T100322
CREATED:20250917T143422Z
LAST-MODIFIED:20260112T142255Z
UID:51869-1768235400-1768239000@www.myepl.org
SUMMARY:Kids Cookies and Canvas
DESCRIPTION:(This event is full. Keep watching for more great events.) \nLearning sketching and painting techniques to create artwork. We’ll snack on cookies while we work. \nRegistration for this program opens Dec. 1.
URL:https://www.myepl.org/event/kids-cookies-and-canvas-14/
LOCATION:Downtown Library\, 300 S. Second St.\, Elkhart\, IN\, 46516\, United States
CATEGORIES:Art,School Age Programs
ATTACH;FMTTYPE=image/png:https://www.myepl.org/wp-content/uploads/2025/03/cookies-and-canvas-calendar.png
END:VEVENT
BEGIN:VEVENT
DTSTART;TZID=America/Indiana/Indianapolis:20260113T153000
DTEND;TZID=America/Indiana/Indianapolis:20260113T163000
DTSTAMP:20260421T100322
CREATED:20250922T164306Z
LAST-MODIFIED:20251201T161611Z
UID:52238-1768318200-1768321800@www.myepl.org
SUMMARY:Coffee and Canvas for Adults
DESCRIPTION:Follow along with local artist Linda Pieri as she leads a fun and creative painting class. \nRegistration for this program starts Dec. 1.
URL:https://www.myepl.org/event/coffee-and-canvas-for-adults-34/
LOCATION:Downtown Library\, 300 S. Second St.\, Elkhart\, IN\, 46516\, United States
CATEGORIES:Adult Programs,Art
ATTACH;FMTTYPE=image/jpeg:https://www.myepl.org/wp-content/uploads/2025/09/2017-11-15-07.11.53-2.jpg
END:VEVENT
BEGIN:VEVENT
DTSTART;TZID=America/Indiana/Indianapolis:20260113T173000
DTEND;TZID=America/Indiana/Indianapolis:20260113T183000
DTSTAMP:20260421T100322
CREATED:20250922T164608Z
LAST-MODIFIED:20251201T161551Z
UID:52241-1768325400-1768329000@www.myepl.org
SUMMARY:Coffee and Canvas for Adults
DESCRIPTION:Follow along with local artist Linda Pieri as she leads a fun and creative painting class. \nRegistration for this program starts Dec. 1.
URL:https://www.myepl.org/event/coffee-and-canvas-for-adults-35/
LOCATION:Downtown Library\, 300 S. Second St.\, Elkhart\, IN\, 46516\, United States
CATEGORIES:Adult Programs,Art
ATTACH;FMTTYPE=image/jpeg:https://www.myepl.org/wp-content/uploads/2025/09/2017-11-15-07.11.53-2.jpg
END:VEVENT
BEGIN:VEVENT
DTSTART;TZID=America/Indiana/Indianapolis:20260119T153000
DTEND;TZID=America/Indiana/Indianapolis:20260119T163000
DTSTAMP:20260421T100322
CREATED:20250918T144007Z
LAST-MODIFIED:20250918T144007Z
UID:52010-1768836600-1768840200@www.myepl.org
SUMMARY:Kids Art Workshop
DESCRIPTION:Learn about a famous artist and their signature technique. Then\, put into practice while making your own masterpiece.
URL:https://www.myepl.org/event/kids-art-workshop-5/
LOCATION:Cleveland Branch\, 53715 C.R. 1\, Elkhart\, IN\, 46514\, United States
CATEGORIES:Art,School Age Programs,Teen Programs
ATTACH;FMTTYPE=image/png:https://www.myepl.org/wp-content/uploads/2024/12/KidsArtWorkshop_Calendar.png
END:VEVENT
BEGIN:VEVENT
DTSTART;TZID=America/Indiana/Indianapolis:20260119T163000
DTEND;TZID=America/Indiana/Indianapolis:20260119T174500
DTSTAMP:20260421T100322
CREATED:20250917T132837Z
LAST-MODIFIED:20251201T133044Z
UID:51859-1768840200-1768844700@www.myepl.org
SUMMARY:Tween and Teen Cookies and Canvas
DESCRIPTION:Learn new painting and art techniques while creating a picture of your choosing or bring your own. \nRegistration for this program opens Dec. 1.
URL:https://www.myepl.org/event/tween-and-teen-cookies-and-canvas-6/
LOCATION:Downtown Library\, 300 S. Second St.\, Elkhart\, IN\, 46516\, United States
CATEGORIES:Art,Teen Programs
ATTACH;FMTTYPE=image/png:https://www.myepl.org/wp-content/uploads/2025/03/cookies-and-canvas-calendar.png
END:VEVENT
END:VCALENDAR