BEGIN:VCALENDAR
VERSION:2.0
PRODID:-//Elkhart Public Library - ECPv6.15.20//NONSGML v1.0//EN
CALSCALE:GREGORIAN
METHOD:PUBLISH
X-ORIGINAL-URL:https://www.myepl.org
X-WR-CALDESC:Events for Elkhart Public Library
REFRESH-INTERVAL;VALUE=DURATION:PT1H
X-Robots-Tag:noindex
X-PUBLISHED-TTL:PT1H
BEGIN:VTIMEZONE
TZID:America/Indiana/Indianapolis
BEGIN:DAYLIGHT
TZOFFSETFROM:-0500
TZOFFSETTO:-0400
TZNAME:EDT
DTSTART:20250309T070000
END:DAYLIGHT
BEGIN:STANDARD
TZOFFSETFROM:-0400
TZOFFSETTO:-0500
TZNAME:EST
DTSTART:20251102T060000
END:STANDARD
BEGIN:DAYLIGHT
TZOFFSETFROM:-0500
TZOFFSETTO:-0400
TZNAME:EDT
DTSTART:20260308T070000
END:DAYLIGHT
BEGIN:STANDARD
TZOFFSETFROM:-0400
TZOFFSETTO:-0500
TZNAME:EST
DTSTART:20261101T060000
END:STANDARD
BEGIN:DAYLIGHT
TZOFFSETFROM:-0500
TZOFFSETTO:-0400
TZNAME:EDT
DTSTART:20270314T070000
END:DAYLIGHT
BEGIN:STANDARD
TZOFFSETFROM:-0400
TZOFFSETTO:-0500
TZNAME:EST
DTSTART:20271107T060000
END:STANDARD
END:VTIMEZONE
BEGIN:VEVENT
DTSTART;TZID=America/Indiana/Indianapolis:20260204T090000
DTEND;TZID=America/Indiana/Indianapolis:20260204T110000
DTSTAMP:20260421T112921
CREATED:20251218T144804Z
LAST-MODIFIED:20251218T144804Z
UID:53851-1770195600-1770202800@www.myepl.org
SUMMARY:Coffee and Coloring for Adults
DESCRIPTION:Relax\, unwind and connect with others with free coffee\, coloring sheets and colored pencils.  
URL:https://www.myepl.org/event/coffee-and-coloring-for-adults/2026-02-04/
LOCATION:Pierre Moran Branch\, 2400 Benham Ave\, Elkhart\, IN\, 46517\, United States
CATEGORIES:Adult Programs,Art
ATTACH;FMTTYPE=image/png:https://www.myepl.org/wp-content/uploads/2025/09/coloring_Calendar.png
END:VEVENT
BEGIN:VEVENT
DTSTART;TZID=America/Indiana/Indianapolis:20260204T160000
DTEND;TZID=America/Indiana/Indianapolis:20260204T170000
DTSTAMP:20260421T112921
CREATED:20251218T150143Z
LAST-MODIFIED:20260130T145058Z
UID:53855-1770220800-1770224400@www.myepl.org
SUMMARY:Family Paint by Sticker
DESCRIPTION:Create an artwork using stickers placed on numbers. Options for adults and children are available for all ages to enjoy. 
URL:https://www.myepl.org/event/family-paint-by-sticker/2026-02-04/
LOCATION:Pierre Moran Branch\, 2400 Benham Ave\, Elkhart\, IN\, 46517\, United States
CATEGORIES:Art
ATTACH;FMTTYPE=image/png:https://www.myepl.org/wp-content/uploads/2025/12/Family-Paint-by-Sticker_Calendar.png
END:VEVENT
END:VCALENDAR