BEGIN:VCALENDAR
VERSION:2.0
PRODID:-//Elkhart Public Library - ECPv6.15.20//NONSGML v1.0//EN
CALSCALE:GREGORIAN
METHOD:PUBLISH
X-WR-CALNAME:Elkhart Public Library
X-ORIGINAL-URL:https://www.myepl.org
X-WR-CALDESC:Events for Elkhart Public Library
REFRESH-INTERVAL;VALUE=DURATION:PT1H
X-Robots-Tag:noindex
X-PUBLISHED-TTL:PT1H
BEGIN:VTIMEZONE
TZID:America/Indiana/Indianapolis
BEGIN:DAYLIGHT
TZOFFSETFROM:-0500
TZOFFSETTO:-0400
TZNAME:EDT
DTSTART:20250309T070000
END:DAYLIGHT
BEGIN:STANDARD
TZOFFSETFROM:-0400
TZOFFSETTO:-0500
TZNAME:EST
DTSTART:20251102T060000
END:STANDARD
BEGIN:DAYLIGHT
TZOFFSETFROM:-0500
TZOFFSETTO:-0400
TZNAME:EDT
DTSTART:20260308T070000
END:DAYLIGHT
BEGIN:STANDARD
TZOFFSETFROM:-0400
TZOFFSETTO:-0500
TZNAME:EST
DTSTART:20261101T060000
END:STANDARD
BEGIN:DAYLIGHT
TZOFFSETFROM:-0500
TZOFFSETTO:-0400
TZNAME:EDT
DTSTART:20270314T070000
END:DAYLIGHT
BEGIN:STANDARD
TZOFFSETFROM:-0400
TZOFFSETTO:-0500
TZNAME:EST
DTSTART:20271107T060000
END:STANDARD
END:VTIMEZONE
BEGIN:VEVENT
DTSTART;TZID=America/Indiana/Indianapolis:20260310T153000
DTEND;TZID=America/Indiana/Indianapolis:20260310T163000
DTSTAMP:20260421T071227
CREATED:20251212T201521Z
LAST-MODIFIED:20260305T133221Z
UID:53659-1773156600-1773160200@www.myepl.org
SUMMARY:Coffee and Canvas for Adults
DESCRIPTION:(This event is full. Keep watching for more great activities.) \nFollow local artist Linda Pieri as we create a new painting each month. \nRegistration for this program opens Feb. 1.
URL:https://www.myepl.org/event/coffee-and-canvas-for-adults-37/
LOCATION:Downtown Library\, 300 S. Second St.\, Elkhart\, IN\, 46516\, United States
CATEGORIES:Adult Programs,Art
ATTACH;FMTTYPE=image/jpeg:https://www.myepl.org/wp-content/uploads/2025/12/20190223_090132-1.jpg
END:VEVENT
BEGIN:VEVENT
DTSTART;TZID=America/Indiana/Indianapolis:20260310T173000
DTEND;TZID=America/Indiana/Indianapolis:20260310T183000
DTSTAMP:20260421T071227
CREATED:20251212T215641Z
LAST-MODIFIED:20260305T133201Z
UID:53683-1773163800-1773167400@www.myepl.org
SUMMARY:Coffee and Canvas for Adults
DESCRIPTION:(This event is full. Keep watching for more great activities.) \nFollow local artist Linda Pieri as we create a new painting each month. \nRegistration for this program starts on Feb. 1.
URL:https://www.myepl.org/event/coffee-and-canvas-for-adults-40/
LOCATION:Downtown Library\, 300 S. Second St.\, Elkhart\, IN\, 46516\, United States
CATEGORIES:Adult Programs,Art
ATTACH;FMTTYPE=image/jpeg:https://www.myepl.org/wp-content/uploads/2025/12/20190223_090132-1.jpg
END:VEVENT
END:VCALENDAR