BEGIN:VCALENDAR
VERSION:2.0
PRODID:-//Elkhart Public Library - ECPv6.15.20//NONSGML v1.0//EN
CALSCALE:GREGORIAN
METHOD:PUBLISH
X-WR-CALNAME:Elkhart Public Library
X-ORIGINAL-URL:https://www.myepl.org
X-WR-CALDESC:Events for Elkhart Public Library
REFRESH-INTERVAL;VALUE=DURATION:PT1H
X-Robots-Tag:noindex
X-PUBLISHED-TTL:PT1H
BEGIN:VTIMEZONE
TZID:America/Indiana/Indianapolis
BEGIN:DAYLIGHT
TZOFFSETFROM:-0500
TZOFFSETTO:-0400
TZNAME:EDT
DTSTART:20230312T070000
END:DAYLIGHT
BEGIN:STANDARD
TZOFFSETFROM:-0400
TZOFFSETTO:-0500
TZNAME:EST
DTSTART:20231105T060000
END:STANDARD
BEGIN:DAYLIGHT
TZOFFSETFROM:-0500
TZOFFSETTO:-0400
TZNAME:EDT
DTSTART:20240310T070000
END:DAYLIGHT
BEGIN:STANDARD
TZOFFSETFROM:-0400
TZOFFSETTO:-0500
TZNAME:EST
DTSTART:20241103T060000
END:STANDARD
BEGIN:DAYLIGHT
TZOFFSETFROM:-0500
TZOFFSETTO:-0400
TZNAME:EDT
DTSTART:20250309T070000
END:DAYLIGHT
BEGIN:STANDARD
TZOFFSETFROM:-0400
TZOFFSETTO:-0500
TZNAME:EST
DTSTART:20251102T060000
END:STANDARD
END:VTIMEZONE
BEGIN:VEVENT
DTSTART;TZID=America/Indiana/Indianapolis:20241119T173000
DTEND;TZID=America/Indiana/Indianapolis:20241119T190000
DTSTAMP:20260423T185647
CREATED:20240108T195352Z
LAST-MODIFIED:20240710T135326Z
UID:41717-1732037400-1732042800@www.myepl.org
SUMMARY:Board of Trustees Meeting
DESCRIPTION:The Elkhart Public Library meets the third Tuesday of each month to discuss library business. Learn more about the board and upcoming meeting here.
URL:https://www.myepl.org/event/board-of-trustees-meeting-2024-11-19/
LOCATION:Cleveland Branch\, 53715 C.R. 1\, Elkhart\, IN\, 46514\, United States
CATEGORIES:Board Meetings
ATTACH;FMTTYPE=image/jpeg:https://www.myepl.org/wp-content/uploads/2021/05/downtown-library-exterior-1024x587-1.jpeg
END:VEVENT
BEGIN:VEVENT
DTSTART;TZID=America/Indiana/Indianapolis:20241120T180000
DTEND;TZID=America/Indiana/Indianapolis:20241120T190000
DTSTAMP:20260423T185647
CREATED:20230103T160729Z
LAST-MODIFIED:20230103T160729Z
UID:42413-1732125600-1732129200@www.myepl.org
SUMMARY:Friends of EPL Board Meeting
DESCRIPTION:The Friends of Elkhart Public Library Inc. board meets monthly on the third Wednesday. Regular business includes discussion of book sale events and the consideration of grant requests from library staff.
URL:https://www.myepl.org/event/friends-of-epl-board-meeting/2024-11-20/
LOCATION:Downtown Library\, 300 S. Second St.\, Elkhart\, IN\, 46516\, United States
CATEGORIES:Board Meetings
ATTACH;FMTTYPE=image/png:https://www.myepl.org/wp-content/uploads/2021/08/friends-300x276-1.png
END:VEVENT
END:VCALENDAR