BEGIN:VCALENDAR
VERSION:2.0
PRODID:-//Elkhart Public Library - ECPv6.15.20//NONSGML v1.0//EN
CALSCALE:GREGORIAN
METHOD:PUBLISH
X-ORIGINAL-URL:https://www.myepl.org
X-WR-CALDESC:Events for Elkhart Public Library
REFRESH-INTERVAL;VALUE=DURATION:PT1H
X-Robots-Tag:noindex
X-PUBLISHED-TTL:PT1H
BEGIN:VTIMEZONE
TZID:America/Indiana/Indianapolis
BEGIN:DAYLIGHT
TZOFFSETFROM:-0500
TZOFFSETTO:-0400
TZNAME:EDT
DTSTART:20240310T070000
END:DAYLIGHT
BEGIN:STANDARD
TZOFFSETFROM:-0400
TZOFFSETTO:-0500
TZNAME:EST
DTSTART:20241103T060000
END:STANDARD
BEGIN:DAYLIGHT
TZOFFSETFROM:-0500
TZOFFSETTO:-0400
TZNAME:EDT
DTSTART:20250309T070000
END:DAYLIGHT
BEGIN:STANDARD
TZOFFSETFROM:-0400
TZOFFSETTO:-0500
TZNAME:EST
DTSTART:20251102T060000
END:STANDARD
BEGIN:DAYLIGHT
TZOFFSETFROM:-0500
TZOFFSETTO:-0400
TZNAME:EDT
DTSTART:20260308T070000
END:DAYLIGHT
BEGIN:STANDARD
TZOFFSETFROM:-0400
TZOFFSETTO:-0500
TZNAME:EST
DTSTART:20261101T060000
END:STANDARD
BEGIN:DAYLIGHT
TZOFFSETFROM:-0500
TZOFFSETTO:-0400
TZNAME:EDT
DTSTART:20270314T070000
END:DAYLIGHT
BEGIN:STANDARD
TZOFFSETFROM:-0400
TZOFFSETTO:-0500
TZNAME:EST
DTSTART:20271107T060000
END:STANDARD
END:VTIMEZONE
BEGIN:VEVENT
DTSTART;TZID=America/Indiana/Indianapolis:20260121T173000
DTEND;TZID=America/Indiana/Indianapolis:20260121T183000
DTSTAMP:20260419T110214
CREATED:20241205T191710Z
LAST-MODIFIED:20250918T152731Z
UID:52062-1769016600-1769020200@www.myepl.org
SUMMARY:Around the Table Cookbook Club
DESCRIPTION:Try new recipes with others and find new cookbooks. This combination book discussion and potluck dinner will have everyone bring a dish around the theme to share. \nUpcoming themes:\nOct. – Haunted by pumpkins\nNov. – Pure “pie”-fection\nDec. – Gourmet gifts\nJan. – All-day breakfast
URL:https://www.myepl.org/event/around-the-table-cookbook-club/2026-01-21/
LOCATION:Downtown Library\, 300 S. Second St.\, Elkhart\, IN\, 46516\, United States
CATEGORIES:Book Discussion
ATTACH;FMTTYPE=image/png:https://www.myepl.org/wp-content/uploads/2024/12/Around-the-Table-Cookbook-Book-Club_Calendar.png
END:VEVENT
BEGIN:VEVENT
DTSTART;TZID=America/Indiana/Indianapolis:20260112T150000
DTEND;TZID=America/Indiana/Indianapolis:20260112T160000
DTSTAMP:20260419T110214
CREATED:20230109T210131Z
LAST-MODIFIED:20260316T135056Z
UID:53886-1768230000-1768233600@www.myepl.org
SUMMARY:Osolo Page Turners
DESCRIPTION:Join our monthly book discussions at the Osolo Branch. Upcoming titles:\n\n 	\n\n 	March 9 – Any book about Amelia Earhart\n 	April 13 – “The Clinic” by Cate Quinn\n 	May 11 – “Someone Knows” by Lisa Scottoline\n 	June 8 – “The Spectacular” by Fiona Davis\n 	July 13 – “My Friends” by Frederik Backman
URL:https://www.myepl.org/event/osolo-page-turners-23/2026-01-12/
LOCATION:Osolo Branch\, 3429 E. Bristol St.\, Elkhart\, IN\, 46516\, United States
CATEGORIES:Book Discussion
ATTACH;FMTTYPE=image/png:https://www.myepl.org/wp-content/uploads/2023/01/Osolo-Page-Turners-Calendar-01.png
END:VEVENT
BEGIN:VEVENT
DTSTART;TZID=America/Indiana/Indianapolis:20260110T130000
DTEND;TZID=America/Indiana/Indianapolis:20260110T140000
DTSTAMP:20260419T110214
CREATED:20250828T180627Z
LAST-MODIFIED:20251210T175842Z
UID:51362-1768050000-1768053600@www.myepl.org
SUMMARY:Dunlap Book Worms
DESCRIPTION:Join us on Saturdays monthly for a book discussion. Contact Sue Eller for a copy of the book. \nUpcoming books: \nDec. 13 – The 19th Christmas by James Patterson\nJan. 10 – “James” by Percival Everett\nFeb. 7 – “How the Penguins Saved Veronica” by Hazel Prior\nMarch 7 – “The Briar Club” by Kate Quinn \nApril 4 – “The Inheritance Games” by Jennifer Barnes\nMay 7 – “Lessons in Chemistry” by Bonnie Garmus\nJune 13 – “West with Giraffes” by Lynda Rutledge\nJuly 11 – “Trouble in Treewater” by John Chris\nAug. 8 – “The Little Prince” by Antoine de Saint-Exupéry\nSept. 5 – “The Frozen River” by Ariel Lawhon\nOct. 3 – “In Cold Blood” by Truman Capote”\nNov. 14 – “Bury My Heart at Wounded Knee” by Dee Brown\nDec. 12 – “Christmas Jars” by Jason F. Wright
URL:https://www.myepl.org/event/dunlap-book-worms-3/2026-01-10/
LOCATION:Dunlap Branch\, 58485 C.R. 13 East\, Elkhart\, IN\, 46516\, United States
CATEGORIES:Adult Programs,Book Discussion
ATTACH;FMTTYPE=image/png:https://www.myepl.org/wp-content/uploads/2021/11/Dunalp-Book-Worms-Calendar-01.png
END:VEVENT
BEGIN:VEVENT
DTSTART;TZID=America/Indiana/Indianapolis:20251217T173000
DTEND;TZID=America/Indiana/Indianapolis:20251217T183000
DTSTAMP:20260419T110214
CREATED:20241205T191710Z
LAST-MODIFIED:20250918T152731Z
UID:52061-1765992600-1765996200@www.myepl.org
SUMMARY:Around the Table Cookbook Club
DESCRIPTION:Try new recipes with others and find new cookbooks. This combination book discussion and potluck dinner will have everyone bring a dish around the theme to share. \nUpcoming themes:\nOct. – Haunted by pumpkins\nNov. – Pure “pie”-fection\nDec. – Gourmet gifts\nJan. – All-day breakfast
URL:https://www.myepl.org/event/around-the-table-cookbook-club/2025-12-17/
LOCATION:Downtown Library\, 300 S. Second St.\, Elkhart\, IN\, 46516\, United States
CATEGORIES:Book Discussion
ATTACH;FMTTYPE=image/png:https://www.myepl.org/wp-content/uploads/2024/12/Around-the-Table-Cookbook-Book-Club_Calendar.png
END:VEVENT
BEGIN:VEVENT
DTSTART;TZID=America/Indiana/Indianapolis:20251213T130000
DTEND;TZID=America/Indiana/Indianapolis:20251213T140000
DTSTAMP:20260419T110214
CREATED:20250828T180627Z
LAST-MODIFIED:20251210T175841Z
UID:51361-1765630800-1765634400@www.myepl.org
SUMMARY:Dunlap Book Worms
DESCRIPTION:Join us on Saturdays monthly for a book discussion. Contact Sue Eller for a copy of the book. \nUpcoming books: \nDec. 13 – The 19th Christmas by James Patterson\nJan. 10 – “James” by Percival Everett\nFeb. 7 – “How the Penguins Saved Veronica” by Hazel Prior\nMarch 7 – “The Briar Club” by Kate Quinn \nApril 4 – “The Inheritance Games” by Jennifer Barnes\nMay 7 – “Lessons in Chemistry” by Bonnie Garmus\nJune 13 – “West with Giraffes” by Lynda Rutledge\nJuly 11 – “Trouble in Treewater” by John Chris\nAug. 8 – “The Little Prince” by Antoine de Saint-Exupéry\nSept. 5 – “The Frozen River” by Ariel Lawhon\nOct. 3 – “In Cold Blood” by Truman Capote”\nNov. 14 – “Bury My Heart at Wounded Knee” by Dee Brown\nDec. 12 – “Christmas Jars” by Jason F. Wright
URL:https://www.myepl.org/event/dunlap-book-worms-3/2025-12-13/
LOCATION:Dunlap Branch\, 58485 C.R. 13 East\, Elkhart\, IN\, 46516\, United States
CATEGORIES:Adult Programs,Book Discussion
ATTACH;FMTTYPE=image/png:https://www.myepl.org/wp-content/uploads/2021/11/Dunalp-Book-Worms-Calendar-01.png
END:VEVENT
BEGIN:VEVENT
DTSTART;TZID=America/Indiana/Indianapolis:20251208T150000
DTEND;TZID=America/Indiana/Indianapolis:20251208T160000
DTSTAMP:20260419T110214
CREATED:20230109T210131Z
LAST-MODIFIED:20260316T135056Z
UID:47120-1765206000-1765209600@www.myepl.org
SUMMARY:Osolo Page Turners
DESCRIPTION:Join our monthly book discussions at the Osolo Branch. Upcoming titles:\n\n 	\n\n 	March 9 – Any book about Amelia Earhart\n 	April 13 – “The Clinic” by Cate Quinn\n 	May 11 – “Someone Knows” by Lisa Scottoline\n 	June 8 – “The Spectacular” by Fiona Davis\n 	July 13 – “My Friends” by Frederik Backman
URL:https://www.myepl.org/event/osolo-page-turners-23/2025-12-08/
LOCATION:Osolo Branch\, 3429 E. Bristol St.\, Elkhart\, IN\, 46516\, United States
CATEGORIES:Book Discussion
ATTACH;FMTTYPE=image/png:https://www.myepl.org/wp-content/uploads/2023/01/Osolo-Page-Turners-Calendar-01.png
END:VEVENT
BEGIN:VEVENT
DTSTART;TZID=America/Indiana/Indianapolis:20251119T173000
DTEND;TZID=America/Indiana/Indianapolis:20251119T183000
DTSTAMP:20260419T110214
CREATED:20241205T191710Z
LAST-MODIFIED:20250918T152731Z
UID:52060-1763573400-1763577000@www.myepl.org
SUMMARY:Around the Table Cookbook Club
DESCRIPTION:Try new recipes with others and find new cookbooks. This combination book discussion and potluck dinner will have everyone bring a dish around the theme to share. \nUpcoming themes:\nOct. – Haunted by pumpkins\nNov. – Pure “pie”-fection\nDec. – Gourmet gifts\nJan. – All-day breakfast
URL:https://www.myepl.org/event/around-the-table-cookbook-club/2025-11-19/
LOCATION:Downtown Library\, 300 S. Second St.\, Elkhart\, IN\, 46516\, United States
CATEGORIES:Book Discussion
ATTACH;FMTTYPE=image/png:https://www.myepl.org/wp-content/uploads/2024/12/Around-the-Table-Cookbook-Book-Club_Calendar.png
END:VEVENT
BEGIN:VEVENT
DTSTART;TZID=America/Indiana/Indianapolis:20251110T150000
DTEND;TZID=America/Indiana/Indianapolis:20251110T160000
DTSTAMP:20260419T110214
CREATED:20230109T210131Z
LAST-MODIFIED:20260316T135056Z
UID:47119-1762786800-1762790400@www.myepl.org
SUMMARY:Osolo Page Turners
DESCRIPTION:Join our monthly book discussions at the Osolo Branch. Upcoming titles:\n\n 	\n\n 	March 9 – Any book about Amelia Earhart\n 	April 13 – “The Clinic” by Cate Quinn\n 	May 11 – “Someone Knows” by Lisa Scottoline\n 	June 8 – “The Spectacular” by Fiona Davis\n 	July 13 – “My Friends” by Frederik Backman
URL:https://www.myepl.org/event/osolo-page-turners-23/2025-11-10/
LOCATION:Osolo Branch\, 3429 E. Bristol St.\, Elkhart\, IN\, 46516\, United States
CATEGORIES:Book Discussion
ATTACH;FMTTYPE=image/png:https://www.myepl.org/wp-content/uploads/2023/01/Osolo-Page-Turners-Calendar-01.png
END:VEVENT
BEGIN:VEVENT
DTSTART;TZID=America/Indiana/Indianapolis:20251101T130000
DTEND;TZID=America/Indiana/Indianapolis:20251101T140000
DTSTAMP:20260419T110214
CREATED:20250828T180627Z
LAST-MODIFIED:20251210T175841Z
UID:51360-1762002000-1762005600@www.myepl.org
SUMMARY:Dunlap Book Worms
DESCRIPTION:Join us on Saturdays monthly for a book discussion. Contact Sue Eller for a copy of the book. \nUpcoming books: \nDec. 13 – The 19th Christmas by James Patterson\nJan. 10 – “James” by Percival Everett\nFeb. 7 – “How the Penguins Saved Veronica” by Hazel Prior\nMarch 7 – “The Briar Club” by Kate Quinn \nApril 4 – “The Inheritance Games” by Jennifer Barnes\nMay 7 – “Lessons in Chemistry” by Bonnie Garmus\nJune 13 – “West with Giraffes” by Lynda Rutledge\nJuly 11 – “Trouble in Treewater” by John Chris\nAug. 8 – “The Little Prince” by Antoine de Saint-Exupéry\nSept. 5 – “The Frozen River” by Ariel Lawhon\nOct. 3 – “In Cold Blood” by Truman Capote”\nNov. 14 – “Bury My Heart at Wounded Knee” by Dee Brown\nDec. 12 – “Christmas Jars” by Jason F. Wright
URL:https://www.myepl.org/event/dunlap-book-worms-3/2025-11-01/
LOCATION:Dunlap Branch\, 58485 C.R. 13 East\, Elkhart\, IN\, 46516\, United States
CATEGORIES:Adult Programs,Book Discussion
ATTACH;FMTTYPE=image/png:https://www.myepl.org/wp-content/uploads/2021/11/Dunalp-Book-Worms-Calendar-01.png
END:VEVENT
BEGIN:VEVENT
DTSTART;TZID=America/Indiana/Indianapolis:20251015T173000
DTEND;TZID=America/Indiana/Indianapolis:20251015T183000
DTSTAMP:20260419T110214
CREATED:20241205T191710Z
LAST-MODIFIED:20250918T152730Z
UID:49980-1760549400-1760553000@www.myepl.org
SUMMARY:Around the Table Cookbook Club
DESCRIPTION:Try new recipes with others and find new cookbooks. This combination book discussion and potluck dinner will have everyone bring a dish around the theme to share. \nUpcoming themes:\nOct. – Haunted by pumpkins\nNov. – Pure “pie”-fection\nDec. – Gourmet gifts\nJan. – All-day breakfast
URL:https://www.myepl.org/event/around-the-table-cookbook-club/2025-10-15/
LOCATION:Downtown Library\, 300 S. Second St.\, Elkhart\, IN\, 46516\, United States
CATEGORIES:Book Discussion
ATTACH;FMTTYPE=image/png:https://www.myepl.org/wp-content/uploads/2024/12/Around-the-Table-Cookbook-Book-Club_Calendar.png
END:VEVENT
BEGIN:VEVENT
DTSTART;TZID=America/Indiana/Indianapolis:20251013T150000
DTEND;TZID=America/Indiana/Indianapolis:20251013T160000
DTSTAMP:20260419T110214
CREATED:20230109T210131Z
LAST-MODIFIED:20260316T135056Z
UID:47118-1760367600-1760371200@www.myepl.org
SUMMARY:Osolo Page Turners
DESCRIPTION:Join our monthly book discussions at the Osolo Branch. Upcoming titles:\n\n 	\n\n 	March 9 – Any book about Amelia Earhart\n 	April 13 – “The Clinic” by Cate Quinn\n 	May 11 – “Someone Knows” by Lisa Scottoline\n 	June 8 – “The Spectacular” by Fiona Davis\n 	July 13 – “My Friends” by Frederik Backman
URL:https://www.myepl.org/event/osolo-page-turners-23/2025-10-13/
LOCATION:Osolo Branch\, 3429 E. Bristol St.\, Elkhart\, IN\, 46516\, United States
CATEGORIES:Book Discussion
ATTACH;FMTTYPE=image/png:https://www.myepl.org/wp-content/uploads/2023/01/Osolo-Page-Turners-Calendar-01.png
END:VEVENT
BEGIN:VEVENT
DTSTART;TZID=America/Indiana/Indianapolis:20251004T130000
DTEND;TZID=America/Indiana/Indianapolis:20251004T140000
DTSTAMP:20260419T110214
CREATED:20250828T175725Z
LAST-MODIFIED:20250828T181227Z
UID:51358-1759582800-1759586400@www.myepl.org
SUMMARY:Dunlap Book Worms
DESCRIPTION:Join our friendly monthly book discussion and enjoy a diverse range of books across genres. This month we’re discussing “The Thursday Murder Club” by Richard Osman. Contact Sue Eller for a copy of the book. \nUpcoming books: \nNov. 1 – “Disarmed: The radical life and legacy of Michael ‘MJ’ Sharp” by Marshall V. King\nDec. 13 – “The Christmas Cookie Club” by Ann Pearlman
URL:https://www.myepl.org/event/dunlap-book-worms-2/
LOCATION:Dunlap Branch\, 58485 C.R. 13 East\, Elkhart\, IN\, 46516\, United States
CATEGORIES:Adult Programs,Book Discussion
ATTACH;FMTTYPE=image/png:https://www.myepl.org/wp-content/uploads/2021/11/Dunalp-Book-Worms-Calendar-01.png
END:VEVENT
BEGIN:VEVENT
DTSTART;TZID=America/Indiana/Indianapolis:20250917T173000
DTEND;TZID=America/Indiana/Indianapolis:20250917T183000
DTSTAMP:20260419T110214
CREATED:20241205T191710Z
LAST-MODIFIED:20250918T152730Z
UID:46889-1758130200-1758133800@www.myepl.org
SUMMARY:Around the Table Cookbook Club
DESCRIPTION:Try new recipes with others and find new cookbooks. This combination book discussion and potluck dinner will have everyone bring a dish around the theme to share. \nUpcoming themes:\nOct. – Haunted by pumpkins\nNov. – Pure “pie”-fection\nDec. – Gourmet gifts\nJan. – All-day breakfast
URL:https://www.myepl.org/event/around-the-table-cookbook-club/2025-09-17/
LOCATION:Downtown Library\, 300 S. Second St.\, Elkhart\, IN\, 46516\, United States
CATEGORIES:Book Discussion
ATTACH;FMTTYPE=image/png:https://www.myepl.org/wp-content/uploads/2024/12/Around-the-Table-Cookbook-Book-Club_Calendar.png
END:VEVENT
BEGIN:VEVENT
DTSTART;TZID=America/Indiana/Indianapolis:20250908T181500
DTEND;TZID=America/Indiana/Indianapolis:20250908T190000
DTSTAMP:20260419T110214
CREATED:20250828T175352Z
LAST-MODIFIED:20250828T175352Z
UID:51356-1757355300-1757358000@www.myepl.org
SUMMARY:Dunlap Book Worms
DESCRIPTION:Join a lively and friendly monthly book discussion. This month we’re discussing “Horse” by Geraldine Brooks.
URL:https://www.myepl.org/event/dunlap-book-worms/
LOCATION:Dunlap Branch\, 58485 C.R. 13 East\, Elkhart\, IN\, 46516\, United States
CATEGORIES:Adult Programs,Book Discussion
ATTACH;FMTTYPE=image/png:https://www.myepl.org/wp-content/uploads/2021/11/Dunalp-Book-Worms-Calendar-01.png
END:VEVENT
BEGIN:VEVENT
DTSTART;TZID=America/Indiana/Indianapolis:20250908T150000
DTEND;TZID=America/Indiana/Indianapolis:20250908T160000
DTSTAMP:20260419T110214
CREATED:20230109T210131Z
LAST-MODIFIED:20260316T135056Z
UID:47117-1757343600-1757347200@www.myepl.org
SUMMARY:Osolo Page Turners
DESCRIPTION:Join our monthly book discussions at the Osolo Branch. Upcoming titles:\n\n 	\n\n 	March 9 – Any book about Amelia Earhart\n 	April 13 – “The Clinic” by Cate Quinn\n 	May 11 – “Someone Knows” by Lisa Scottoline\n 	June 8 – “The Spectacular” by Fiona Davis\n 	July 13 – “My Friends” by Frederik Backman
URL:https://www.myepl.org/event/osolo-page-turners-23/2025-09-08/
LOCATION:Osolo Branch\, 3429 E. Bristol St.\, Elkhart\, IN\, 46516\, United States
CATEGORIES:Book Discussion
ATTACH;FMTTYPE=image/png:https://www.myepl.org/wp-content/uploads/2023/01/Osolo-Page-Turners-Calendar-01.png
END:VEVENT
BEGIN:VEVENT
DTSTART;TZID=America/Indiana/Indianapolis:20250811T150000
DTEND;TZID=America/Indiana/Indianapolis:20250811T160000
DTSTAMP:20260419T110214
CREATED:20230109T210131Z
LAST-MODIFIED:20260316T135055Z
UID:47116-1754924400-1754928000@www.myepl.org
SUMMARY:Osolo Page Turners
DESCRIPTION:Join our monthly book discussions at the Osolo Branch. Upcoming titles:\n\n 	\n\n 	March 9 – Any book about Amelia Earhart\n 	April 13 – “The Clinic” by Cate Quinn\n 	May 11 – “Someone Knows” by Lisa Scottoline\n 	June 8 – “The Spectacular” by Fiona Davis\n 	July 13 – “My Friends” by Frederik Backman
URL:https://www.myepl.org/event/osolo-page-turners-23/2025-08-11/
LOCATION:Osolo Branch\, 3429 E. Bristol St.\, Elkhart\, IN\, 46516\, United States
CATEGORIES:Book Discussion
ATTACH;FMTTYPE=image/png:https://www.myepl.org/wp-content/uploads/2023/01/Osolo-Page-Turners-Calendar-01.png
END:VEVENT
BEGIN:VEVENT
DTSTART;TZID=America/Indiana/Indianapolis:20250804T181500
DTEND;TZID=America/Indiana/Indianapolis:20250804T190000
DTSTAMP:20260419T110214
CREATED:20241202T212852Z
LAST-MODIFIED:20241202T212852Z
UID:51355-1754331300-1754334000@www.myepl.org
SUMMARY:Dunlap Bookworms
DESCRIPTION:Join us for a fun and lively conversation about a different book each month. We read a variety of genres to have exposure to a variety of authors.
URL:https://www.myepl.org/event/dunlap-bookworms-3/2025-08-04/
LOCATION:Dunlap Branch\, 58485 C.R. 13 East\, Elkhart\, IN\, 46516\, United States
CATEGORIES:Book Discussion
ATTACH;FMTTYPE=image/png:https://www.myepl.org/wp-content/uploads/2021/11/Dunalp-Book-Worms-Calendar-01.png
END:VEVENT
BEGIN:VEVENT
DTSTART;TZID=America/Indiana/Indianapolis:20250714T150000
DTEND;TZID=America/Indiana/Indianapolis:20250714T160000
DTSTAMP:20260419T110214
CREATED:20230109T210131Z
LAST-MODIFIED:20260316T135055Z
UID:47114-1752505200-1752508800@www.myepl.org
SUMMARY:Osolo Page Turners
DESCRIPTION:Join our monthly book discussions at the Osolo Branch. Upcoming titles:\n\n 	\n\n 	March 9 – Any book about Amelia Earhart\n 	April 13 – “The Clinic” by Cate Quinn\n 	May 11 – “Someone Knows” by Lisa Scottoline\n 	June 8 – “The Spectacular” by Fiona Davis\n 	July 13 – “My Friends” by Frederik Backman
URL:https://www.myepl.org/event/osolo-page-turners-23/2025-07-14/
LOCATION:Osolo Branch\, 3429 E. Bristol St.\, Elkhart\, IN\, 46516\, United States
CATEGORIES:Book Discussion
ATTACH;FMTTYPE=image/png:https://www.myepl.org/wp-content/uploads/2023/01/Osolo-Page-Turners-Calendar-01.png
END:VEVENT
BEGIN:VEVENT
DTSTART;TZID=America/Indiana/Indianapolis:20250711T130000
DTEND;TZID=America/Indiana/Indianapolis:20250711T150000
DTSTAMP:20260419T110214
CREATED:20240108T202605Z
LAST-MODIFIED:20250325T144132Z
UID:48924-1752238800-1752246000@www.myepl.org
SUMMARY:Ox Bow Books and Boots
DESCRIPTION:Miss Debbie from the Dunlap Branch and Miss Krista\, an interpretive naturalist manager with the Elkhart County Parks\, lead this book discussion at Ox Bow County Park’s Cottonwood Shelter. Books and Boots is for the whole family\, but specifically geared to ages 8-12. Dress for the weather. In April\, this club moves to second Fridays. \n\nApril 11 – “Better Together (Heartwood Hotel)” by Kallie George\nMay 9 – “The Sign of the Beaver” by Elizabeth George Speare\nJune 13 – “Rascal” by Sterling North\nJuly 11 – “Home Again (Heartwood Hotel)” by Kallie George
URL:https://www.myepl.org/event/books-and-boots-5/2025-07-11/
LOCATION:Dunlap Branch\, 58485 C.R. 13 East\, Elkhart\, IN\, 46516\, United States
CATEGORIES:Book Discussion
ATTACH;FMTTYPE=image/png:https://www.myepl.org/wp-content/uploads/2022/02/Calender-Books-and-Boots.png
END:VEVENT
BEGIN:VEVENT
DTSTART;TZID=America/Indiana/Indianapolis:20250707T181500
DTEND;TZID=America/Indiana/Indianapolis:20250707T190000
DTSTAMP:20260419T110214
CREATED:20241202T212852Z
LAST-MODIFIED:20241202T212852Z
UID:51354-1751912100-1751914800@www.myepl.org
SUMMARY:Dunlap Bookworms
DESCRIPTION:Join us for a fun and lively conversation about a different book each month. We read a variety of genres to have exposure to a variety of authors.
URL:https://www.myepl.org/event/dunlap-bookworms-3/2025-07-07/
LOCATION:Dunlap Branch\, 58485 C.R. 13 East\, Elkhart\, IN\, 46516\, United States
CATEGORIES:Book Discussion
ATTACH;FMTTYPE=image/png:https://www.myepl.org/wp-content/uploads/2021/11/Dunalp-Book-Worms-Calendar-01.png
END:VEVENT
BEGIN:VEVENT
DTSTART;TZID=America/Indiana/Indianapolis:20250613T130000
DTEND;TZID=America/Indiana/Indianapolis:20250613T150000
DTSTAMP:20260419T110214
CREATED:20240108T202605Z
LAST-MODIFIED:20250325T144131Z
UID:48923-1749819600-1749826800@www.myepl.org
SUMMARY:Ox Bow Books and Boots
DESCRIPTION:Miss Debbie from the Dunlap Branch and Miss Krista\, an interpretive naturalist manager with the Elkhart County Parks\, lead this book discussion at Ox Bow County Park’s Cottonwood Shelter. Books and Boots is for the whole family\, but specifically geared to ages 8-12. Dress for the weather. In April\, this club moves to second Fridays. \n\nApril 11 – “Better Together (Heartwood Hotel)” by Kallie George\nMay 9 – “The Sign of the Beaver” by Elizabeth George Speare\nJune 13 – “Rascal” by Sterling North\nJuly 11 – “Home Again (Heartwood Hotel)” by Kallie George
URL:https://www.myepl.org/event/books-and-boots-5/2025-06-13/
LOCATION:Dunlap Branch\, 58485 C.R. 13 East\, Elkhart\, IN\, 46516\, United States
CATEGORIES:Book Discussion
ATTACH;FMTTYPE=image/png:https://www.myepl.org/wp-content/uploads/2022/02/Calender-Books-and-Boots.png
END:VEVENT
BEGIN:VEVENT
DTSTART;TZID=America/Indiana/Indianapolis:20250609T150000
DTEND;TZID=America/Indiana/Indianapolis:20250609T160000
DTSTAMP:20260419T110214
CREATED:20230109T210131Z
LAST-MODIFIED:20260316T135055Z
UID:47113-1749481200-1749484800@www.myepl.org
SUMMARY:Osolo Page Turners
DESCRIPTION:Join our monthly book discussions at the Osolo Branch. Upcoming titles:\n\n 	\n\n 	March 9 – Any book about Amelia Earhart\n 	April 13 – “The Clinic” by Cate Quinn\n 	May 11 – “Someone Knows” by Lisa Scottoline\n 	June 8 – “The Spectacular” by Fiona Davis\n 	July 13 – “My Friends” by Frederik Backman
URL:https://www.myepl.org/event/osolo-page-turners-23/2025-06-09/
LOCATION:Osolo Branch\, 3429 E. Bristol St.\, Elkhart\, IN\, 46516\, United States
CATEGORIES:Book Discussion
ATTACH;FMTTYPE=image/png:https://www.myepl.org/wp-content/uploads/2023/01/Osolo-Page-Turners-Calendar-01.png
END:VEVENT
BEGIN:VEVENT
DTSTART;TZID=America/Indiana/Indianapolis:20250602T181500
DTEND;TZID=America/Indiana/Indianapolis:20250602T190000
DTSTAMP:20260419T110214
CREATED:20241202T212852Z
LAST-MODIFIED:20250828T175213Z
UID:46843-1748888100-1748890800@www.myepl.org
SUMMARY:Dunlap Bookworms
DESCRIPTION:Join us for a fun and lively conversation about a different book each month. We read a variety of genres to have exposure to a variety of authors.
URL:https://www.myepl.org/event/dunlap-bookworms-3/2025-06-02/
LOCATION:Dunlap Branch\, 58485 C.R. 13 East\, Elkhart\, IN\, 46516\, United States
CATEGORIES:Book Discussion
ATTACH;FMTTYPE=image/png:https://www.myepl.org/wp-content/uploads/2021/11/Dunalp-Book-Worms-Calendar-01.png
END:VEVENT
BEGIN:VEVENT
DTSTART;TZID=America/Indiana/Indianapolis:20250512T150000
DTEND;TZID=America/Indiana/Indianapolis:20250512T160000
DTSTAMP:20260419T110214
CREATED:20230109T210131Z
LAST-MODIFIED:20260316T135055Z
UID:47112-1747062000-1747065600@www.myepl.org
SUMMARY:Osolo Page Turners
DESCRIPTION:Join our monthly book discussions at the Osolo Branch. Upcoming titles:\n\n 	\n\n 	March 9 – Any book about Amelia Earhart\n 	April 13 – “The Clinic” by Cate Quinn\n 	May 11 – “Someone Knows” by Lisa Scottoline\n 	June 8 – “The Spectacular” by Fiona Davis\n 	July 13 – “My Friends” by Frederik Backman
URL:https://www.myepl.org/event/osolo-page-turners-23/2025-05-12/
LOCATION:Osolo Branch\, 3429 E. Bristol St.\, Elkhart\, IN\, 46516\, United States
CATEGORIES:Book Discussion
ATTACH;FMTTYPE=image/png:https://www.myepl.org/wp-content/uploads/2023/01/Osolo-Page-Turners-Calendar-01.png
END:VEVENT
BEGIN:VEVENT
DTSTART;TZID=America/Indiana/Indianapolis:20250509T130000
DTEND;TZID=America/Indiana/Indianapolis:20250509T150000
DTSTAMP:20260419T110214
CREATED:20240108T202605Z
LAST-MODIFIED:20250325T144131Z
UID:48922-1746795600-1746802800@www.myepl.org
SUMMARY:Ox Bow Books and Boots
DESCRIPTION:Miss Debbie from the Dunlap Branch and Miss Krista\, an interpretive naturalist manager with the Elkhart County Parks\, lead this book discussion at Ox Bow County Park’s Cottonwood Shelter. Books and Boots is for the whole family\, but specifically geared to ages 8-12. Dress for the weather. In April\, this club moves to second Fridays. \n\nApril 11 – “Better Together (Heartwood Hotel)” by Kallie George\nMay 9 – “The Sign of the Beaver” by Elizabeth George Speare\nJune 13 – “Rascal” by Sterling North\nJuly 11 – “Home Again (Heartwood Hotel)” by Kallie George
URL:https://www.myepl.org/event/books-and-boots-5/2025-05-09/
LOCATION:Dunlap Branch\, 58485 C.R. 13 East\, Elkhart\, IN\, 46516\, United States
CATEGORIES:Book Discussion
ATTACH;FMTTYPE=image/png:https://www.myepl.org/wp-content/uploads/2022/02/Calender-Books-and-Boots.png
END:VEVENT
BEGIN:VEVENT
DTSTART;TZID=America/Indiana/Indianapolis:20250505T181500
DTEND;TZID=America/Indiana/Indianapolis:20250505T190000
DTSTAMP:20260419T110214
CREATED:20241202T212852Z
LAST-MODIFIED:20250505T141853Z
UID:46842-1746468900-1746471600@www.myepl.org
SUMMARY:RESCHEDULED - Dunlap Bookworms
DESCRIPTION:This month’s book discussion is rescheduled for Monday\, May 12.  \nJoin us for a fun and lively conversation about a different book each month. We read a variety of genres to have exposure to a variety of authors.
URL:https://www.myepl.org/event/dunlap-bookworms-3-2025-05-05/
LOCATION:Dunlap Branch\, 58485 C.R. 13 East\, Elkhart\, IN\, 46516\, United States
CATEGORIES:Book Discussion
ATTACH;FMTTYPE=image/png:https://www.myepl.org/wp-content/uploads/2021/11/Dunalp-Book-Worms-Calendar-01.png
END:VEVENT
BEGIN:VEVENT
DTSTART;TZID=America/Indiana/Indianapolis:20250414T150000
DTEND;TZID=America/Indiana/Indianapolis:20250414T160000
DTSTAMP:20260419T110214
CREATED:20230109T210131Z
LAST-MODIFIED:20260316T135055Z
UID:47111-1744642800-1744646400@www.myepl.org
SUMMARY:Osolo Page Turners
DESCRIPTION:Join our monthly book discussions at the Osolo Branch. Upcoming titles:\n\n 	\n\n 	March 9 – Any book about Amelia Earhart\n 	April 13 – “The Clinic” by Cate Quinn\n 	May 11 – “Someone Knows” by Lisa Scottoline\n 	June 8 – “The Spectacular” by Fiona Davis\n 	July 13 – “My Friends” by Frederik Backman
URL:https://www.myepl.org/event/osolo-page-turners-23/2025-04-14/
LOCATION:Osolo Branch\, 3429 E. Bristol St.\, Elkhart\, IN\, 46516\, United States
CATEGORIES:Book Discussion
ATTACH;FMTTYPE=image/png:https://www.myepl.org/wp-content/uploads/2023/01/Osolo-Page-Turners-Calendar-01.png
END:VEVENT
BEGIN:VEVENT
DTSTART;TZID=America/Indiana/Indianapolis:20250411T130000
DTEND;TZID=America/Indiana/Indianapolis:20250411T150000
DTSTAMP:20260419T110214
CREATED:20240108T202605Z
LAST-MODIFIED:20250325T144131Z
UID:41731-1744376400-1744383600@www.myepl.org
SUMMARY:Ox Bow Books and Boots
DESCRIPTION:Miss Debbie from the Dunlap Branch and Miss Krista\, an interpretive naturalist manager with the Elkhart County Parks\, lead this book discussion at Ox Bow County Park’s Cottonwood Shelter. Books and Boots is for the whole family\, but specifically geared to ages 8-12. Dress for the weather. In April\, this club moves to second Fridays. \n\nApril 11 – “Better Together (Heartwood Hotel)” by Kallie George\nMay 9 – “The Sign of the Beaver” by Elizabeth George Speare\nJune 13 – “Rascal” by Sterling North\nJuly 11 – “Home Again (Heartwood Hotel)” by Kallie George
URL:https://www.myepl.org/event/books-and-boots-5/2025-04-11/
LOCATION:Dunlap Branch\, 58485 C.R. 13 East\, Elkhart\, IN\, 46516\, United States
CATEGORIES:Book Discussion
ATTACH;FMTTYPE=image/png:https://www.myepl.org/wp-content/uploads/2022/02/Calender-Books-and-Boots.png
END:VEVENT
BEGIN:VEVENT
DTSTART;TZID=America/Indiana/Indianapolis:20250407T181500
DTEND;TZID=America/Indiana/Indianapolis:20250407T190000
DTSTAMP:20260419T110214
CREATED:20241202T212852Z
LAST-MODIFIED:20250828T175213Z
UID:46841-1744049700-1744052400@www.myepl.org
SUMMARY:Dunlap Bookworms
DESCRIPTION:Join us for a fun and lively conversation about a different book each month. We read a variety of genres to have exposure to a variety of authors.
URL:https://www.myepl.org/event/dunlap-bookworms-3/2025-04-07/
LOCATION:Dunlap Branch\, 58485 C.R. 13 East\, Elkhart\, IN\, 46516\, United States
CATEGORIES:Book Discussion
ATTACH;FMTTYPE=image/png:https://www.myepl.org/wp-content/uploads/2021/11/Dunalp-Book-Worms-Calendar-01.png
END:VEVENT
BEGIN:VEVENT
DTSTART;TZID=America/Indiana/Indianapolis:20250310T181500
DTEND;TZID=America/Indiana/Indianapolis:20250310T190000
DTSTAMP:20260419T110214
CREATED:20241202T212852Z
LAST-MODIFIED:20250306T190537Z
UID:46840-1741630500-1741633200@www.myepl.org
SUMMARY:Dunlap Bookworms
DESCRIPTION:Join us for a fun and lively conversation about a different book each month. We read a variety of genres to have exposure to a variety of authors.
URL:https://www.myepl.org/event/dunlap-bookworms-3-2025-03-03/
LOCATION:Dunlap Branch\, 58485 C.R. 13 East\, Elkhart\, IN\, 46516\, United States
CATEGORIES:Book Discussion
ATTACH;FMTTYPE=image/png:https://www.myepl.org/wp-content/uploads/2021/11/Dunalp-Book-Worms-Calendar-01.png
END:VEVENT
END:VCALENDAR