BEGIN:VCALENDAR
VERSION:2.0
PRODID:-//Elkhart Public Library - ECPv6.15.20//NONSGML v1.0//EN
CALSCALE:GREGORIAN
METHOD:PUBLISH
X-WR-CALNAME:Elkhart Public Library
X-ORIGINAL-URL:https://www.myepl.org
X-WR-CALDESC:Events for Elkhart Public Library
REFRESH-INTERVAL;VALUE=DURATION:PT1H
X-Robots-Tag:noindex
X-PUBLISHED-TTL:PT1H
BEGIN:VTIMEZONE
TZID:America/Indiana/Indianapolis
BEGIN:DAYLIGHT
TZOFFSETFROM:-0500
TZOFFSETTO:-0400
TZNAME:EDT
DTSTART:20220313T070000
END:DAYLIGHT
BEGIN:STANDARD
TZOFFSETFROM:-0400
TZOFFSETTO:-0500
TZNAME:EST
DTSTART:20221106T060000
END:STANDARD
BEGIN:DAYLIGHT
TZOFFSETFROM:-0500
TZOFFSETTO:-0400
TZNAME:EDT
DTSTART:20230312T070000
END:DAYLIGHT
BEGIN:STANDARD
TZOFFSETFROM:-0400
TZOFFSETTO:-0500
TZNAME:EST
DTSTART:20231105T060000
END:STANDARD
BEGIN:DAYLIGHT
TZOFFSETFROM:-0500
TZOFFSETTO:-0400
TZNAME:EDT
DTSTART:20240310T070000
END:DAYLIGHT
BEGIN:STANDARD
TZOFFSETFROM:-0400
TZOFFSETTO:-0500
TZNAME:EST
DTSTART:20241103T060000
END:STANDARD
END:VTIMEZONE
BEGIN:VEVENT
DTSTART;TZID=America/Indiana/Indianapolis:20230314T180000
DTEND;TZID=America/Indiana/Indianapolis:20230314T190000
DTSTAMP:20260420T022136
CREATED:20221005T145536Z
LAST-MODIFIED:20230105T202133Z
UID:33072-1678816800-1678820400@www.myepl.org
SUMMARY:Romance Readers Roundup
DESCRIPTION:Romance readers\, hear the latest book releases and discuss what you are reading and what you’re looking forward to. Get on hold lists first and find your next favorite romance author or book. \nWe will meet virtually. Register below to receive the Zoom link.
URL:https://www.myepl.org/event/romance-readers-roundup-2023-03-14/
LOCATION:IN
CATEGORIES:Book Discussion
END:VEVENT
BEGIN:VEVENT
DTSTART;TZID=America/Indiana/Indianapolis:20230214T180000
DTEND;TZID=America/Indiana/Indianapolis:20230214T190000
DTSTAMP:20260420T022136
CREATED:20221005T145536Z
LAST-MODIFIED:20230214T151343Z
UID:33071-1676397600-1676401200@www.myepl.org
SUMMARY:Romance Readers Roundup
DESCRIPTION:Romance readers\, hear the latest book releases and discuss what you are reading and what you’re looking forward to. Get on hold lists first and find your next favorite romance author or book. \nWe will meet virtually. Register below to receive the Zoom link.
URL:https://www.myepl.org/event/romance-readers-roundup-2023-02-14/
LOCATION:IN
CATEGORIES:Book Discussion
END:VEVENT
END:VCALENDAR