BEGIN:VCALENDAR
VERSION:2.0
PRODID:-//Elkhart Public Library - ECPv6.15.20//NONSGML v1.0//EN
CALSCALE:GREGORIAN
METHOD:PUBLISH
X-ORIGINAL-URL:https://www.myepl.org
X-WR-CALDESC:Events for Elkhart Public Library
REFRESH-INTERVAL;VALUE=DURATION:PT1H
X-Robots-Tag:noindex
X-PUBLISHED-TTL:PT1H
BEGIN:VTIMEZONE
TZID:America/Indiana/Indianapolis
BEGIN:DAYLIGHT
TZOFFSETFROM:-0500
TZOFFSETTO:-0400
TZNAME:EDT
DTSTART:20220313T070000
END:DAYLIGHT
BEGIN:STANDARD
TZOFFSETFROM:-0400
TZOFFSETTO:-0500
TZNAME:EST
DTSTART:20221106T060000
END:STANDARD
BEGIN:DAYLIGHT
TZOFFSETFROM:-0500
TZOFFSETTO:-0400
TZNAME:EDT
DTSTART:20230312T070000
END:DAYLIGHT
BEGIN:STANDARD
TZOFFSETFROM:-0400
TZOFFSETTO:-0500
TZNAME:EST
DTSTART:20231105T060000
END:STANDARD
BEGIN:DAYLIGHT
TZOFFSETFROM:-0500
TZOFFSETTO:-0400
TZNAME:EDT
DTSTART:20240310T070000
END:DAYLIGHT
BEGIN:STANDARD
TZOFFSETFROM:-0400
TZOFFSETTO:-0500
TZNAME:EST
DTSTART:20241103T060000
END:STANDARD
BEGIN:DAYLIGHT
TZOFFSETFROM:-0500
TZOFFSETTO:-0400
TZNAME:EDT
DTSTART:20250309T070000
END:DAYLIGHT
BEGIN:STANDARD
TZOFFSETFROM:-0400
TZOFFSETTO:-0500
TZNAME:EST
DTSTART:20251102T060000
END:STANDARD
BEGIN:DAYLIGHT
TZOFFSETFROM:-0500
TZOFFSETTO:-0400
TZNAME:EDT
DTSTART:20260308T070000
END:DAYLIGHT
BEGIN:STANDARD
TZOFFSETFROM:-0400
TZOFFSETTO:-0500
TZNAME:EST
DTSTART:20261101T060000
END:STANDARD
END:VTIMEZONE
BEGIN:VEVENT
DTSTART;TZID=America/Indiana/Indianapolis:20250201T090000
DTEND;TZID=America/Indiana/Indianapolis:20250201T143000
DTSTAMP:20260419T175159
CREATED:20240108T195042Z
LAST-MODIFIED:20240108T195042Z
UID:47146-1738400400-1738420200@www.myepl.org
SUMMARY:Friends of EPL Book Sale
DESCRIPTION:Join the Friends of Elkhart Public Library for the monthly used book sale on the first Saturday of each month. Specials are announced on Facebook.
URL:https://www.myepl.org/event/friends-of-epl-book-sale/2025-02-01/
LOCATION:Downtown Library\, 300 S. Second St.\, Elkhart\, IN\, 46516\, United States
CATEGORIES:Book Sale
ATTACH;FMTTYPE=image/png:https://www.myepl.org/wp-content/uploads/2021/08/friends-300x276-1.png
END:VEVENT
BEGIN:VEVENT
DTSTART;TZID=America/Indiana/Indianapolis:20250104T090000
DTEND;TZID=America/Indiana/Indianapolis:20250104T143000
DTSTAMP:20260419T175159
CREATED:20240108T195042Z
LAST-MODIFIED:20240108T195042Z
UID:47145-1735981200-1736001000@www.myepl.org
SUMMARY:Friends of EPL Book Sale
DESCRIPTION:Join the Friends of Elkhart Public Library for the monthly used book sale on the first Saturday of each month. Specials are announced on Facebook.
URL:https://www.myepl.org/event/friends-of-epl-book-sale/2025-01-04/
LOCATION:Downtown Library\, 300 S. Second St.\, Elkhart\, IN\, 46516\, United States
CATEGORIES:Book Sale
ATTACH;FMTTYPE=image/png:https://www.myepl.org/wp-content/uploads/2021/08/friends-300x276-1.png
END:VEVENT
BEGIN:VEVENT
DTSTART;TZID=America/Indiana/Indianapolis:20241207T090000
DTEND;TZID=America/Indiana/Indianapolis:20241207T143000
DTSTAMP:20260419T175159
CREATED:20240108T195042Z
LAST-MODIFIED:20241219T200511Z
UID:41695-1733562000-1733581800@www.myepl.org
SUMMARY:Friends of EPL Book Sale
DESCRIPTION:Join the Friends of Elkhart Public Library for the monthly used book sale on the first Saturday of each month. Specials are announced on Facebook.
URL:https://www.myepl.org/event/friends-of-epl-book-sale/2024-12-07/
LOCATION:Downtown Library\, 300 S. Second St.\, Elkhart\, IN\, 46516\, United States
CATEGORIES:Book Sale
ATTACH;FMTTYPE=image/png:https://www.myepl.org/wp-content/uploads/2021/08/friends-300x276-1.png
END:VEVENT
BEGIN:VEVENT
DTSTART;TZID=America/Indiana/Indianapolis:20231209T100000
DTEND;TZID=America/Indiana/Indianapolis:20231209T140000
DTSTAMP:20260419T175159
CREATED:20230925T173933Z
LAST-MODIFIED:20231120T184258Z
UID:39873-1702116000-1702130400@www.myepl.org
SUMMARY:Fables and Festivities
DESCRIPTION:Local authors of children’s and teen books will be set up inside the library to sell their books. Talk to authors about their books and get some holiday shopping done\, Fables Books of Goshen will have a pop-up store\, too. Plus\, activities for kids. \nFor details on the writing contest\, click here.
URL:https://www.myepl.org/event/fables-and-festivities/
LOCATION:Downtown Library\, 300 S. Second St.\, Elkhart\, IN\, 46516\, United States
CATEGORIES:Author Visits,Book Sale,Just for Fun
ATTACH;FMTTYPE=image/png:https://www.myepl.org/wp-content/uploads/2023/09/Fables-and-Festivities-Digital-Materials_CALENDAR.png
END:VEVENT
END:VCALENDAR