BEGIN:VCALENDAR
VERSION:2.0
PRODID:-//Elkhart Public Library - ECPv6.15.20//NONSGML v1.0//EN
CALSCALE:GREGORIAN
METHOD:PUBLISH
X-ORIGINAL-URL:https://www.myepl.org
X-WR-CALDESC:Events for Elkhart Public Library
REFRESH-INTERVAL;VALUE=DURATION:PT1H
X-Robots-Tag:noindex
X-PUBLISHED-TTL:PT1H
BEGIN:VTIMEZONE
TZID:America/Indiana/Indianapolis
BEGIN:DAYLIGHT
TZOFFSETFROM:-0500
TZOFFSETTO:-0400
TZNAME:EDT
DTSTART:20230312T070000
END:DAYLIGHT
BEGIN:STANDARD
TZOFFSETFROM:-0400
TZOFFSETTO:-0500
TZNAME:EST
DTSTART:20231105T060000
END:STANDARD
BEGIN:DAYLIGHT
TZOFFSETFROM:-0500
TZOFFSETTO:-0400
TZNAME:EDT
DTSTART:20240310T070000
END:DAYLIGHT
BEGIN:STANDARD
TZOFFSETFROM:-0400
TZOFFSETTO:-0500
TZNAME:EST
DTSTART:20241103T060000
END:STANDARD
BEGIN:DAYLIGHT
TZOFFSETFROM:-0500
TZOFFSETTO:-0400
TZNAME:EDT
DTSTART:20250309T070000
END:DAYLIGHT
BEGIN:STANDARD
TZOFFSETFROM:-0400
TZOFFSETTO:-0500
TZNAME:EST
DTSTART:20251102T060000
END:STANDARD
END:VTIMEZONE
BEGIN:VEVENT
DTSTART;TZID=America/Indiana/Indianapolis:20241008T143000
DTEND;TZID=America/Indiana/Indianapolis:20241008T163000
DTSTAMP:20260419T091115
CREATED:20240918T174945Z
LAST-MODIFIED:20240918T174945Z
UID:45498-1728397800-1728405000@www.myepl.org
SUMMARY:Computer One-on-One
DESCRIPTION:Call the Downtown Computer Center at 574.294.2847 or sign up in person to reserve 30 minutes of basic\, stress-free computer help from our experts. From saving a file to accessing library resources\, we can help. \nSessions are available at 2:30\, 3\, 3:30 and 4 p.m.
URL:https://www.myepl.org/event/computer-one-on-one-7/2024-10-08/
LOCATION:Downtown Library\, 300 S. Second St.\, Elkhart\, IN\, 46516\, United States
CATEGORIES:Computer Classes
ATTACH;FMTTYPE=image/jpeg:https://www.myepl.org/wp-content/uploads/2023/01/Computer-class-scaled.jpg
END:VEVENT
BEGIN:VEVENT
DTSTART;TZID=America/Indiana/Indianapolis:20241016T143000
DTEND;TZID=America/Indiana/Indianapolis:20241016T163000
DTSTAMP:20260419T091115
CREATED:20240918T174945Z
LAST-MODIFIED:20240918T174945Z
UID:45499-1729089000-1729096200@www.myepl.org
SUMMARY:Computer One-on-One
DESCRIPTION:Call the Downtown Computer Center at 574.294.2847 or sign up in person to reserve 30 minutes of basic\, stress-free computer help from our experts. From saving a file to accessing library resources\, we can help. \nSessions are available at 2:30\, 3\, 3:30 and 4 p.m.
URL:https://www.myepl.org/event/computer-one-on-one-7/2024-10-16/
LOCATION:Downtown Library\, 300 S. Second St.\, Elkhart\, IN\, 46516\, United States
CATEGORIES:Computer Classes
ATTACH;FMTTYPE=image/jpeg:https://www.myepl.org/wp-content/uploads/2023/01/Computer-class-scaled.jpg
END:VEVENT
BEGIN:VEVENT
DTSTART;TZID=America/Indiana/Indianapolis:20241024T143000
DTEND;TZID=America/Indiana/Indianapolis:20241024T163000
DTSTAMP:20260419T091115
CREATED:20240918T174945Z
LAST-MODIFIED:20240918T174945Z
UID:45500-1729780200-1729787400@www.myepl.org
SUMMARY:Computer One-on-One
DESCRIPTION:Call the Downtown Computer Center at 574.294.2847 or sign up in person to reserve 30 minutes of basic\, stress-free computer help from our experts. From saving a file to accessing library resources\, we can help. \nSessions are available at 2:30\, 3\, 3:30 and 4 p.m.
URL:https://www.myepl.org/event/computer-one-on-one-7/2024-10-24/
LOCATION:Downtown Library\, 300 S. Second St.\, Elkhart\, IN\, 46516\, United States
CATEGORIES:Computer Classes
ATTACH;FMTTYPE=image/jpeg:https://www.myepl.org/wp-content/uploads/2023/01/Computer-class-scaled.jpg
END:VEVENT
BEGIN:VEVENT
DTSTART;TZID=America/Indiana/Indianapolis:20241030T173000
DTEND;TZID=America/Indiana/Indianapolis:20241030T183000
DTSTAMP:20260419T091115
CREATED:20240918T175829Z
LAST-MODIFIED:20240918T175829Z
UID:45516-1730309400-1730313000@www.myepl.org
SUMMARY:Basic Microsoft Excel
DESCRIPTION:Learn the common features of spreadsheets – work with columns and rows and get started copying\, pasting and changing fonts. Sign up in person at the Downtown Computer Center or by calling 574.294.2847.
URL:https://www.myepl.org/event/basic-microsoft-excel-4/
LOCATION:Downtown Library\, 300 S. Second St.\, Elkhart\, IN\, 46516\, United States
CATEGORIES:Computer Classes
ATTACH;FMTTYPE=image/jpeg:https://www.myepl.org/wp-content/uploads/2023/01/Computer-class-scaled.jpg
END:VEVENT
END:VCALENDAR