BEGIN:VCALENDAR
VERSION:2.0
PRODID:-//Elkhart Public Library - ECPv6.15.20//NONSGML v1.0//EN
CALSCALE:GREGORIAN
METHOD:PUBLISH
X-ORIGINAL-URL:https://www.myepl.org
X-WR-CALDESC:Events for Elkhart Public Library
REFRESH-INTERVAL;VALUE=DURATION:PT1H
X-Robots-Tag:noindex
X-PUBLISHED-TTL:PT1H
BEGIN:VTIMEZONE
TZID:America/Indiana/Indianapolis
BEGIN:DAYLIGHT
TZOFFSETFROM:-0500
TZOFFSETTO:-0400
TZNAME:EDT
DTSTART:20240310T070000
END:DAYLIGHT
BEGIN:STANDARD
TZOFFSETFROM:-0400
TZOFFSETTO:-0500
TZNAME:EST
DTSTART:20241103T060000
END:STANDARD
BEGIN:DAYLIGHT
TZOFFSETFROM:-0500
TZOFFSETTO:-0400
TZNAME:EDT
DTSTART:20250309T070000
END:DAYLIGHT
BEGIN:STANDARD
TZOFFSETFROM:-0400
TZOFFSETTO:-0500
TZNAME:EST
DTSTART:20251102T060000
END:STANDARD
BEGIN:DAYLIGHT
TZOFFSETFROM:-0500
TZOFFSETTO:-0400
TZNAME:EDT
DTSTART:20260308T070000
END:DAYLIGHT
BEGIN:STANDARD
TZOFFSETFROM:-0400
TZOFFSETTO:-0500
TZNAME:EST
DTSTART:20261101T060000
END:STANDARD
END:VTIMEZONE
BEGIN:VEVENT
DTSTART;TZID=America/Indiana/Indianapolis:20250310T130000
DTEND;TZID=America/Indiana/Indianapolis:20250310T140000
DTSTAMP:20260424T202102
CREATED:20241220T170955Z
LAST-MODIFIED:20250127T174454Z
UID:47297-1741611600-1741615200@www.myepl.org
SUMMARY:Homeschool: Watercolor Night Sky
DESCRIPTION:Use watercolors to paint a night sky scene.
URL:https://www.myepl.org/event/homeschool-watercolor-night-sky/
LOCATION:Downtown Library\, 300 S. Second St.\, Elkhart\, IN\, 46516\, United States
CATEGORIES:Educational,School Age Programs
ATTACH;FMTTYPE=image/png:https://www.myepl.org/wp-content/uploads/2024/12/homeschool-watercolornightsky_Calendar.png
END:VEVENT
BEGIN:VEVENT
DTSTART;TZID=America/Indiana/Indianapolis:20250313T173000
DTEND;TZID=America/Indiana/Indianapolis:20250313T193000
DTSTAMP:20260424T202102
CREATED:20241226T153540Z
LAST-MODIFIED:20250305T201719Z
UID:47437-1741887000-1741894200@www.myepl.org
SUMMARY:Diabetes 101
DESCRIPTION:With expert help from the Purdue Extension office\, learn how to manage diabetes effectively. To register call 574.533.0554 or email fink24@purdue.edu.
URL:https://www.myepl.org/event/diabetes-101-2/
LOCATION:Dunlap Branch\, 58485 C.R. 13 East\, Elkhart\, IN\, 46516\, United States
CATEGORIES:Adult Programs,Educational
ATTACH;FMTTYPE=image/png:https://www.myepl.org/wp-content/uploads/2024/12/Diabetes101_Calendar.png
END:VEVENT
BEGIN:VEVENT
DTSTART;TZID=America/Indiana/Indianapolis:20250325T173000
DTEND;TZID=America/Indiana/Indianapolis:20250325T181500
DTSTAMP:20260424T202102
CREATED:20241226T154041Z
LAST-MODIFIED:20250224T215111Z
UID:47440-1742923800-1742926500@www.myepl.org
SUMMARY:Effective Communication
DESCRIPTION:Improve social\, emotion and mental connections through better communication and increase problem-solving and conflict resolution skills with a Purdue Extension educator. To register call 574.533.0554 or email fink24@purdue.edu.
URL:https://www.myepl.org/event/effective-communication/
LOCATION:Dunlap Branch\, 58485 C.R. 13 East\, Elkhart\, IN\, 46516\, United States
CATEGORIES:Adult Programs,Educational
ATTACH;FMTTYPE=image/png:https://www.myepl.org/wp-content/uploads/2024/12/EffectiveCommunication_Calendar.png
END:VEVENT
BEGIN:VEVENT
DTSTART;TZID=America/Indiana/Indianapolis:20250326T173000
DTEND;TZID=America/Indiana/Indianapolis:20250326T183000
DTSTAMP:20260424T202102
CREATED:20241220T161144Z
LAST-MODIFIED:20241220T161144Z
UID:47213-1743010200-1743013800@www.myepl.org
SUMMARY:Cooking with an Air Fryer
DESCRIPTION:Learn the ins and outs an an air fryer\, different model options\, cooking techniques and safety tips from a Purdue Extension educator. Register by emailing fink24@purdue.edu or by calling 574-533-0554.
URL:https://www.myepl.org/event/cooking-with-an-air-fryer/
LOCATION:Downtown Library\, 300 S. Second St.\, Elkhart\, IN\, 46516\, United States
CATEGORIES:Adult Programs,Educational
ATTACH;FMTTYPE=image/png:https://www.myepl.org/wp-content/uploads/2024/01/AirFryer101_calendar-1.png
END:VEVENT
END:VCALENDAR