BEGIN:VCALENDAR
VERSION:2.0
PRODID:-//Elkhart Public Library - ECPv6.15.20//NONSGML v1.0//EN
CALSCALE:GREGORIAN
METHOD:PUBLISH
X-ORIGINAL-URL:https://www.myepl.org
X-WR-CALDESC:Events for Elkhart Public Library
REFRESH-INTERVAL;VALUE=DURATION:PT1H
X-Robots-Tag:noindex
X-PUBLISHED-TTL:PT1H
BEGIN:VTIMEZONE
TZID:America/Indiana/Indianapolis
BEGIN:DAYLIGHT
TZOFFSETFROM:-0500
TZOFFSETTO:-0400
TZNAME:EDT
DTSTART:20240310T070000
END:DAYLIGHT
BEGIN:STANDARD
TZOFFSETFROM:-0400
TZOFFSETTO:-0500
TZNAME:EST
DTSTART:20241103T060000
END:STANDARD
BEGIN:DAYLIGHT
TZOFFSETFROM:-0500
TZOFFSETTO:-0400
TZNAME:EDT
DTSTART:20250309T070000
END:DAYLIGHT
BEGIN:STANDARD
TZOFFSETFROM:-0400
TZOFFSETTO:-0500
TZNAME:EST
DTSTART:20251102T060000
END:STANDARD
BEGIN:DAYLIGHT
TZOFFSETFROM:-0500
TZOFFSETTO:-0400
TZNAME:EDT
DTSTART:20260308T070000
END:DAYLIGHT
BEGIN:STANDARD
TZOFFSETFROM:-0400
TZOFFSETTO:-0500
TZNAME:EST
DTSTART:20261101T060000
END:STANDARD
END:VTIMEZONE
BEGIN:VEVENT
DTSTART;TZID=America/Indiana/Indianapolis:20250401T173000
DTEND;TZID=America/Indiana/Indianapolis:20250401T183000
DTSTAMP:20260424T202025
CREATED:20241209T213455Z
LAST-MODIFIED:20250331T170918Z
UID:46934-1743528600-1743532200@www.myepl.org
SUMMARY:CANCELED - Diabetes 101
DESCRIPTION:Learn practical skills for managing diabetes from a Purdue Extension Health and Human Sciences educator. Register by calling 574.533.0554 or be emailing fink24@purdue.edu.
URL:https://www.myepl.org/event/diabetes-101/
LOCATION:Cleveland Branch\, 53715 C.R. 1\, Elkhart\, IN\, 46514\, United States
CATEGORIES:Adult Programs,Educational
ATTACH;FMTTYPE=image/png:https://www.myepl.org/wp-content/uploads/2024/12/Diabetes101_Calendar.png
END:VEVENT
BEGIN:VEVENT
DTSTART;TZID=America/Indiana/Indianapolis:20250405T100000
DTEND;TZID=America/Indiana/Indianapolis:20250405T110000
DTSTAMP:20260424T202025
CREATED:20241226T173059Z
LAST-MODIFIED:20250305T210920Z
UID:47499-1743847200-1743850800@www.myepl.org
SUMMARY:Urban Turf
DESCRIPTION:Expert help to get your lawn in top shape this summer. Topics include weed control\, soil testing\, grass species\, grubs and moles at this fun and informative presentation.
URL:https://www.myepl.org/event/urban-turf/
LOCATION:Osolo Branch\, 3429 E. Bristol St.\, Elkhart\, IN\, 46516\, United States
CATEGORIES:Adult Programs,Educational
ATTACH;FMTTYPE=image/png:https://www.myepl.org/wp-content/uploads/2024/12/UrbanTurf_Calendar.png
END:VEVENT
BEGIN:VEVENT
DTSTART;TZID=America/Indiana/Indianapolis:20250412T120000
DTEND;TZID=America/Indiana/Indianapolis:20250412T140000
DTSTAMP:20260424T202025
CREATED:20241226T163343Z
LAST-MODIFIED:20250120T164747Z
UID:47466-1744459200-1744466400@www.myepl.org
SUMMARY:FAFSA Fácil
DESCRIPTION:Ven y aprende todo lo que necesitas saber sobre la FAFSA. 12 de Abril de 12 p.m. a 2 p.m. estaremos ofreciendo un evento informativo parar guiarte en el proceso de inscripción a la FAFSA.
URL:https://www.myepl.org/event/fafsa-facil/
LOCATION:Downtown Library\, 300 S. Second St.\, Elkhart\, IN\, 46516\, United States
CATEGORIES:Adult Programs,Educational,Teen Programs
ATTACH;FMTTYPE=image/png:https://www.myepl.org/wp-content/uploads/2024/12/FAFSA-Facil_Calendar.png
END:VEVENT
BEGIN:VEVENT
DTSTART;TZID=America/Indiana/Indianapolis:20250412T130000
DTEND;TZID=America/Indiana/Indianapolis:20250412T140000
DTSTAMP:20260424T202025
CREATED:20241226T174342Z
LAST-MODIFIED:20250404T165158Z
UID:47501-1744462800-1744466400@www.myepl.org
SUMMARY:Family History Workshop
DESCRIPTION:Dive deeper into your family history with a speaker series of experts from across the region. \n April 12 – Jessica Trotter\, a librarian and archivist\, shares tips for tracking down offline collections and planning a trip for research  \nApril 19 – EPL’s genealogy librarian shares the numerous resources online and in person available at the library  \nApril 26 – A genetic genealogist shares all about DNA testing and how to use it most effectively 
URL:https://www.myepl.org/event/family-history-workshop/
LOCATION:Downtown Library\, 300 S. Second St.\, Elkhart\, IN\, 46516\, United States
CATEGORIES:Adult Programs,Educational
ATTACH;FMTTYPE=image/jpeg:https://www.myepl.org/wp-content/uploads/2024/07/TrotterJessica2022-scaled.jpg
END:VEVENT
BEGIN:VEVENT
DTSTART;TZID=America/Indiana/Indianapolis:20250414T130000
DTEND;TZID=America/Indiana/Indianapolis:20250414T140000
DTSTAMP:20260424T202025
CREATED:20241226T165815Z
LAST-MODIFIED:20250408T175220Z
UID:47479-1744635600-1744639200@www.myepl.org
SUMMARY:Homeschool Art: Zen Gardens
DESCRIPTION:Learn about Zen gardens and make a mini one to take home.
URL:https://www.myepl.org/event/homeschool-art-zen-gardens/
LOCATION:Downtown Library\, 300 S. Second St.\, Elkhart\, IN\, 46516\, United States
CATEGORIES:Educational,School Age Programs
ATTACH;FMTTYPE=image/png:https://www.myepl.org/wp-content/uploads/2024/12/homeschoolzengardens_Calendar.png
END:VEVENT
BEGIN:VEVENT
DTSTART;TZID=America/Indiana/Indianapolis:20250415T170000
DTEND;TZID=America/Indiana/Indianapolis:20250415T183000
DTSTAMP:20260424T202025
CREATED:20241226T154709Z
LAST-MODIFIED:20250402T190132Z
UID:47442-1744736400-1744741800@www.myepl.org
SUMMARY:Fit for Life: Strength\, Balance and Flexibility
DESCRIPTION:Led by a Purdue Extension educator\, this two-session chair-based exercise program is designed to improve core muscles and improve mobility in a low-impact fashion. To register\, call 574.533.0554 or email fink24@purdue.edu.
URL:https://www.myepl.org/event/fit-for-life-strength-balance-and-flexibility/2025-04-15/
LOCATION:Dunlap Branch\, 58485 C.R. 13 East\, Elkhart\, IN\, 46516\, United States
CATEGORIES:Adult Programs,Educational
ATTACH;FMTTYPE=image/jpeg:https://www.myepl.org/wp-content/uploads/2024/12/fitforlife.jpg
END:VEVENT
BEGIN:VEVENT
DTSTART;TZID=America/Indiana/Indianapolis:20250417T173000
DTEND;TZID=America/Indiana/Indianapolis:20250417T183000
DTSTAMP:20260424T202025
CREATED:20241220T151918Z
LAST-MODIFIED:20250407T202819Z
UID:47160-1744911000-1744914600@www.myepl.org
SUMMARY:Artificial Intelligence: Introduction to AI
DESCRIPTION:AI is making an impact and might change how we work and use technology. Join this informative discussion with live demonstrations and examples of how to use the technology.
URL:https://www.myepl.org/event/artificial-intelligence-introduction-to-ai/
LOCATION:Downtown Library\, 300 S. Second St.\, Elkhart\, IN\, 46516\, United States
CATEGORIES:Educational
ATTACH;FMTTYPE=image/png:https://www.myepl.org/wp-content/uploads/2024/12/Artificial-Intelligence-Introduction-to-AI_Calendar.png
END:VEVENT
BEGIN:VEVENT
DTSTART;TZID=America/Indiana/Indianapolis:20250417T173000
DTEND;TZID=America/Indiana/Indianapolis:20250417T183000
DTSTAMP:20260424T202025
CREATED:20241226T155141Z
LAST-MODIFIED:20250402T190106Z
UID:47445-1744911000-1744914600@www.myepl.org
SUMMARY:Building Foundations of Caregiving
DESCRIPTION:Caregiving is an emotional and stressful job. Learn to create a support system to manage caregiver stress. To register call 574.533.0554 or email fink24@purdue.edu.
URL:https://www.myepl.org/event/building-foundations-of-caregiving/
LOCATION:Dunlap Branch\, 58485 C.R. 13 East\, Elkhart\, IN\, 46516\, United States
CATEGORIES:Adult Programs,Educational
ATTACH;FMTTYPE=image/jpeg:https://www.myepl.org/wp-content/uploads/2024/12/caregiving.jpg
END:VEVENT
BEGIN:VEVENT
DTSTART;TZID=America/Indiana/Indianapolis:20250419T130000
DTEND;TZID=America/Indiana/Indianapolis:20250419T140000
DTSTAMP:20260424T202025
CREATED:20241226T174342Z
LAST-MODIFIED:20250404T174444Z
UID:47502-1745067600-1745071200@www.myepl.org
SUMMARY:Family History Workshop
DESCRIPTION:Dive deeper into your family history with a speaker series of experts from across the region. \n April 12 – A librarian and archivist shares tips for tracking down offline collections and planning a trip for research  \nApril 19 – EPL’s genealogy librarian shares the numerous resources online and in person available at the library  \nApril 26 – A genetic genealogist shares all about DNA testing and how to use it most effectively 
URL:https://www.myepl.org/event/family-history-workshop-2025-04-19/
LOCATION:Downtown Library\, 300 S. Second St.\, Elkhart\, IN\, 46516\, United States
CATEGORIES:Adult Programs,Educational
ATTACH;FMTTYPE=image/jpeg:https://www.myepl.org/wp-content/uploads/2024/12/Pfifferling-Irons-Amy.jpg
END:VEVENT
BEGIN:VEVENT
DTSTART;TZID=America/Indiana/Indianapolis:20250422T170000
DTEND;TZID=America/Indiana/Indianapolis:20250422T183000
DTSTAMP:20260424T202025
CREATED:20241226T154709Z
LAST-MODIFIED:20250402T190132Z
UID:47443-1745341200-1745346600@www.myepl.org
SUMMARY:Fit for Life: Strength\, Balance and Flexibility
DESCRIPTION:Led by a Purdue Extension educator\, this two-session chair-based exercise program is designed to improve core muscles and improve mobility in a low-impact fashion. To register\, call 574.533.0554 or email fink24@purdue.edu.
URL:https://www.myepl.org/event/fit-for-life-strength-balance-and-flexibility/2025-04-22/
LOCATION:Dunlap Branch\, 58485 C.R. 13 East\, Elkhart\, IN\, 46516\, United States
CATEGORIES:Adult Programs,Educational
ATTACH;FMTTYPE=image/jpeg:https://www.myepl.org/wp-content/uploads/2024/12/fitforlife.jpg
END:VEVENT
BEGIN:VEVENT
DTSTART;TZID=America/Indiana/Indianapolis:20250426T130000
DTEND;TZID=America/Indiana/Indianapolis:20250426T140000
DTSTAMP:20260424T202025
CREATED:20241226T174342Z
LAST-MODIFIED:20250404T174524Z
UID:47503-1745672400-1745676000@www.myepl.org
SUMMARY:Family History Workshop
DESCRIPTION:Dive deeper into your family history with a speaker series of experts from across the region. \n April 12 – A librarian and archivist shares tips for tracking down offline collections and planning a trip for research  \nApril 19 – EPL’s genealogy librarian shares the numerous resources online and in person available at the library  \nApril 26 – Richard Hill\, a genetic genealogist shares all about DNA testing and how to use it most effectively 
URL:https://www.myepl.org/event/family-history-workshop-2025-04-26/
LOCATION:Downtown Library\, 300 S. Second St.\, Elkhart\, IN\, 46516\, United States
CATEGORIES:Adult Programs,Educational
ATTACH;FMTTYPE=image/jpeg:https://www.myepl.org/wp-content/uploads/2024/12/HillRichard2024.jpg
END:VEVENT
BEGIN:VEVENT
DTSTART;TZID=America/Indiana/Indianapolis:20250430T173000
DTEND;TZID=America/Indiana/Indianapolis:20250430T183000
DTSTAMP:20260424T202025
CREATED:20241220T162124Z
LAST-MODIFIED:20250428T145008Z
UID:47225-1746034200-1746037800@www.myepl.org
SUMMARY:Rescheduled - Charcuterie 101
DESCRIPTION:This event has been rescheduled for Monday\, May 19. Click here to view the rescheduled event and register. \nDiscover the secrets of crafting exquisite charcuterie boards that are as visually stunning as they are delicious. Our hands-on class will elevate your entertaining game to new heights. To register\, call 574-533-0554 or email fink24@purdue.edu.
URL:https://www.myepl.org/event/charcuterie-101-2/
LOCATION:Downtown Library\, 300 S. Second St.\, Elkhart\, IN\, 46516\, United States
CATEGORIES:Adult Programs,Educational
ATTACH;FMTTYPE=image/png:https://www.myepl.org/wp-content/uploads/2024/09/charcuterie101-cal.png
END:VEVENT
END:VCALENDAR