BEGIN:VCALENDAR
VERSION:2.0
PRODID:-//Elkhart Public Library - ECPv6.15.20//NONSGML v1.0//EN
CALSCALE:GREGORIAN
METHOD:PUBLISH
X-ORIGINAL-URL:https://www.myepl.org
X-WR-CALDESC:Events for Elkhart Public Library
REFRESH-INTERVAL;VALUE=DURATION:PT1H
X-Robots-Tag:noindex
X-PUBLISHED-TTL:PT1H
BEGIN:VTIMEZONE
TZID:America/Indiana/Indianapolis
BEGIN:DAYLIGHT
TZOFFSETFROM:-0500
TZOFFSETTO:-0400
TZNAME:EDT
DTSTART:20240310T070000
END:DAYLIGHT
BEGIN:STANDARD
TZOFFSETFROM:-0400
TZOFFSETTO:-0500
TZNAME:EST
DTSTART:20241103T060000
END:STANDARD
BEGIN:DAYLIGHT
TZOFFSETFROM:-0500
TZOFFSETTO:-0400
TZNAME:EDT
DTSTART:20250309T070000
END:DAYLIGHT
BEGIN:STANDARD
TZOFFSETFROM:-0400
TZOFFSETTO:-0500
TZNAME:EST
DTSTART:20251102T060000
END:STANDARD
BEGIN:DAYLIGHT
TZOFFSETFROM:-0500
TZOFFSETTO:-0400
TZNAME:EDT
DTSTART:20260308T070000
END:DAYLIGHT
BEGIN:STANDARD
TZOFFSETFROM:-0400
TZOFFSETTO:-0500
TZNAME:EST
DTSTART:20261101T060000
END:STANDARD
END:VTIMEZONE
BEGIN:VEVENT
DTSTART;TZID=America/Indiana/Indianapolis:20250503T100000
DTEND;TZID=America/Indiana/Indianapolis:20250503T113000
DTSTAMP:20260424T104544
CREATED:20250311T164839Z
LAST-MODIFIED:20250502T152115Z
UID:48310-1746266400-1746271800@www.myepl.org
SUMMARY:Get into Gardening
DESCRIPTION:Start or improve your garden throughout this informative series focusing on pollinators\, native plants and harvesting seeds.  \nMay 3 – Gardening how-to with Purdue Extension educator Mark Evans\nMay 24 – The Buzz on Pollinator Habitat\nJune 14 – Super Start with the Super Nine – all about the nine native plants selected for their value to our local environment\nAug. 2 – How to Harvest Your Seeds with Mark Evans 
URL:https://www.myepl.org/event/get-into-gardening/2025-05-03/
LOCATION:Downtown Library\, 300 S. Second St.\, Elkhart\, IN\, 46516\, United States
CATEGORIES:Adult Programs,Educational
ATTACH;FMTTYPE=image/png:https://www.myepl.org/wp-content/uploads/2025/03/getintogardening_digital_Calendar.png
END:VEVENT
BEGIN:VEVENT
DTSTART;TZID=America/Indiana/Indianapolis:20250509T100000
DTEND;TZID=America/Indiana/Indianapolis:20250509T110000
DTSTAMP:20260424T104544
CREATED:20250318T193203Z
LAST-MODIFIED:20250502T134711Z
UID:48582-1746784800-1746788400@www.myepl.org
SUMMARY:Preschool Party: Work it out Wombats
DESCRIPTION:Activities\, stories and more based on Work It Out Wombats and their computational thinking skills. With help from WNIT\, everyone will be going home with a goody bag while supplies last.
URL:https://www.myepl.org/event/preschool-party-work-it-out-wombats/
LOCATION:Downtown Library\, 300 S. Second St.\, Elkhart\, IN\, 46516\, United States
CATEGORIES:Educational,Preschool Programs
ATTACH;FMTTYPE=image/png:https://www.myepl.org/wp-content/uploads/2025/03/wombats_Calendar.png
END:VEVENT
BEGIN:VEVENT
DTSTART;TZID=America/Indiana/Indianapolis:20250514T160000
DTEND;TZID=America/Indiana/Indianapolis:20250514T170000
DTSTAMP:20260424T104544
CREATED:20250311T183538Z
LAST-MODIFIED:20250505T152622Z
UID:48328-1747238400-1747242000@www.myepl.org
SUMMARY:DIY All-Purpose Cleaner
DESCRIPTION:Create an all-purpose cleaner that’s effective but less harsh and better for the environment and allergies.
URL:https://www.myepl.org/event/diy-all-purpose-cleaner/
LOCATION:Downtown Library\, 300 S. Second St.\, Elkhart\, IN\, 46516\, United States
CATEGORIES:Adult Programs,Educational
ATTACH;FMTTYPE=image/png:https://www.myepl.org/wp-content/uploads/2025/03/DIYCleaner_Calendar.png
END:VEVENT
BEGIN:VEVENT
DTSTART;TZID=America/Indiana/Indianapolis:20250515T173000
DTEND;TZID=America/Indiana/Indianapolis:20250515T190000
DTSTAMP:20260424T104544
CREATED:20250325T191255Z
LAST-MODIFIED:20250502T152026Z
UID:48954-1747330200-1747335600@www.myepl.org
SUMMARY:Taller de Dulces Enchilados
DESCRIPTION:¡Ven a hacer tus propios dulces enchilados! Trae tu gomitas favorito o usa algunos se los nuestros para hacer un dulce picante y delicioso! \nMake your own spicy candy using gummy snacks you bring or you can use ours. 
URL:https://www.myepl.org/event/taller-de-dulces-enchilados/
LOCATION:Downtown Library\, 300 S. Second St.\, Elkhart\, IN\, 46516\, United States
CATEGORIES:Educational,Just for Fun
ATTACH;FMTTYPE=image/png:https://www.myepl.org/wp-content/uploads/2025/03/enchilados_Calendar.png
END:VEVENT
BEGIN:VEVENT
DTSTART;TZID=America/Indiana/Indianapolis:20250517T120000
DTEND;TZID=America/Indiana/Indianapolis:20250517T130000
DTSTAMP:20260424T104544
CREATED:20250317T195839Z
LAST-MODIFIED:20250502T134243Z
UID:48406-1747483200-1747486800@www.myepl.org
SUMMARY:In Search of Bigfoot
DESCRIPTION:Bigfoot investigator Michael Familant shares tales of his search for bigfoot. This family-friendly presentation is free and open to skeptics and believers alike.
URL:https://www.myepl.org/event/in-search-of-bigfoot/
LOCATION:Downtown Library\, 300 S. Second St.\, Elkhart\, IN\, 46516\, United States
CATEGORIES:Educational,Just for Fun
ATTACH;FMTTYPE=image/png:https://www.myepl.org/wp-content/uploads/2025/03/bigfoot_Calendar.png
END:VEVENT
BEGIN:VEVENT
DTSTART;TZID=America/Indiana/Indianapolis:20250522T170000
DTEND;TZID=America/Indiana/Indianapolis:20250522T180000
DTSTAMP:20260424T104544
CREATED:20250320T175803Z
LAST-MODIFIED:20250320T180439Z
UID:48722-1747933200-1747936800@www.myepl.org
SUMMARY:Diabetes 101: Spanish and English
DESCRIPTION:Essential knowledge and practical skills for people managing their diabetes or their caretakers. Experts from Purdue Extension in Elkhart County will present this session in both Spanish and English. \nEste programa proporciona conocimientos esenciales y habilidades prácticas para el control eficaz de la diabetes para las personas con diabetes y sus cuidadores. Los participantes aprenderán sobre la diabetes\, su control y las estratedias para optimizar la salud y el bienestar. Dísponible en inglés y español. \nRegistration for this program opens April 1.
URL:https://www.myepl.org/event/diabetes-101-spanish-and-english/
LOCATION:Pierre Moran Branch\, 2400 Benham Ave\, Elkhart\, IN\, 46517\, United States
CATEGORIES:Adult Programs,Educational
ATTACH;FMTTYPE=image/png:https://www.myepl.org/wp-content/uploads/2024/12/Diabetes101_Calendar.png
END:VEVENT
BEGIN:VEVENT
DTSTART;TZID=America/Indiana/Indianapolis:20250524T100000
DTEND;TZID=America/Indiana/Indianapolis:20250524T113000
DTSTAMP:20260424T104544
CREATED:20250311T164839Z
LAST-MODIFIED:20250502T152115Z
UID:48311-1748080800-1748086200@www.myepl.org
SUMMARY:Get into Gardening
DESCRIPTION:Start or improve your garden throughout this informative series focusing on pollinators\, native plants and harvesting seeds.  \nMay 3 – Gardening how-to with Purdue Extension educator Mark Evans\nMay 24 – The Buzz on Pollinator Habitat\nJune 14 – Super Start with the Super Nine – all about the nine native plants selected for their value to our local environment\nAug. 2 – How to Harvest Your Seeds with Mark Evans 
URL:https://www.myepl.org/event/get-into-gardening/2025-05-24/
LOCATION:Downtown Library\, 300 S. Second St.\, Elkhart\, IN\, 46516\, United States
CATEGORIES:Adult Programs,Educational
ATTACH;FMTTYPE=image/png:https://www.myepl.org/wp-content/uploads/2025/03/getintogardening_digital_Calendar.png
END:VEVENT
BEGIN:VEVENT
DTSTART;TZID=America/Indiana/Indianapolis:20250527T140000
DTEND;TZID=America/Indiana/Indianapolis:20250527T150000
DTSTAMP:20260424T104544
CREATED:20250320T202947Z
LAST-MODIFIED:20250523T142350Z
UID:48750-1748354400-1748358000@www.myepl.org
SUMMARY:Homeschool LEGO Bots
DESCRIPTION:Work with teams to build LEGO creations that move\, light up or play sounds with coding. Best for ages 6 and up. Note this program moves to Tuesday in May due to Memorial Day.  \nRegistration for this program opens April 1.
URL:https://www.myepl.org/event/homeschool-lego-bots-2/
LOCATION:Dunlap Branch\, 58485 C.R. 13 East\, Elkhart\, IN\, 46516\, United States
CATEGORIES:Educational,Just for Fun
END:VEVENT
BEGIN:VEVENT
DTSTART;TZID=America/Indiana/Indianapolis:20250531T110000
DTEND;TZID=America/Indiana/Indianapolis:20250531T130000
DTSTAMP:20260424T104544
CREATED:20250318T171048Z
LAST-MODIFIED:20250318T171439Z
UID:48520-1748689200-1748696400@www.myepl.org
SUMMARY:Curious Creatures
DESCRIPTION:The Potawatomi Zoo is bringing animals for you to meet and learn about. Plus\, a display of biofacts\, like fur\, bones and more\, to see up close.
URL:https://www.myepl.org/event/curious-creatures/
LOCATION:Cleveland Branch\, 53715 C.R. 1\, Elkhart\, IN\, 46514\, United States
CATEGORIES:Educational,Just for Fun
ATTACH;FMTTYPE=image/jpeg:https://www.myepl.org/wp-content/uploads/2025/03/DSC0135-scaled.jpg
END:VEVENT
END:VCALENDAR