BEGIN:VCALENDAR
VERSION:2.0
PRODID:-//Elkhart Public Library - ECPv6.15.20//NONSGML v1.0//EN
CALSCALE:GREGORIAN
METHOD:PUBLISH
X-WR-CALNAME:Elkhart Public Library
X-ORIGINAL-URL:https://www.myepl.org
X-WR-CALDESC:Events for Elkhart Public Library
REFRESH-INTERVAL;VALUE=DURATION:PT1H
X-Robots-Tag:noindex
X-PUBLISHED-TTL:PT1H
BEGIN:VTIMEZONE
TZID:America/Indiana/Indianapolis
BEGIN:DAYLIGHT
TZOFFSETFROM:-0500
TZOFFSETTO:-0400
TZNAME:EDT
DTSTART:20240310T070000
END:DAYLIGHT
BEGIN:STANDARD
TZOFFSETFROM:-0400
TZOFFSETTO:-0500
TZNAME:EST
DTSTART:20241103T060000
END:STANDARD
BEGIN:DAYLIGHT
TZOFFSETFROM:-0500
TZOFFSETTO:-0400
TZNAME:EDT
DTSTART:20250309T070000
END:DAYLIGHT
BEGIN:STANDARD
TZOFFSETFROM:-0400
TZOFFSETTO:-0500
TZNAME:EST
DTSTART:20251102T060000
END:STANDARD
BEGIN:DAYLIGHT
TZOFFSETFROM:-0500
TZOFFSETTO:-0400
TZNAME:EDT
DTSTART:20260308T070000
END:DAYLIGHT
BEGIN:STANDARD
TZOFFSETFROM:-0400
TZOFFSETTO:-0500
TZNAME:EST
DTSTART:20261101T060000
END:STANDARD
END:VTIMEZONE
BEGIN:VEVENT
DTSTART;TZID=America/Indiana/Indianapolis:20250701T173000
DTEND;TZID=America/Indiana/Indianapolis:20250701T183000
DTSTAMP:20260424T060659
CREATED:20250324T203125Z
LAST-MODIFIED:20250423T185218Z
UID:48904-1751391000-1751394600@www.myepl.org
SUMMARY:Butterflies
DESCRIPTION:With help from Elkhart County Parks Department\, learn about the butterflies raised right here at the Dunlap Branch.
URL:https://www.myepl.org/event/butterflies/
LOCATION:Dunlap Branch\, 58485 C.R. 13 East\, Elkhart\, IN\, 46516\, United States
CATEGORIES:Educational
ATTACH;FMTTYPE=image/jpeg:https://www.myepl.org/wp-content/uploads/2025/03/Lydia3-MonarchRelease-Sept2020.jpg
END:VEVENT
BEGIN:VEVENT
DTSTART;TZID=America/Indiana/Indianapolis:20250710T160000
DTEND;TZID=America/Indiana/Indianapolis:20250710T170000
DTSTAMP:20260424T060659
CREATED:20250320T194745Z
LAST-MODIFIED:20250701T202318Z
UID:48733-1752163200-1752166800@www.myepl.org
SUMMARY:Buzzing World of Bugs
DESCRIPTION:Get hands-on and meet live critters while learning about their unique life cycles and variety. \nInvestigue los insectos en acción y descubra su asombrosa diversidad y cicios vitales mediante actividades prácticas y encuentros cercanos con especies locales vivas.
URL:https://www.myepl.org/event/buzzing-world-of-bugs/
LOCATION:Pierre Moran Branch\, 2400 Benham Ave\, Elkhart\, IN\, 46517\, United States
CATEGORIES:Educational
ATTACH;FMTTYPE=image/png:https://www.myepl.org/wp-content/uploads/2025/03/buzzingbugs_Calendar-1.png
END:VEVENT
BEGIN:VEVENT
DTSTART;TZID=America/Indiana/Indianapolis:20250710T173000
DTEND;TZID=America/Indiana/Indianapolis:20250710T183000
DTSTAMP:20260424T060659
CREATED:20250324T144351Z
LAST-MODIFIED:20250627T202944Z
UID:48897-1752168600-1752172200@www.myepl.org
SUMMARY:Food Preservation Basics
DESCRIPTION:Whether growing food in a garden or buying from the store\, keep it fresher longer with help from a Purdue Extension educator. \nRegistration for this program opens June 1. 
URL:https://www.myepl.org/event/food-preservation-basics/
LOCATION:Cleveland Branch\, 53715 C.R. 1\, Elkhart\, IN\, 46514\, United States
CATEGORIES:Adult Programs,Educational
ATTACH;FMTTYPE=image/png:https://www.myepl.org/wp-content/uploads/2025/03/foodpresbasics_Calendar-1.png
END:VEVENT
BEGIN:VEVENT
DTSTART;TZID=America/Indiana/Indianapolis:20250729T140000
DTEND;TZID=America/Indiana/Indianapolis:20250729T150000
DTSTAMP:20260424T060659
CREATED:20250320T203310Z
LAST-MODIFIED:20250714T183350Z
UID:48756-1753797600-1753801200@www.myepl.org
SUMMARY:Homeschool LEGO Bots
DESCRIPTION:Work with teams to build LEGO creations that move\, light up or play sounds with coding. Best for ages 6 and up.  \nRegistration for this program begins June 1.
URL:https://www.myepl.org/event/homeschool-lego-bots-7/
LOCATION:Dunlap Branch\, 58485 C.R. 13 East\, Elkhart\, IN\, 46516\, United States
CATEGORIES:Educational,Just for Fun
ATTACH;FMTTYPE=image/jpeg:https://www.myepl.org/wp-content/uploads/2024/09/LEGO-Bots.jpg
END:VEVENT
END:VCALENDAR