BEGIN:VCALENDAR
VERSION:2.0
PRODID:-//Elkhart Public Library - ECPv6.15.20//NONSGML v1.0//EN
CALSCALE:GREGORIAN
METHOD:PUBLISH
X-WR-CALNAME:Elkhart Public Library
X-ORIGINAL-URL:https://www.myepl.org
X-WR-CALDESC:Events for Elkhart Public Library
REFRESH-INTERVAL;VALUE=DURATION:PT1H
X-Robots-Tag:noindex
X-PUBLISHED-TTL:PT1H
BEGIN:VTIMEZONE
TZID:America/Indiana/Indianapolis
BEGIN:DAYLIGHT
TZOFFSETFROM:-0500
TZOFFSETTO:-0400
TZNAME:EDT
DTSTART:20240310T070000
END:DAYLIGHT
BEGIN:STANDARD
TZOFFSETFROM:-0400
TZOFFSETTO:-0500
TZNAME:EST
DTSTART:20241103T060000
END:STANDARD
BEGIN:DAYLIGHT
TZOFFSETFROM:-0500
TZOFFSETTO:-0400
TZNAME:EDT
DTSTART:20250309T070000
END:DAYLIGHT
BEGIN:STANDARD
TZOFFSETFROM:-0400
TZOFFSETTO:-0500
TZNAME:EST
DTSTART:20251102T060000
END:STANDARD
BEGIN:DAYLIGHT
TZOFFSETFROM:-0500
TZOFFSETTO:-0400
TZNAME:EDT
DTSTART:20260308T070000
END:DAYLIGHT
BEGIN:STANDARD
TZOFFSETFROM:-0400
TZOFFSETTO:-0500
TZNAME:EST
DTSTART:20261101T060000
END:STANDARD
END:VTIMEZONE
BEGIN:VEVENT
DTSTART;TZID=America/Indiana/Indianapolis:20250905T110000
DTEND;TZID=America/Indiana/Indianapolis:20250905T120000
DTSTAMP:20260421T195409
CREATED:20250721T124250Z
LAST-MODIFIED:20250721T193636Z
UID:50902-1757070000-1757073600@www.myepl.org
SUMMARY:Talk With Your Baby
DESCRIPTION:Experts from Notre Dame’s Robinson Community Learning Center host this eight-week program\, helping caregivers bond with their babies ages 0 to 3. Plus\, get free books\, learn guided activities for your child and more. Click here for registration information for this program.
URL:https://www.myepl.org/event/talk-with-your-baby/2025-09-05/
LOCATION:Downtown Library\, 300 S. Second St.\, Elkhart\, IN\, 46516\, United States
CATEGORIES:Educational,Infant Programs
ATTACH;FMTTYPE=image/jpeg:https://www.myepl.org/wp-content/uploads/2025/07/Talk-with-your-Baby-scaled.jpg
END:VEVENT
BEGIN:VEVENT
DTSTART;TZID=America/Indiana/Indianapolis:20250911T170000
DTEND;TZID=America/Indiana/Indianapolis:20250911T180000
DTSTAMP:20260421T195409
CREATED:20250630T135501Z
LAST-MODIFIED:20250826T170608Z
UID:50623-1757610000-1757613600@www.myepl.org
SUMMARY:Cut the Cord
DESCRIPTION:Get informed on everything you should know before you return your cable box. From the best streaming platforms to internet speeds needed and more traditional cable alternatives.
URL:https://www.myepl.org/event/cut-the-cord/
LOCATION:Downtown Library\, 300 S. Second St.\, Elkhart\, IN\, 46516\, United States
CATEGORIES:Adult Programs,Educational
ATTACH;FMTTYPE=image/png:https://www.myepl.org/wp-content/uploads/2025/06/CUTTHECORD_Calendar.png
END:VEVENT
BEGIN:VEVENT
DTSTART;TZID=America/Indiana/Indianapolis:20250912T110000
DTEND;TZID=America/Indiana/Indianapolis:20250912T120000
DTSTAMP:20260421T195409
CREATED:20250721T124250Z
LAST-MODIFIED:20250721T193636Z
UID:50903-1757674800-1757678400@www.myepl.org
SUMMARY:Talk With Your Baby
DESCRIPTION:Experts from Notre Dame’s Robinson Community Learning Center host this eight-week program\, helping caregivers bond with their babies ages 0 to 3. Plus\, get free books\, learn guided activities for your child and more. Click here for registration information for this program.
URL:https://www.myepl.org/event/talk-with-your-baby/2025-09-12/
LOCATION:Downtown Library\, 300 S. Second St.\, Elkhart\, IN\, 46516\, United States
CATEGORIES:Educational,Infant Programs
ATTACH;FMTTYPE=image/jpeg:https://www.myepl.org/wp-content/uploads/2025/07/Talk-with-your-Baby-scaled.jpg
END:VEVENT
BEGIN:VEVENT
DTSTART;TZID=America/Indiana/Indianapolis:20250919T110000
DTEND;TZID=America/Indiana/Indianapolis:20250919T120000
DTSTAMP:20260421T195409
CREATED:20250721T124250Z
LAST-MODIFIED:20250721T193636Z
UID:50904-1758279600-1758283200@www.myepl.org
SUMMARY:Talk With Your Baby
DESCRIPTION:Experts from Notre Dame’s Robinson Community Learning Center host this eight-week program\, helping caregivers bond with their babies ages 0 to 3. Plus\, get free books\, learn guided activities for your child and more. Click here for registration information for this program.
URL:https://www.myepl.org/event/talk-with-your-baby/2025-09-19/
LOCATION:Downtown Library\, 300 S. Second St.\, Elkhart\, IN\, 46516\, United States
CATEGORIES:Educational,Infant Programs
ATTACH;FMTTYPE=image/jpeg:https://www.myepl.org/wp-content/uploads/2025/07/Talk-with-your-Baby-scaled.jpg
END:VEVENT
BEGIN:VEVENT
DTSTART;TZID=America/Indiana/Indianapolis:20250924T173000
DTEND;TZID=America/Indiana/Indianapolis:20250924T190000
DTSTAMP:20260421T195409
CREATED:20250623T161256Z
LAST-MODIFIED:20250820T200647Z
UID:50449-1758735000-1758740400@www.myepl.org
SUMMARY:Digital Safety: How to keep kids safe in the online world
DESCRIPTION:Experts from CAPS Elkhart share how to protect kids online from the many risks online\, plus how to help a child who encountered an online situation and how to make a report. 
URL:https://www.myepl.org/event/digital-safety-how-to-keep-kids-safe-in-the-online-world/
LOCATION:Downtown Library\, 300 S. Second St.\, Elkhart\, IN\, 46516\, United States
CATEGORIES:Adult Programs,Educational
ATTACH;FMTTYPE=image/png:https://www.myepl.org/wp-content/uploads/2025/06/digitalsafety_Calendar.png
END:VEVENT
BEGIN:VEVENT
DTSTART;TZID=America/Indiana/Indianapolis:20250926T110000
DTEND;TZID=America/Indiana/Indianapolis:20250926T120000
DTSTAMP:20260421T195409
CREATED:20250721T124250Z
LAST-MODIFIED:20250721T193636Z
UID:50905-1758884400-1758888000@www.myepl.org
SUMMARY:Talk With Your Baby
DESCRIPTION:Experts from Notre Dame’s Robinson Community Learning Center host this eight-week program\, helping caregivers bond with their babies ages 0 to 3. Plus\, get free books\, learn guided activities for your child and more. Click here for registration information for this program.
URL:https://www.myepl.org/event/talk-with-your-baby/2025-09-26/
LOCATION:Downtown Library\, 300 S. Second St.\, Elkhart\, IN\, 46516\, United States
CATEGORIES:Educational,Infant Programs
ATTACH;FMTTYPE=image/jpeg:https://www.myepl.org/wp-content/uploads/2025/07/Talk-with-your-Baby-scaled.jpg
END:VEVENT
BEGIN:VEVENT
DTSTART;TZID=America/Indiana/Indianapolis:20250927T130000
DTEND;TZID=America/Indiana/Indianapolis:20250927T143000
DTSTAMP:20260421T195409
CREATED:20250624T165724Z
LAST-MODIFIED:20250904T162015Z
UID:50408-1758978000-1758983400@www.myepl.org
SUMMARY:Una Conversación con Zulma Prieto/A Conversation with Zulma Prieto
DESCRIPTION:Zulma Prieto\, founder of El Puente newspaper leads a powerful conversation about the Latinx experience in Elkhart County. Explore 30 years of local migration history\, challenges and the role of journalism.  \n\nConoce la experiencia de la comunidad latina en el condado de Elkhart. 30 años de historia migrante\, desafíos locales y el poder del periodismo para dar voz a quienes no siempre son escuchados.
URL:https://www.myepl.org/event/voices-that-build-community-latinos-from-elkhart/
LOCATION:Downtown Library\, 300 S. Second St.\, Elkhart\, IN\, 46516\, United States
CATEGORIES:Adult Programs,Educational
ATTACH;FMTTYPE=image/jpeg:https://www.myepl.org/wp-content/uploads/2025/08/Prieto_Zulma_jhb.jpg
END:VEVENT
END:VCALENDAR