BEGIN:VCALENDAR
VERSION:2.0
PRODID:-//Elkhart Public Library - ECPv6.15.20//NONSGML v1.0//EN
CALSCALE:GREGORIAN
METHOD:PUBLISH
X-WR-CALNAME:Elkhart Public Library
X-ORIGINAL-URL:https://www.myepl.org
X-WR-CALDESC:Events for Elkhart Public Library
REFRESH-INTERVAL;VALUE=DURATION:PT1H
X-Robots-Tag:noindex
X-PUBLISHED-TTL:PT1H
BEGIN:VTIMEZONE
TZID:America/Indiana/Indianapolis
BEGIN:DAYLIGHT
TZOFFSETFROM:-0500
TZOFFSETTO:-0400
TZNAME:EDT
DTSTART:20250309T070000
END:DAYLIGHT
BEGIN:STANDARD
TZOFFSETFROM:-0400
TZOFFSETTO:-0500
TZNAME:EST
DTSTART:20251102T060000
END:STANDARD
BEGIN:DAYLIGHT
TZOFFSETFROM:-0500
TZOFFSETTO:-0400
TZNAME:EDT
DTSTART:20260308T070000
END:DAYLIGHT
BEGIN:STANDARD
TZOFFSETFROM:-0400
TZOFFSETTO:-0500
TZNAME:EST
DTSTART:20261101T060000
END:STANDARD
BEGIN:DAYLIGHT
TZOFFSETFROM:-0500
TZOFFSETTO:-0400
TZNAME:EDT
DTSTART:20270314T070000
END:DAYLIGHT
BEGIN:STANDARD
TZOFFSETFROM:-0400
TZOFFSETTO:-0500
TZNAME:EST
DTSTART:20271107T060000
END:STANDARD
END:VTIMEZONE
BEGIN:VEVENT
DTSTART;TZID=America/Indiana/Indianapolis:20260303T100000
DTEND;TZID=America/Indiana/Indianapolis:20260303T120000
DTSTAMP:20260421T042153
CREATED:20240108T211718Z
LAST-MODIFIED:20260313T184130Z
UID:41749-1772532000-1772539200@www.myepl.org
SUMMARY:Hooks and Needles
DESCRIPTION:Beginner and expert knitters and crocheters are welcome to work on new or existing projects\, share tips\, ideas and meet other enthusiasts.
URL:https://www.myepl.org/event/hooks-and-needles/2026-03-03/
LOCATION:Cleveland Branch\, 53715 C.R. 1\, Elkhart\, IN\, 46514\, United States
CATEGORIES:Crafts,Educational,Just for Fun
ATTACH;FMTTYPE=image/png:https://www.myepl.org/wp-content/uploads/2024/01/hooksandneedles_Calendar-1.png
END:VEVENT
BEGIN:VEVENT
DTSTART;TZID=America/Indiana/Indianapolis:20260304T160000
DTEND;TZID=America/Indiana/Indianapolis:20260304T170000
DTSTAMP:20260421T042153
CREATED:20251212T183836Z
LAST-MODIFIED:20260303T142835Z
UID:53580-1772640000-1772643600@www.myepl.org
SUMMARY:Kindergarten Gear Up
DESCRIPTION:(This event is full. Keep watching for more great activities.) \nPrepare your soon-to-be-kindergartener with the skills they need in the classroom at this free nine-week program led by a former teacher. Please consider if your child will be entering kindergarten before registering. \nRegistration for this program starts Feb. 1.
URL:https://www.myepl.org/event/kindergarten-gear-up/2026-03-04/
LOCATION:Downtown Library\, 300 S. Second St.\, Elkhart\, IN\, 46516\, United States
CATEGORIES:Educational,Preschool Programs
ATTACH;FMTTYPE=image/png:https://www.myepl.org/wp-content/uploads/2025/12/Kindergarten-Assessments.png
END:VEVENT
BEGIN:VEVENT
DTSTART;TZID=America/Indiana/Indianapolis:20260306T130000
DTEND;TZID=America/Indiana/Indianapolis:20260306T140000
DTSTAMP:20260421T042153
CREATED:20260226T133534Z
LAST-MODIFIED:20260227T151722Z
UID:54769-1772802000-1772805600@www.myepl.org
SUMMARY:Homeschool Winter Birds and Feeders
DESCRIPTION:Join Miss Debbie at Ox Bow Haus at Ox Bow County Park with naturalist James to learn about winter birds in our area. We’ll create a pinecone bird feeder\, too. Come dressed for a hike.
URL:https://www.myepl.org/event/homeschool-winter-birds-and-feeders/
LOCATION:Dunlap Branch\, 58485 C.R. 13 East\, Elkhart\, IN\, 46516\, United States
CATEGORIES:Educational,Preschool Programs,School Age Programs,Teen Programs
ATTACH;FMTTYPE=image/png:https://www.myepl.org/wp-content/uploads/2024/09/backyardbirding_Calendar.png
END:VEVENT
BEGIN:VEVENT
DTSTART;TZID=America/Indiana/Indianapolis:20260311T160000
DTEND;TZID=America/Indiana/Indianapolis:20260311T170000
DTSTAMP:20260421T042153
CREATED:20251212T183836Z
LAST-MODIFIED:20260303T142835Z
UID:53581-1773244800-1773248400@www.myepl.org
SUMMARY:Kindergarten Gear Up
DESCRIPTION:(This event is full. Keep watching for more great activities.) \nPrepare your soon-to-be-kindergartener with the skills they need in the classroom at this free nine-week program led by a former teacher. Please consider if your child will be entering kindergarten before registering. \nRegistration for this program starts Feb. 1.
URL:https://www.myepl.org/event/kindergarten-gear-up/2026-03-11/
LOCATION:Downtown Library\, 300 S. Second St.\, Elkhart\, IN\, 46516\, United States
CATEGORIES:Educational,Preschool Programs
ATTACH;FMTTYPE=image/png:https://www.myepl.org/wp-content/uploads/2025/12/Kindergarten-Assessments.png
END:VEVENT
BEGIN:VEVENT
DTSTART;TZID=America/Indiana/Indianapolis:20260317T100000
DTEND;TZID=America/Indiana/Indianapolis:20260317T120000
DTSTAMP:20260421T042153
CREATED:20240108T211718Z
LAST-MODIFIED:20260313T184139Z
UID:53616-1773741600-1773748800@www.myepl.org
SUMMARY:Hooks and Needles
DESCRIPTION:Beginner and expert knitters and crocheters are welcome to work on new or existing projects\, share tips\, ideas and meet other enthusiasts.
URL:https://www.myepl.org/event/hooks-and-needles/2026-03-17/
LOCATION:Cleveland Branch\, 53715 C.R. 1\, Elkhart\, IN\, 46514\, United States
CATEGORIES:Crafts,Educational,Just for Fun
ATTACH;FMTTYPE=image/png:https://www.myepl.org/wp-content/uploads/2024/01/hooksandneedles_Calendar-1.png
END:VEVENT
BEGIN:VEVENT
DTSTART;TZID=America/Indiana/Indianapolis:20260318T160000
DTEND;TZID=America/Indiana/Indianapolis:20260318T170000
DTSTAMP:20260421T042153
CREATED:20251212T183836Z
LAST-MODIFIED:20260303T142835Z
UID:53582-1773849600-1773853200@www.myepl.org
SUMMARY:Kindergarten Gear Up
DESCRIPTION:(This event is full. Keep watching for more great activities.) \nPrepare your soon-to-be-kindergartener with the skills they need in the classroom at this free nine-week program led by a former teacher. Please consider if your child will be entering kindergarten before registering. \nRegistration for this program starts Feb. 1.
URL:https://www.myepl.org/event/kindergarten-gear-up/2026-03-18/
LOCATION:Downtown Library\, 300 S. Second St.\, Elkhart\, IN\, 46516\, United States
CATEGORIES:Educational,Preschool Programs
ATTACH;FMTTYPE=image/png:https://www.myepl.org/wp-content/uploads/2025/12/Kindergarten-Assessments.png
END:VEVENT
BEGIN:VEVENT
DTSTART;TZID=America/Indiana/Indianapolis:20260321T130000
DTEND;TZID=America/Indiana/Indianapolis:20260321T140000
DTSTAMP:20260421T042153
CREATED:20251217T215925Z
LAST-MODIFIED:20260303T182230Z
UID:53816-1774098000-1774101600@www.myepl.org
SUMMARY:Preserving Family Treasures
DESCRIPTION:Michelle Nash\, curator for Elkhart County Historical Museum shares how to preserve family treasures like photographs\, textiles and papers.
URL:https://www.myepl.org/event/preserving-family-treasures/
LOCATION:Downtown Library\, 300 S. Second St.\, Elkhart\, IN\, 46516\, United States
CATEGORIES:Adult Programs,Educational
ATTACH;FMTTYPE=image/png:https://www.myepl.org/wp-content/uploads/2025/12/Preserving-Family-Treasures_Calendar.png
END:VEVENT
BEGIN:VEVENT
DTSTART;TZID=America/Indiana/Indianapolis:20260324T163000
DTEND;TZID=America/Indiana/Indianapolis:20260324T180000
DTSTAMP:20260421T042153
CREATED:20251210T194724Z
LAST-MODIFIED:20260106T155826Z
UID:53463-1774369800-1774375200@www.myepl.org
SUMMARY:Teen Resumé Building
DESCRIPTION:Whether you have work experience or are ready to jump into the job market\, we’re here to help you take the next steps with a free resumé workshop. 
URL:https://www.myepl.org/event/teen-resume-building-2/
LOCATION:Downtown Library\, 300 S. Second St.\, Elkhart\, IN\, 46516\, United States
CATEGORIES:Educational,Teen Programs
ATTACH;FMTTYPE=image/png:https://www.myepl.org/wp-content/uploads/2024/12/TeenResumeBuilding_Calendar.png
END:VEVENT
BEGIN:VEVENT
DTSTART;TZID=America/Indiana/Indianapolis:20260325T160000
DTEND;TZID=America/Indiana/Indianapolis:20260325T170000
DTSTAMP:20260421T042153
CREATED:20251212T183836Z
LAST-MODIFIED:20260303T142836Z
UID:53583-1774454400-1774458000@www.myepl.org
SUMMARY:Kindergarten Gear Up
DESCRIPTION:(This event is full. Keep watching for more great activities.) \nPrepare your soon-to-be-kindergartener with the skills they need in the classroom at this free nine-week program led by a former teacher. Please consider if your child will be entering kindergarten before registering. \nRegistration for this program starts Feb. 1.
URL:https://www.myepl.org/event/kindergarten-gear-up/2026-03-25/
LOCATION:Downtown Library\, 300 S. Second St.\, Elkhart\, IN\, 46516\, United States
CATEGORIES:Educational,Preschool Programs
ATTACH;FMTTYPE=image/png:https://www.myepl.org/wp-content/uploads/2025/12/Kindergarten-Assessments.png
END:VEVENT
END:VCALENDAR