BEGIN:VCALENDAR
VERSION:2.0
PRODID:-//Elkhart Public Library - ECPv6.15.20//NONSGML v1.0//EN
CALSCALE:GREGORIAN
METHOD:PUBLISH
X-ORIGINAL-URL:https://www.myepl.org
X-WR-CALDESC:Events for Elkhart Public Library
REFRESH-INTERVAL;VALUE=DURATION:PT1H
X-Robots-Tag:noindex
X-PUBLISHED-TTL:PT1H
BEGIN:VTIMEZONE
TZID:America/Indiana/Indianapolis
BEGIN:DAYLIGHT
TZOFFSETFROM:-0500
TZOFFSETTO:-0400
TZNAME:EDT
DTSTART:20250309T070000
END:DAYLIGHT
BEGIN:STANDARD
TZOFFSETFROM:-0400
TZOFFSETTO:-0500
TZNAME:EST
DTSTART:20251102T060000
END:STANDARD
BEGIN:DAYLIGHT
TZOFFSETFROM:-0500
TZOFFSETTO:-0400
TZNAME:EDT
DTSTART:20260308T070000
END:DAYLIGHT
BEGIN:STANDARD
TZOFFSETFROM:-0400
TZOFFSETTO:-0500
TZNAME:EST
DTSTART:20261101T060000
END:STANDARD
BEGIN:DAYLIGHT
TZOFFSETFROM:-0500
TZOFFSETTO:-0400
TZNAME:EDT
DTSTART:20270314T070000
END:DAYLIGHT
BEGIN:STANDARD
TZOFFSETFROM:-0400
TZOFFSETTO:-0500
TZNAME:EST
DTSTART:20271107T060000
END:STANDARD
END:VTIMEZONE
BEGIN:VEVENT
DTSTART;TZID=America/Indiana/Indianapolis:20260505T100000
DTEND;TZID=America/Indiana/Indianapolis:20260505T120000
DTSTAMP:20260421T042236
CREATED:20240108T211718Z
LAST-MODIFIED:20260313T184141Z
UID:53619-1777975200-1777982400@www.myepl.org
SUMMARY:Hooks and Needles
DESCRIPTION:Beginner and expert knitters and crocheters are welcome to work on new or existing projects\, share tips\, ideas and meet other enthusiasts.
URL:https://www.myepl.org/event/hooks-and-needles/2026-05-05/
LOCATION:Cleveland Branch\, 53715 C.R. 1\, Elkhart\, IN\, 46514\, United States
CATEGORIES:Crafts,Educational,Just for Fun
ATTACH;FMTTYPE=image/png:https://www.myepl.org/wp-content/uploads/2024/01/hooksandneedles_Calendar-1.png
END:VEVENT
BEGIN:VEVENT
DTSTART;TZID=America/Indiana/Indianapolis:20260511T173000
DTEND;TZID=America/Indiana/Indianapolis:20260511T183000
DTSTAMP:20260421T042236
CREATED:20260316T145949Z
LAST-MODIFIED:20260316T145949Z
UID:55332-1778520600-1778524200@www.myepl.org
SUMMARY:Gardening Q&A
DESCRIPTION:Master gardener Gwen Ferland answers your questions big and small to help you have a great growing season. 
URL:https://www.myepl.org/event/gardening-qa/
LOCATION:Cleveland Branch\, 53715 C.R. 1\, Elkhart\, IN\, 46514\, United States
CATEGORIES:Adult Programs,Educational
END:VEVENT
BEGIN:VEVENT
DTSTART;TZID=America/Indiana/Indianapolis:20260516T100000
DTEND;TZID=America/Indiana/Indianapolis:20260516T110000
DTSTAMP:20260421T042236
CREATED:20260316T200931Z
LAST-MODIFIED:20260316T200931Z
UID:55489-1778925600-1778929200@www.myepl.org
SUMMARY:Cut the Cord
DESCRIPTION:Find out everything you should consider before you ditch your cable service. Learn about library resources and more streaming options.
URL:https://www.myepl.org/event/cut-the-cord-3/
LOCATION:Downtown Library\, 300 S. Second St.\, Elkhart\, IN\, 46516\, United States
CATEGORIES:Adult Programs,Educational
ATTACH;FMTTYPE=image/png:https://www.myepl.org/wp-content/uploads/2025/06/CUTTHECORD_Calendar.png
END:VEVENT
BEGIN:VEVENT
DTSTART;TZID=America/Indiana/Indianapolis:20260516T190000
DTEND;TZID=America/Indiana/Indianapolis:20260516T213000
DTSTAMP:20260421T042236
CREATED:20260318T132505Z
LAST-MODIFIED:20260318T132505Z
UID:55519-1778958000-1778967000@www.myepl.org
SUMMARY:Pigskins & Ponytails: The story of a women's professional football team
DESCRIPTION:An immersive storytelling program featuring players and coaches of the 2002 South Bend Golden Hawks\, a professional women’s tackle football team. Narrated by longtime South Bend Tribune sportswriter and presented in partnership with The Acting Ensemble of Mishawaka\, it provides first-hand accounts and reflections on learning the game\, challenges they faced and what it means to them today. 
URL:https://www.myepl.org/event/pigskins-ponytails-the-story-of-a-womens-professional-football-team/
LOCATION:Downtown Library\, 300 S. Second St.\, Elkhart\, IN\, 46516\, United States
CATEGORIES:Adult Programs,Educational,Just for Fun,Preschool Programs,School Age Programs,Teen Programs
END:VEVENT
BEGIN:VEVENT
DTSTART;TZID=America/Indiana/Indianapolis:20260519T100000
DTEND;TZID=America/Indiana/Indianapolis:20260519T120000
DTSTAMP:20260421T042236
CREATED:20240108T211718Z
LAST-MODIFIED:20240108T211718Z
UID:55202-1779184800-1779192000@www.myepl.org
SUMMARY:Hooks and Needles
DESCRIPTION:Beginner and expert knitters and crocheters are welcome to work on new or existing projects\, share tips\, ideas and meet other enthusiasts.
URL:https://www.myepl.org/event/hooks-and-needles/2026-05-19/
LOCATION:Cleveland Branch\, 53715 C.R. 1\, Elkhart\, IN\, 46514\, United States
CATEGORIES:Crafts,Educational,Just for Fun
ATTACH;FMTTYPE=image/png:https://www.myepl.org/wp-content/uploads/2024/01/hooksandneedles_Calendar-1.png
END:VEVENT
BEGIN:VEVENT
DTSTART;TZID=America/Indiana/Indianapolis:20260519T173000
DTEND;TZID=America/Indiana/Indianapolis:20260519T183000
DTSTAMP:20260421T042236
CREATED:20260316T141612Z
LAST-MODIFIED:20260316T141612Z
UID:55303-1779211800-1779215400@www.myepl.org
SUMMARY:Pioneer Toys
DESCRIPTION:See what kids played with in the settler days with an Elkhart County Parks naturalist. Play with them and then make your own. 
URL:https://www.myepl.org/event/pioneer-toys/
LOCATION:Dunlap Branch\, 58485 C.R. 13 East\, Elkhart\, IN\, 46516\, United States
CATEGORIES:Crafts,Educational,Preschool Programs,School Age Programs,Teen Programs
END:VEVENT
END:VCALENDAR