BEGIN:VCALENDAR
VERSION:2.0
PRODID:-//Elkhart Public Library - ECPv6.15.20//NONSGML v1.0//EN
CALSCALE:GREGORIAN
METHOD:PUBLISH
X-ORIGINAL-URL:https://www.myepl.org
X-WR-CALDESC:Events for Elkhart Public Library
REFRESH-INTERVAL;VALUE=DURATION:PT1H
X-Robots-Tag:noindex
X-PUBLISHED-TTL:PT1H
BEGIN:VTIMEZONE
TZID:America/Indiana/Indianapolis
BEGIN:DAYLIGHT
TZOFFSETFROM:-0500
TZOFFSETTO:-0400
TZNAME:EDT
DTSTART:20240310T070000
END:DAYLIGHT
BEGIN:STANDARD
TZOFFSETFROM:-0400
TZOFFSETTO:-0500
TZNAME:EST
DTSTART:20241103T060000
END:STANDARD
BEGIN:DAYLIGHT
TZOFFSETFROM:-0500
TZOFFSETTO:-0400
TZNAME:EDT
DTSTART:20250309T070000
END:DAYLIGHT
BEGIN:STANDARD
TZOFFSETFROM:-0400
TZOFFSETTO:-0500
TZNAME:EST
DTSTART:20251102T060000
END:STANDARD
BEGIN:DAYLIGHT
TZOFFSETFROM:-0500
TZOFFSETTO:-0400
TZNAME:EDT
DTSTART:20260308T070000
END:DAYLIGHT
BEGIN:STANDARD
TZOFFSETFROM:-0400
TZOFFSETTO:-0500
TZNAME:EST
DTSTART:20261101T060000
END:STANDARD
END:VTIMEZONE
BEGIN:VEVENT
DTSTART;TZID=America/Indiana/Indianapolis:20250522T170000
DTEND;TZID=America/Indiana/Indianapolis:20250522T180000
DTSTAMP:20260424T135520
CREATED:20250320T175803Z
LAST-MODIFIED:20250320T180439Z
UID:48722-1747933200-1747936800@www.myepl.org
SUMMARY:Diabetes 101: Spanish and English
DESCRIPTION:Essential knowledge and practical skills for people managing their diabetes or their caretakers. Experts from Purdue Extension in Elkhart County will present this session in both Spanish and English. \nEste programa proporciona conocimientos esenciales y habilidades prácticas para el control eficaz de la diabetes para las personas con diabetes y sus cuidadores. Los participantes aprenderán sobre la diabetes\, su control y las estratedias para optimizar la salud y el bienestar. Dísponible en inglés y español. \nRegistration for this program opens April 1.
URL:https://www.myepl.org/event/diabetes-101-spanish-and-english/
LOCATION:Pierre Moran Branch\, 2400 Benham Ave\, Elkhart\, IN\, 46517\, United States
CATEGORIES:Adult Programs,Educational
ATTACH;FMTTYPE=image/png:https://www.myepl.org/wp-content/uploads/2024/12/Diabetes101_Calendar.png
END:VEVENT
END:VCALENDAR