BEGIN:VCALENDAR
VERSION:2.0
PRODID:-//Elkhart Public Library - ECPv6.15.20//NONSGML v1.0//EN
CALSCALE:GREGORIAN
METHOD:PUBLISH
X-ORIGINAL-URL:https://www.myepl.org
X-WR-CALDESC:Events for Elkhart Public Library
REFRESH-INTERVAL;VALUE=DURATION:PT1H
X-Robots-Tag:noindex
X-PUBLISHED-TTL:PT1H
BEGIN:VTIMEZONE
TZID:America/Indiana/Indianapolis
BEGIN:DAYLIGHT
TZOFFSETFROM:-0500
TZOFFSETTO:-0400
TZNAME:EDT
DTSTART:20240310T070000
END:DAYLIGHT
BEGIN:STANDARD
TZOFFSETFROM:-0400
TZOFFSETTO:-0500
TZNAME:EST
DTSTART:20241103T060000
END:STANDARD
BEGIN:DAYLIGHT
TZOFFSETFROM:-0500
TZOFFSETTO:-0400
TZNAME:EDT
DTSTART:20250309T070000
END:DAYLIGHT
BEGIN:STANDARD
TZOFFSETFROM:-0400
TZOFFSETTO:-0500
TZNAME:EST
DTSTART:20251102T060000
END:STANDARD
BEGIN:DAYLIGHT
TZOFFSETFROM:-0500
TZOFFSETTO:-0400
TZNAME:EDT
DTSTART:20260308T070000
END:DAYLIGHT
BEGIN:STANDARD
TZOFFSETFROM:-0400
TZOFFSETTO:-0500
TZNAME:EST
DTSTART:20261101T060000
END:STANDARD
END:VTIMEZONE
BEGIN:VEVENT
DTSTART;TZID=America/Indiana/Indianapolis:20250630T140000
DTEND;TZID=America/Indiana/Indianapolis:20250630T150000
DTSTAMP:20260424T073743
CREATED:20250320T203126Z
LAST-MODIFIED:20250627T165855Z
UID:48753-1751292000-1751295600@www.myepl.org
SUMMARY:Homeschool LEGO Bots
DESCRIPTION:Work with teams to build LEGO creations that move\, light up or play sounds with coding. Best for ages 6 and up.  \nRegistration for this program opens May 1. \n 
URL:https://www.myepl.org/event/homeschool-lego-bots-6/
LOCATION:Dunlap Branch\, 58485 C.R. 13 East\, Elkhart\, IN\, 46516\, United States
CATEGORIES:Educational,Just for Fun
ATTACH;FMTTYPE=image/jpeg:https://www.myepl.org/wp-content/uploads/2025/03/LEGO-Bots-06-scaled.jpg
END:VEVENT
BEGIN:VEVENT
DTSTART;TZID=America/Indiana/Indianapolis:20250630T153000
DTEND;TZID=America/Indiana/Indianapolis:20250630T163000
DTSTAMP:20260424T073743
CREATED:20250320T201927Z
LAST-MODIFIED:20250617T165739Z
UID:48744-1751297400-1751301000@www.myepl.org
SUMMARY:Potawatomi Zoo
DESCRIPTION:See animals up close and learn more about them with the experts from Potawatomi Zoo. Two sessions are available to serve more families.
URL:https://www.myepl.org/event/potawatomi-zoo/
LOCATION:Downtown Library\, 300 S. Second St.\, Elkhart\, IN\, 46516\, United States
CATEGORIES:Educational,Just for Fun
ATTACH;FMTTYPE=image/jpeg:https://www.myepl.org/wp-content/uploads/2025/03/DSC0128-scaled.jpg
END:VEVENT
BEGIN:VEVENT
DTSTART;TZID=America/Indiana/Indianapolis:20250630T170000
DTEND;TZID=America/Indiana/Indianapolis:20250630T180000
DTSTAMP:20260424T073743
CREATED:20250320T202256Z
LAST-MODIFIED:20250617T165822Z
UID:48747-1751302800-1751306400@www.myepl.org
SUMMARY:Potawatomi Zoo
DESCRIPTION:See animals up close and learn more about them with the experts from Potawatomi Zoo. Two sessions are available to serve more families.
URL:https://www.myepl.org/event/potawatomi-zoo-2/
LOCATION:Downtown Library\, 300 S. Second St.\, Elkhart\, IN\, 46516\, United States
CATEGORIES:Educational,Just for Fun
ATTACH;FMTTYPE=image/jpeg:https://www.myepl.org/wp-content/uploads/2025/03/DSC0050-scaled.jpg
END:VEVENT
END:VCALENDAR