BEGIN:VCALENDAR
VERSION:2.0
PRODID:-//Elkhart Public Library - ECPv6.15.20//NONSGML v1.0//EN
CALSCALE:GREGORIAN
METHOD:PUBLISH
X-ORIGINAL-URL:https://www.myepl.org
X-WR-CALDESC:Events for Elkhart Public Library
REFRESH-INTERVAL;VALUE=DURATION:PT1H
X-Robots-Tag:noindex
X-PUBLISHED-TTL:PT1H
BEGIN:VTIMEZONE
TZID:America/Indiana/Indianapolis
BEGIN:DAYLIGHT
TZOFFSETFROM:-0500
TZOFFSETTO:-0400
TZNAME:EDT
DTSTART:20250309T070000
END:DAYLIGHT
BEGIN:STANDARD
TZOFFSETFROM:-0400
TZOFFSETTO:-0500
TZNAME:EST
DTSTART:20251102T060000
END:STANDARD
BEGIN:DAYLIGHT
TZOFFSETFROM:-0500
TZOFFSETTO:-0400
TZNAME:EDT
DTSTART:20260308T070000
END:DAYLIGHT
BEGIN:STANDARD
TZOFFSETFROM:-0400
TZOFFSETTO:-0500
TZNAME:EST
DTSTART:20261101T060000
END:STANDARD
BEGIN:DAYLIGHT
TZOFFSETFROM:-0500
TZOFFSETTO:-0400
TZNAME:EDT
DTSTART:20270314T070000
END:DAYLIGHT
BEGIN:STANDARD
TZOFFSETFROM:-0400
TZOFFSETTO:-0500
TZNAME:EST
DTSTART:20271107T060000
END:STANDARD
END:VTIMEZONE
BEGIN:VEVENT
DTSTART;TZID=America/Indiana/Indianapolis:20260604T150000
DTEND;TZID=America/Indiana/Indianapolis:20260604T154500
DTSTAMP:20260421T054846
CREATED:20260316T183916Z
LAST-MODIFIED:20260323T185925Z
UID:55479-1780585200-1780587900@www.myepl.org
SUMMARY:Spanish Together
DESCRIPTION:A free\, seven-week program focusing on learning Spanish at an elementary age level through vocabulary lessons\, games and activities. \nRegistration for this program opens May 1.
URL:https://www.myepl.org/event/spanish-together/2026-06-04/
LOCATION:Cleveland Branch\, 53715 C.R. 1\, Elkhart\, IN\, 46514\, United States
CATEGORIES:Educational,School Age Programs
END:VEVENT
BEGIN:VEVENT
DTSTART;TZID=America/Indiana/Indianapolis:20260604T163000
DTEND;TZID=America/Indiana/Indianapolis:20260604T173000
DTSTAMP:20260421T054846
CREATED:20260316T140405Z
LAST-MODIFIED:20260316T140405Z
UID:55301-1780590600-1780594200@www.myepl.org
SUMMARY:Tin Can Punch with Elkhart County Parks
DESCRIPTION:Meet Miss Debbie at Ox Bow County Park to make a tin can lantern. Learn about this American folk art tradition from an Elkhart County Parks naturalist.
URL:https://www.myepl.org/event/tin-can-punch-with-elkhart-county-parks/
LOCATION:Dunlap Branch\, 58485 C.R. 13 East\, Elkhart\, IN\, 46516\, United States
CATEGORIES:Crafts,Educational,School Age Programs,Teen Programs
END:VEVENT
END:VCALENDAR