BEGIN:VCALENDAR
VERSION:2.0
PRODID:-//Elkhart Public Library - ECPv6.15.20//NONSGML v1.0//EN
CALSCALE:GREGORIAN
METHOD:PUBLISH
X-ORIGINAL-URL:https://www.myepl.org
X-WR-CALDESC:Events for Elkhart Public Library
REFRESH-INTERVAL;VALUE=DURATION:PT1H
X-Robots-Tag:noindex
X-PUBLISHED-TTL:PT1H
BEGIN:VTIMEZONE
TZID:America/Indiana/Indianapolis
BEGIN:DAYLIGHT
TZOFFSETFROM:-0500
TZOFFSETTO:-0400
TZNAME:EDT
DTSTART:20250309T070000
END:DAYLIGHT
BEGIN:STANDARD
TZOFFSETFROM:-0400
TZOFFSETTO:-0500
TZNAME:EST
DTSTART:20251102T060000
END:STANDARD
BEGIN:DAYLIGHT
TZOFFSETFROM:-0500
TZOFFSETTO:-0400
TZNAME:EDT
DTSTART:20260308T070000
END:DAYLIGHT
BEGIN:STANDARD
TZOFFSETFROM:-0400
TZOFFSETTO:-0500
TZNAME:EST
DTSTART:20261101T060000
END:STANDARD
BEGIN:DAYLIGHT
TZOFFSETFROM:-0500
TZOFFSETTO:-0400
TZNAME:EDT
DTSTART:20270314T070000
END:DAYLIGHT
BEGIN:STANDARD
TZOFFSETFROM:-0400
TZOFFSETTO:-0500
TZNAME:EST
DTSTART:20271107T060000
END:STANDARD
END:VTIMEZONE
BEGIN:VEVENT
DTSTART;TZID=America/Indiana/Indianapolis:20260703T180000
DTEND;TZID=America/Indiana/Indianapolis:20260703T220000
DTSTAMP:20260424T182934
CREATED:20260410T183924Z
LAST-MODIFIED:20260410T184045Z
UID:55977-1783101600-1783116000@www.myepl.org
SUMMARY:Curbside Concerts: Paul Erdman with Marcus Clingaman
DESCRIPTION:Let’s name the night: Paul E Pluribus Unum. Our celebration of America 250 on July 3 also includes a special start time – 6 p.m. – and a special opening performance by Marcus Clingaman. \nCurbside Concerts are free to attend. Food and beverages are available for purchase – That Guys Gourmet Ribs and Tropicana Ice Cream Shop will be here with us along with Shirley’s Gourmet Popcorn. Bring a camp chair\, bring a blanket\, bring your ready-for-the-weekend mood. \nThe “Well Crafted” events have the support of the Elkhart County Convention and Visitors Bureau. Check out MyEPL.org/curbside for all the series info.
URL:https://www.myepl.org/event/curbside-concerts-paul-erdman-with-marcus-clingaman/
LOCATION:Downtown Library\, 300 S. Second St.\, Elkhart\, IN\, 46516\, United States
CATEGORIES:Featured,Music
ATTACH;FMTTYPE=image/jpeg:https://www.myepl.org/wp-content/uploads/2026/04/Jazz-Fest-2024-06-scaled.jpg
END:VEVENT
END:VCALENDAR