BEGIN:VCALENDAR
VERSION:2.0
PRODID:-//Elkhart Public Library - ECPv6.15.20//NONSGML v1.0//EN
CALSCALE:GREGORIAN
METHOD:PUBLISH
X-ORIGINAL-URL:https://www.myepl.org
X-WR-CALDESC:Events for Elkhart Public Library
REFRESH-INTERVAL;VALUE=DURATION:PT1H
X-Robots-Tag:noindex
X-PUBLISHED-TTL:PT1H
BEGIN:VTIMEZONE
TZID:America/Indiana/Indianapolis
BEGIN:DAYLIGHT
TZOFFSETFROM:-0500
TZOFFSETTO:-0400
TZNAME:EDT
DTSTART:20250309T070000
END:DAYLIGHT
BEGIN:STANDARD
TZOFFSETFROM:-0400
TZOFFSETTO:-0500
TZNAME:EST
DTSTART:20251102T060000
END:STANDARD
BEGIN:DAYLIGHT
TZOFFSETFROM:-0500
TZOFFSETTO:-0400
TZNAME:EDT
DTSTART:20260308T070000
END:DAYLIGHT
BEGIN:STANDARD
TZOFFSETFROM:-0400
TZOFFSETTO:-0500
TZNAME:EST
DTSTART:20261101T060000
END:STANDARD
BEGIN:DAYLIGHT
TZOFFSETFROM:-0500
TZOFFSETTO:-0400
TZNAME:EDT
DTSTART:20270314T070000
END:DAYLIGHT
BEGIN:STANDARD
TZOFFSETFROM:-0400
TZOFFSETTO:-0500
TZNAME:EST
DTSTART:20271107T060000
END:STANDARD
END:VTIMEZONE
BEGIN:VEVENT
DTSTART;TZID=America/Indiana/Indianapolis:20260310T163000
DTEND;TZID=America/Indiana/Indianapolis:20260310T180000
DTSTAMP:20260423T081838
CREATED:20260106T185807Z
LAST-MODIFIED:20260106T185807Z
UID:54109-1773160200-1773165600@www.myepl.org
SUMMARY:Teen Mario Kart
DESCRIPTION:Bring your friends to play Mario Kart on our Nintendo Switch. Just come in and have fun.
URL:https://www.myepl.org/event/teen-mario-kart-3/
LOCATION:Downtown Library\, 300 S. Second St.\, Elkhart\, IN\, 46516\, United States
CATEGORIES:Just for Fun,Teen Programs
ATTACH;FMTTYPE=image/png:https://www.myepl.org/wp-content/uploads/2023/06/Mario-Kart-Tournament-Calendar.png
END:VEVENT
BEGIN:VEVENT
DTSTART;TZID=America/Indiana/Indianapolis:20260310T170000
DTEND;TZID=America/Indiana/Indianapolis:20260310T180000
DTSTAMP:20260423T081838
CREATED:20231211T143927Z
LAST-MODIFIED:20260316T181717Z
UID:41133-1773162000-1773165600@www.myepl.org
SUMMARY:Cleveland LEGO Club
DESCRIPTION:Bring your ideas to life by building and showing off your creation.
URL:https://www.myepl.org/event/cleveland-lego-club-3-2024-04-09/2026-03-10/
LOCATION:Cleveland Branch\, 53715 C.R. 1\, Elkhart\, IN\, 46514\, United States
CATEGORIES:Just for Fun
ATTACH;FMTTYPE=image/jpeg:https://www.myepl.org/wp-content/uploads/2023/12/Cleveland-LEGO-03-scaled.jpg
END:VEVENT
END:VCALENDAR