BEGIN:VCALENDAR
VERSION:2.0
PRODID:-//Elkhart Public Library - ECPv6.15.20//NONSGML v1.0//EN
CALSCALE:GREGORIAN
METHOD:PUBLISH
X-ORIGINAL-URL:https://www.myepl.org
X-WR-CALDESC:Events for Elkhart Public Library
REFRESH-INTERVAL;VALUE=DURATION:PT1H
X-Robots-Tag:noindex
X-PUBLISHED-TTL:PT1H
BEGIN:VTIMEZONE
TZID:America/Indiana/Indianapolis
BEGIN:DAYLIGHT
TZOFFSETFROM:-0500
TZOFFSETTO:-0400
TZNAME:EDT
DTSTART:20250309T070000
END:DAYLIGHT
BEGIN:STANDARD
TZOFFSETFROM:-0400
TZOFFSETTO:-0500
TZNAME:EST
DTSTART:20251102T060000
END:STANDARD
BEGIN:DAYLIGHT
TZOFFSETFROM:-0500
TZOFFSETTO:-0400
TZNAME:EDT
DTSTART:20260308T070000
END:DAYLIGHT
BEGIN:STANDARD
TZOFFSETFROM:-0400
TZOFFSETTO:-0500
TZNAME:EST
DTSTART:20261101T060000
END:STANDARD
BEGIN:DAYLIGHT
TZOFFSETFROM:-0500
TZOFFSETTO:-0400
TZNAME:EDT
DTSTART:20270314T070000
END:DAYLIGHT
BEGIN:STANDARD
TZOFFSETFROM:-0400
TZOFFSETTO:-0500
TZNAME:EST
DTSTART:20271107T060000
END:STANDARD
END:VTIMEZONE
BEGIN:VEVENT
DTSTART;TZID=America/Indiana/Indianapolis:20260416T093000
DTEND;TZID=America/Indiana/Indianapolis:20260416T110000
DTSTAMP:20260423T014317
CREATED:20251205T203235Z
LAST-MODIFIED:20260312T124348Z
UID:53279-1776331800-1776337200@www.myepl.org
SUMMARY:Open Doors: A community for adults with disabilities
DESCRIPTION:Join us for fun and enriching activities to build a community supporting adults with intellectual disabilities. Explore creativity\, build skills and connect.
URL:https://www.myepl.org/event/open-doors-a-community-for-adults-with-disabilities/2026-04-16/
LOCATION:Downtown Library\, 300 S. Second St.\, Elkhart\, IN\, 46516\, United States
CATEGORIES:Adult Programs,Just for Fun
ATTACH;FMTTYPE=image/png:https://www.myepl.org/wp-content/uploads/2025/12/open-doors.png
END:VEVENT
BEGIN:VEVENT
DTSTART;TZID=America/Indiana/Indianapolis:20260416T130000
DTEND;TZID=America/Indiana/Indianapolis:20260416T140000
DTSTAMP:20260423T014317
CREATED:20260407T165435Z
LAST-MODIFIED:20260407T165435Z
UID:55910-1776344400-1776348000@www.myepl.org
SUMMARY:Making Sensory Bottles with Golden Steps ABA
DESCRIPTION:To celebrate Autism Awareness Month\, we’re partnering with Golden Steps ABA to host a sensory bottle-making event. Get hands-on and use creativity and take home what you make.
URL:https://www.myepl.org/event/making-sensory-bottles-with-golden-steps-aba/
LOCATION:Downtown Library\, 300 S. Second St.\, Elkhart\, IN\, 46516\, United States
CATEGORIES:Just for Fun,Preschool Programs,School Age Programs,Teen Programs
ATTACH;FMTTYPE=image/jpeg:https://www.myepl.org/wp-content/uploads/2026/04/How-to-Make-a-Sensory-Bottle-Guide.jpg
END:VEVENT
BEGIN:VEVENT
DTSTART;TZID=America/Indiana/Indianapolis:20260416T160000
DTEND;TZID=America/Indiana/Indianapolis:20260416T170000
DTSTAMP:20260423T014317
CREATED:20260312T124909Z
LAST-MODIFIED:20260401T170459Z
UID:55335-1776355200-1776358800@www.myepl.org
SUMMARY:WordPlay Open Mic - Spoken Word Performances
DESCRIPTION:Jake Webster\, local artist and writer\, hosts this special open-mic event during National Poetry Month. This series gives everyone a chance to take the mic with an original written work or song. Or share someone else’s published work if you’re moved by it. The events are free and no registration is necessary.
URL:https://www.myepl.org/event/wordplay-open-mic-spoken-word-performances/2026-04-16/
LOCATION:Downtown Library\, 300 S. Second St.\, Elkhart\, IN\, 46516\, United States
CATEGORIES:Adult Programs,Just for Fun,Teen Programs,Writing
ATTACH;FMTTYPE=image/jpeg:https://www.myepl.org/wp-content/uploads/2026/03/Wordplay-04-scaled.jpg
END:VEVENT
END:VCALENDAR