BEGIN:VCALENDAR
VERSION:2.0
PRODID:-//Elkhart Public Library - ECPv6.15.20//NONSGML v1.0//EN
CALSCALE:GREGORIAN
METHOD:PUBLISH
X-ORIGINAL-URL:https://www.myepl.org
X-WR-CALDESC:Events for Elkhart Public Library
REFRESH-INTERVAL;VALUE=DURATION:PT1H
X-Robots-Tag:noindex
X-PUBLISHED-TTL:PT1H
BEGIN:VTIMEZONE
TZID:America/Indiana/Indianapolis
BEGIN:DAYLIGHT
TZOFFSETFROM:-0500
TZOFFSETTO:-0400
TZNAME:EDT
DTSTART:20240310T070000
END:DAYLIGHT
BEGIN:STANDARD
TZOFFSETFROM:-0400
TZOFFSETTO:-0500
TZNAME:EST
DTSTART:20241103T060000
END:STANDARD
BEGIN:DAYLIGHT
TZOFFSETFROM:-0500
TZOFFSETTO:-0400
TZNAME:EDT
DTSTART:20250309T070000
END:DAYLIGHT
BEGIN:STANDARD
TZOFFSETFROM:-0400
TZOFFSETTO:-0500
TZNAME:EST
DTSTART:20251102T060000
END:STANDARD
BEGIN:DAYLIGHT
TZOFFSETFROM:-0500
TZOFFSETTO:-0400
TZNAME:EDT
DTSTART:20260308T070000
END:DAYLIGHT
BEGIN:STANDARD
TZOFFSETFROM:-0400
TZOFFSETTO:-0500
TZNAME:EST
DTSTART:20261101T060000
END:STANDARD
END:VTIMEZONE
BEGIN:VEVENT
DTSTART;TZID=America/Indiana/Indianapolis:20250415T100000
DTEND;TZID=America/Indiana/Indianapolis:20250415T110000
DTSTAMP:20260419T142136
CREATED:20241220T170027Z
LAST-MODIFIED:20250317T193011Z
UID:47292-1744711200-1744714800@www.myepl.org
SUMMARY:Easter Party for Littles
DESCRIPTION:Music\, stories and games before a shared egg hunt with something for everyone to take home (regardless of how many eggs you find).
URL:https://www.myepl.org/event/easter-party-for-littles-2/
LOCATION:Downtown Library\, 300 S. Second St.\, Elkhart\, IN\, 46516\, United States
CATEGORIES:Featured,Just for Fun
ATTACH;FMTTYPE=image/jpeg:https://www.myepl.org/wp-content/uploads/2024/12/Egg-Hunt-for-Littles-04-scaled.jpg
END:VEVENT
BEGIN:VEVENT
DTSTART;VALUE=DATE:20250414
DTEND;VALUE=DATE:20250415
DTSTAMP:20260419T142136
CREATED:20241226T160154Z
LAST-MODIFIED:20250404T144352Z
UID:47453-1744588800-1744675199@www.myepl.org
SUMMARY:Spring Bunny Scavenger Hunt
DESCRIPTION:Drop in to Pierre Moran anytime in April to find our hidden bunnies and win a prize.
URL:https://www.myepl.org/event/spring-bunny-scavenger-hunt-2/2025-04-14/
LOCATION:Pierre Moran Branch\, 2400 Benham Ave\, Elkhart\, IN\, 46517\, United States
CATEGORIES:Just for Fun
ATTACH;FMTTYPE=image/png:https://www.myepl.org/wp-content/uploads/2024/01/SpringBunnyScavengerHunt-PM.png
END:VEVENT
BEGIN:VEVENT
DTSTART;VALUE=DATE:20250414
DTEND;VALUE=DATE:20250415
DTSTAMP:20260419T142136
CREATED:20241226T135936Z
LAST-MODIFIED:20241226T135936Z
UID:47393-1744588800-1744675199@www.myepl.org
SUMMARY:Peeps Diorama Contest
DESCRIPTION:Create a scene from a favorite book or characters with Peeps. Pick up an entry form and Peeps starting Monday\, March 24 while supplies last. Return your scene and form by Tuesday\, April 15. We’ll host a work day from 9 a.m. to 3 p.m. Saturday\, April 12 to build an entry. Winners will be announced on Wednesday\, April 23. 
URL:https://www.myepl.org/event/peeps-diorama-contest-3/2025-04-14/
LOCATION:Cleveland Branch\, 53715 C.R. 1\, Elkhart\, IN\, 46514\, United States
CATEGORIES:Adult Programs,Just for Fun,School Age Programs,Teen Programs
ATTACH;FMTTYPE=image/png:https://www.myepl.org/wp-content/uploads/2023/03/Peeps-Diorama-Contest-Calendar.png
END:VEVENT
BEGIN:VEVENT
DTSTART;TZID=America/Indiana/Indianapolis:20250412T090000
DTEND;TZID=America/Indiana/Indianapolis:20250412T150000
DTSTAMP:20260419T142136
CREATED:20241227T155225Z
LAST-MODIFIED:20241227T155225Z
UID:47529-1744448400-1744470000@www.myepl.org
SUMMARY:Spring Break Boredom Busters
DESCRIPTION:Find drop-in activities for kids and families throughout spring break. Plus\, we’ll have free popcorn and a showing of Moana 2 (rated PG\, 1h:40m) at 1:30 p.m. on Friday\, April 11.
URL:https://www.myepl.org/event/spring-break-boredom-busters/2025-04-12/
LOCATION:Cleveland Branch\, 53715 C.R. 1\, Elkhart\, IN\, 46514\, United States
CATEGORIES:Just for Fun,School Age Programs
ATTACH;FMTTYPE=image/png:https://www.myepl.org/wp-content/uploads/2023/03/Spring-Break-Boredom-Busters-Calendar.png
END:VEVENT
BEGIN:VEVENT
DTSTART;TZID=America/Indiana/Indianapolis:20250411T140000
DTEND;TZID=America/Indiana/Indianapolis:20250411T170000
DTSTAMP:20260419T142136
CREATED:20241226T172239Z
LAST-MODIFIED:20250401T205945Z
UID:47492-1744380000-1744390800@www.myepl.org
SUMMARY:Spring Break Junior Theater Camp
DESCRIPTION:Spend your spring break with a beginner theater camp. Practice is Monday to Friday with a performance on Friday night. Great for ages 6 to 13. \nRegistration for this event is open until Friday\, April 4 or until it is full.
URL:https://www.myepl.org/event/spring-break-junior-theater-camp/2025-04-11/
LOCATION:Dunlap Branch\, 58485 C.R. 13 East\, Elkhart\, IN\, 46516\, United States
CATEGORIES:Just for Fun,School Age Programs
ATTACH;FMTTYPE=image/jpeg:https://www.myepl.org/wp-content/uploads/2023/03/received_6075275275820566.jpeg
END:VEVENT
BEGIN:VEVENT
DTSTART;TZID=America/Indiana/Indianapolis:20250411T090000
DTEND;TZID=America/Indiana/Indianapolis:20250411T180000
DTSTAMP:20260419T142136
CREATED:20241227T155225Z
LAST-MODIFIED:20241227T155225Z
UID:47528-1744362000-1744394400@www.myepl.org
SUMMARY:Spring Break Boredom Busters
DESCRIPTION:Find drop-in activities for kids and families throughout spring break. Plus\, we’ll have free popcorn and a showing of Moana 2 (rated PG\, 1h:40m) at 1:30 p.m. on Friday\, April 11.
URL:https://www.myepl.org/event/spring-break-boredom-busters/2025-04-11/
LOCATION:Cleveland Branch\, 53715 C.R. 1\, Elkhart\, IN\, 46514\, United States
CATEGORIES:Just for Fun,School Age Programs
ATTACH;FMTTYPE=image/png:https://www.myepl.org/wp-content/uploads/2023/03/Spring-Break-Boredom-Busters-Calendar.png
END:VEVENT
BEGIN:VEVENT
DTSTART;TZID=America/Indiana/Indianapolis:20250410T140000
DTEND;TZID=America/Indiana/Indianapolis:20250410T170000
DTSTAMP:20260419T142136
CREATED:20241226T172239Z
LAST-MODIFIED:20250401T205944Z
UID:47491-1744293600-1744304400@www.myepl.org
SUMMARY:Spring Break Junior Theater Camp
DESCRIPTION:Spend your spring break with a beginner theater camp. Practice is Monday to Friday with a performance on Friday night. Great for ages 6 to 13. \nRegistration for this event is open until Friday\, April 4 or until it is full.
URL:https://www.myepl.org/event/spring-break-junior-theater-camp/2025-04-10/
LOCATION:Dunlap Branch\, 58485 C.R. 13 East\, Elkhart\, IN\, 46516\, United States
CATEGORIES:Just for Fun,School Age Programs
ATTACH;FMTTYPE=image/jpeg:https://www.myepl.org/wp-content/uploads/2023/03/received_6075275275820566.jpeg
END:VEVENT
BEGIN:VEVENT
DTSTART;TZID=America/Indiana/Indianapolis:20250410T100000
DTEND;TZID=America/Indiana/Indianapolis:20250410T120000
DTSTAMP:20260419T142136
CREATED:20241220T173521Z
LAST-MODIFIED:20241220T173521Z
UID:47311-1744279200-1744286400@www.myepl.org
SUMMARY:Drop-In LEGO Build
DESCRIPTION:Drop in between 10 a.m. and noon to enjoy free play with our available LEGOs.
URL:https://www.myepl.org/event/drop-in-lego-build/
LOCATION:Osolo Branch\, 3429 E. Bristol St.\, Elkhart\, IN\, 46516\, United States
CATEGORIES:Just for Fun
ATTACH;FMTTYPE=image/jpeg:https://www.myepl.org/wp-content/uploads/2024/12/LEGO-Challenge-scaled.jpg
END:VEVENT
BEGIN:VEVENT
DTSTART;TZID=America/Indiana/Indianapolis:20250410T090000
DTEND;TZID=America/Indiana/Indianapolis:20250410T190000
DTSTAMP:20260419T142136
CREATED:20241227T155225Z
LAST-MODIFIED:20241227T155225Z
UID:47527-1744275600-1744311600@www.myepl.org
SUMMARY:Spring Break Boredom Busters
DESCRIPTION:Find drop-in activities for kids and families throughout spring break. Plus\, we’ll have free popcorn and a showing of Moana 2 (rated PG\, 1h:40m) at 1:30 p.m. on Friday\, April 11.
URL:https://www.myepl.org/event/spring-break-boredom-busters/2025-04-10/
LOCATION:Cleveland Branch\, 53715 C.R. 1\, Elkhart\, IN\, 46514\, United States
CATEGORIES:Just for Fun,School Age Programs
ATTACH;FMTTYPE=image/png:https://www.myepl.org/wp-content/uploads/2023/03/Spring-Break-Boredom-Busters-Calendar.png
END:VEVENT
BEGIN:VEVENT
DTSTART;TZID=America/Indiana/Indianapolis:20250409T140000
DTEND;TZID=America/Indiana/Indianapolis:20250409T170000
DTSTAMP:20260419T142136
CREATED:20241226T172239Z
LAST-MODIFIED:20250401T205944Z
UID:47490-1744207200-1744218000@www.myepl.org
SUMMARY:Spring Break Junior Theater Camp
DESCRIPTION:Spend your spring break with a beginner theater camp. Practice is Monday to Friday with a performance on Friday night. Great for ages 6 to 13. \nRegistration for this event is open until Friday\, April 4 or until it is full.
URL:https://www.myepl.org/event/spring-break-junior-theater-camp/2025-04-09/
LOCATION:Dunlap Branch\, 58485 C.R. 13 East\, Elkhart\, IN\, 46516\, United States
CATEGORIES:Just for Fun,School Age Programs
ATTACH;FMTTYPE=image/jpeg:https://www.myepl.org/wp-content/uploads/2023/03/received_6075275275820566.jpeg
END:VEVENT
BEGIN:VEVENT
DTSTART;TZID=America/Indiana/Indianapolis:20250409T090000
DTEND;TZID=America/Indiana/Indianapolis:20250409T190000
DTSTAMP:20260419T142136
CREATED:20241227T155225Z
LAST-MODIFIED:20241227T155225Z
UID:47526-1744189200-1744225200@www.myepl.org
SUMMARY:Spring Break Boredom Busters
DESCRIPTION:Find drop-in activities for kids and families throughout spring break. Plus\, we’ll have free popcorn and a showing of Moana 2 (rated PG\, 1h:40m) at 1:30 p.m. on Friday\, April 11.
URL:https://www.myepl.org/event/spring-break-boredom-busters/2025-04-09/
LOCATION:Cleveland Branch\, 53715 C.R. 1\, Elkhart\, IN\, 46514\, United States
CATEGORIES:Just for Fun,School Age Programs
ATTACH;FMTTYPE=image/png:https://www.myepl.org/wp-content/uploads/2023/03/Spring-Break-Boredom-Busters-Calendar.png
END:VEVENT
BEGIN:VEVENT
DTSTART;TZID=America/Indiana/Indianapolis:20250408T140000
DTEND;TZID=America/Indiana/Indianapolis:20250408T170000
DTSTAMP:20260419T142136
CREATED:20241226T172239Z
LAST-MODIFIED:20250401T205944Z
UID:47489-1744120800-1744131600@www.myepl.org
SUMMARY:Spring Break Junior Theater Camp
DESCRIPTION:Spend your spring break with a beginner theater camp. Practice is Monday to Friday with a performance on Friday night. Great for ages 6 to 13. \nRegistration for this event is open until Friday\, April 4 or until it is full.
URL:https://www.myepl.org/event/spring-break-junior-theater-camp/2025-04-08/
LOCATION:Dunlap Branch\, 58485 C.R. 13 East\, Elkhart\, IN\, 46516\, United States
CATEGORIES:Just for Fun,School Age Programs
ATTACH;FMTTYPE=image/jpeg:https://www.myepl.org/wp-content/uploads/2023/03/received_6075275275820566.jpeg
END:VEVENT
BEGIN:VEVENT
DTSTART;TZID=America/Indiana/Indianapolis:20250408T090000
DTEND;TZID=America/Indiana/Indianapolis:20250408T190000
DTSTAMP:20260419T142136
CREATED:20241227T155225Z
LAST-MODIFIED:20241227T155225Z
UID:47525-1744102800-1744138800@www.myepl.org
SUMMARY:Spring Break Boredom Busters
DESCRIPTION:Find drop-in activities for kids and families throughout spring break. Plus\, we’ll have free popcorn and a showing of Moana 2 (rated PG\, 1h:40m) at 1:30 p.m. on Friday\, April 11.
URL:https://www.myepl.org/event/spring-break-boredom-busters/2025-04-08/
LOCATION:Cleveland Branch\, 53715 C.R. 1\, Elkhart\, IN\, 46514\, United States
CATEGORIES:Just for Fun,School Age Programs
ATTACH;FMTTYPE=image/png:https://www.myepl.org/wp-content/uploads/2023/03/Spring-Break-Boredom-Busters-Calendar.png
END:VEVENT
BEGIN:VEVENT
DTSTART;TZID=America/Indiana/Indianapolis:20250407T140000
DTEND;TZID=America/Indiana/Indianapolis:20250407T170000
DTSTAMP:20260419T142136
CREATED:20241226T172239Z
LAST-MODIFIED:20250401T205944Z
UID:47487-1744034400-1744045200@www.myepl.org
SUMMARY:Spring Break Junior Theater Camp
DESCRIPTION:Spend your spring break with a beginner theater camp. Practice is Monday to Friday with a performance on Friday night. Great for ages 6 to 13. \nRegistration for this event is open until Friday\, April 4 or until it is full.
URL:https://www.myepl.org/event/spring-break-junior-theater-camp/2025-04-07/
LOCATION:Dunlap Branch\, 58485 C.R. 13 East\, Elkhart\, IN\, 46516\, United States
CATEGORIES:Just for Fun,School Age Programs
ATTACH;FMTTYPE=image/jpeg:https://www.myepl.org/wp-content/uploads/2023/03/received_6075275275820566.jpeg
END:VEVENT
BEGIN:VEVENT
DTSTART;TZID=America/Indiana/Indianapolis:20250407T090000
DTEND;TZID=America/Indiana/Indianapolis:20250407T190000
DTSTAMP:20260419T142136
CREATED:20241227T155225Z
LAST-MODIFIED:20241227T155225Z
UID:47524-1744016400-1744052400@www.myepl.org
SUMMARY:Spring Break Boredom Busters
DESCRIPTION:Find drop-in activities for kids and families throughout spring break. Plus\, we’ll have free popcorn and a showing of Moana 2 (rated PG\, 1h:40m) at 1:30 p.m. on Friday\, April 11.
URL:https://www.myepl.org/event/spring-break-boredom-busters/2025-04-07/
LOCATION:Cleveland Branch\, 53715 C.R. 1\, Elkhart\, IN\, 46514\, United States
CATEGORIES:Just for Fun,School Age Programs
ATTACH;FMTTYPE=image/png:https://www.myepl.org/wp-content/uploads/2023/03/Spring-Break-Boredom-Busters-Calendar.png
END:VEVENT
BEGIN:VEVENT
DTSTART;VALUE=DATE:20250407
DTEND;VALUE=DATE:20250408
DTSTAMP:20260419T142136
CREATED:20241226T160154Z
LAST-MODIFIED:20250404T144352Z
UID:47452-1743984000-1744070399@www.myepl.org
SUMMARY:Spring Bunny Scavenger Hunt
DESCRIPTION:Drop in to Pierre Moran anytime in April to find our hidden bunnies and win a prize.
URL:https://www.myepl.org/event/spring-bunny-scavenger-hunt-2/2025-04-07/
LOCATION:Pierre Moran Branch\, 2400 Benham Ave\, Elkhart\, IN\, 46517\, United States
CATEGORIES:Just for Fun
ATTACH;FMTTYPE=image/png:https://www.myepl.org/wp-content/uploads/2024/01/SpringBunnyScavengerHunt-PM.png
END:VEVENT
BEGIN:VEVENT
DTSTART;VALUE=DATE:20250407
DTEND;VALUE=DATE:20250408
DTSTAMP:20260419T142136
CREATED:20241226T135936Z
LAST-MODIFIED:20241226T135936Z
UID:47392-1743984000-1744070399@www.myepl.org
SUMMARY:Peeps Diorama Contest
DESCRIPTION:Create a scene from a favorite book or characters with Peeps. Pick up an entry form and Peeps starting Monday\, March 24 while supplies last. Return your scene and form by Tuesday\, April 15. We’ll host a work day from 9 a.m. to 3 p.m. Saturday\, April 12 to build an entry. Winners will be announced on Wednesday\, April 23. 
URL:https://www.myepl.org/event/peeps-diorama-contest-3/2025-04-07/
LOCATION:Cleveland Branch\, 53715 C.R. 1\, Elkhart\, IN\, 46514\, United States
CATEGORIES:Adult Programs,Just for Fun,School Age Programs,Teen Programs
ATTACH;FMTTYPE=image/png:https://www.myepl.org/wp-content/uploads/2023/03/Peeps-Diorama-Contest-Calendar.png
END:VEVENT
BEGIN:VEVENT
DTSTART;TZID=America/Indiana/Indianapolis:20250404T173000
DTEND;TZID=America/Indiana/Indianapolis:20250404T183000
DTSTAMP:20260419T142136
CREATED:20241220T213114Z
LAST-MODIFIED:20250131T182131Z
UID:47325-1743787800-1743791400@www.myepl.org
SUMMARY:Pop Quiz
DESCRIPTION:Bring your team and compete in our pop culture trivia with a new theme each month. \nApril 4 – Marvel \nRegistration for this program starts March 1.
URL:https://www.myepl.org/event/pop-quiz-2025-04-04/
LOCATION:Downtown Library\, 300 S. Second St.\, Elkhart\, IN\, 46516\, United States
CATEGORIES:Adult Programs,Just for Fun
ATTACH;FMTTYPE=image/png:https://www.myepl.org/wp-content/uploads/2024/12/popquiz_Calendar-1.png
END:VEVENT
BEGIN:VEVENT
DTSTART;TZID=America/Indiana/Indianapolis:20250402T163000
DTEND;TZID=America/Indiana/Indianapolis:20250402T173000
DTSTAMP:20260419T142136
CREATED:20240627T195800Z
LAST-MODIFIED:20250319T165322Z
UID:46921-1743611400-1743615000@www.myepl.org
SUMMARY:LEGO Challenge
DESCRIPTION:Take our monthly build challenge and share it with the group. We’ll vote on a winner\, who gets a prize.
URL:https://www.myepl.org/event/lego-challenge-2/2025-04-02/
LOCATION:Downtown Library\, 300 S. Second St.\, Elkhart\, IN\, 46516\, United States
CATEGORIES:Just for Fun
ATTACH;FMTTYPE=image/jpeg:https://www.myepl.org/wp-content/uploads/2023/06/LEGO-Challenge-10-scaled.jpg
END:VEVENT
BEGIN:VEVENT
DTSTART;VALUE=DATE:20250401
DTEND;VALUE=DATE:20250402
DTSTAMP:20260419T142136
CREATED:20241226T160154Z
LAST-MODIFIED:20250404T144351Z
UID:47451-1743465600-1743551999@www.myepl.org
SUMMARY:Spring Bunny Scavenger Hunt
DESCRIPTION:Drop in to Pierre Moran anytime in April to find our hidden bunnies and win a prize.
URL:https://www.myepl.org/event/spring-bunny-scavenger-hunt-2/2025-04-01/
LOCATION:Pierre Moran Branch\, 2400 Benham Ave\, Elkhart\, IN\, 46517\, United States
CATEGORIES:Just for Fun
ATTACH;FMTTYPE=image/png:https://www.myepl.org/wp-content/uploads/2024/01/SpringBunnyScavengerHunt-PM.png
END:VEVENT
BEGIN:VEVENT
DTSTART;TZID=America/Indiana/Indianapolis:20250331T163000
DTEND;TZID=America/Indiana/Indianapolis:20250331T180000
DTSTAMP:20260419T142136
CREATED:20241220T164527Z
LAST-MODIFIED:20241220T165258Z
UID:47289-1743438600-1743444000@www.myepl.org
SUMMARY:Super Smash Bros. Tournament
DESCRIPTION:Bring your friends and skills to compete for the top prize. Great for ages 9 to 12.
URL:https://www.myepl.org/event/super-smash-bros-tournament-2/
LOCATION:Downtown Library\, 300 S. Second St.\, Elkhart\, IN\, 46516\, United States
CATEGORIES:Just for Fun
ATTACH;FMTTYPE=image/webp:https://www.myepl.org/wp-content/uploads/2023/12/super-smash-bros-ultimate-nintendo.webp
END:VEVENT
BEGIN:VEVENT
DTSTART;TZID=America/Indiana/Indianapolis:20250331T140000
DTEND;TZID=America/Indiana/Indianapolis:20250331T150000
DTSTAMP:20260419T142136
CREATED:20241226T181237Z
LAST-MODIFIED:20250331T124553Z
UID:47508-1743429600-1743433200@www.myepl.org
SUMMARY:Homeschool LEGO Bots
DESCRIPTION:Registration for this event is now closed. \nWork together to bring LEGO creations to life with coding to make them light up\, play sounds or move. Great for ages six and up. \n 
URL:https://www.myepl.org/event/homeschool-lego-bots-3/
LOCATION:Dunlap Branch\, 58485 C.R. 13 East\, Elkhart\, IN\, 46516\, United States
CATEGORIES:Just for Fun,School Age Programs
ATTACH;FMTTYPE=image/jpeg:https://www.myepl.org/wp-content/uploads/2024/12/LEGO-Bots-2.jpg
END:VEVENT
BEGIN:VEVENT
DTSTART;VALUE=DATE:20250331
DTEND;VALUE=DATE:20250401
DTSTAMP:20260419T142136
CREATED:20241226T135936Z
LAST-MODIFIED:20241226T135936Z
UID:47391-1743379200-1743465599@www.myepl.org
SUMMARY:Peeps Diorama Contest
DESCRIPTION:Create a scene from a favorite book or characters with Peeps. Pick up an entry form and Peeps starting Monday\, March 24 while supplies last. Return your scene and form by Tuesday\, April 15. We’ll host a work day from 9 a.m. to 3 p.m. Saturday\, April 12 to build an entry. Winners will be announced on Wednesday\, April 23. 
URL:https://www.myepl.org/event/peeps-diorama-contest-3/2025-03-31/
LOCATION:Cleveland Branch\, 53715 C.R. 1\, Elkhart\, IN\, 46514\, United States
CATEGORIES:Adult Programs,Just for Fun,School Age Programs,Teen Programs
ATTACH;FMTTYPE=image/png:https://www.myepl.org/wp-content/uploads/2023/03/Peeps-Diorama-Contest-Calendar.png
END:VEVENT
BEGIN:VEVENT
DTSTART;TZID=America/Indiana/Indianapolis:20250325T100000
DTEND;TZID=America/Indiana/Indianapolis:20250325T120000
DTSTAMP:20260419T142136
CREATED:20240329T140752Z
LAST-MODIFIED:20250502T161605Z
UID:43174-1742896800-1742904000@www.myepl.org
SUMMARY:Coffee and Conversation
DESCRIPTION:Catch up with friends and make new ones at this drop-in social time.
URL:https://www.myepl.org/event/coffee-and-conversation/2025-03-25/
LOCATION:Cleveland Branch\, 53715 C.R. 1\, Elkhart\, IN\, 46514\, United States
CATEGORIES:Just for Fun
ATTACH;FMTTYPE=image/png:https://www.myepl.org/wp-content/uploads/2024/03/CoffeeandConversation_Calendar.png
END:VEVENT
BEGIN:VEVENT
DTSTART;TZID=America/Indiana/Indianapolis:20250324T163000
DTEND;TZID=America/Indiana/Indianapolis:20250324T173000
DTSTAMP:20260419T142136
CREATED:20241211T153229Z
LAST-MODIFIED:20241211T153229Z
UID:46995-1742833800-1742837400@www.myepl.org
SUMMARY:LEGO Bots
DESCRIPTION:Combine your LEGO building abilities with coding for sets that move\, light up\, play sounds and more. \nRegistration for this program opens Feb. 1.
URL:https://www.myepl.org/event/lego-bots-10/
LOCATION:Downtown Library\, 300 S. Second St.\, Elkhart\, IN\, 46516\, United States
CATEGORIES:Just for Fun
ATTACH;FMTTYPE=image/jpeg:https://www.myepl.org/wp-content/uploads/2024/09/LEGO-Bots.jpg
END:VEVENT
BEGIN:VEVENT
DTSTART;VALUE=DATE:20250324
DTEND;VALUE=DATE:20250325
DTSTAMP:20260419T142136
CREATED:20241226T171541Z
LAST-MODIFIED:20250317T183245Z
UID:47485-1742774400-1742860799@www.myepl.org
SUMMARY:LEGO Contest
DESCRIPTION:Build a LEGO project and bring it to the downtown library on a 10”x10” board between March 17 and 28. Vote for the project you like best from March 31 to April 12. Cash prizes for first to third place. Winners will be announced during the Easter Egg Hunt on April 17. This contest is open to children of all ages. 
URL:https://www.myepl.org/event/lego-contest/2025-03-24/
LOCATION:Downtown Library\, 300 S. Second St.\, Elkhart\, IN\, 46516\, United States
CATEGORIES:Just for Fun
ATTACH;FMTTYPE=image/png:https://www.myepl.org/wp-content/uploads/2024/12/LEGOcontest_Calendar.png
END:VEVENT
BEGIN:VEVENT
DTSTART;VALUE=DATE:20250324
DTEND;VALUE=DATE:20250325
DTSTAMP:20260419T142136
CREATED:20241226T135936Z
LAST-MODIFIED:20241226T135936Z
UID:47390-1742774400-1742860799@www.myepl.org
SUMMARY:Peeps Diorama Contest
DESCRIPTION:Create a scene from a favorite book or characters with Peeps. Pick up an entry form and Peeps starting Monday\, March 24 while supplies last. Return your scene and form by Tuesday\, April 15. We’ll host a work day from 9 a.m. to 3 p.m. Saturday\, April 12 to build an entry. Winners will be announced on Wednesday\, April 23. 
URL:https://www.myepl.org/event/peeps-diorama-contest-3/2025-03-24/
LOCATION:Cleveland Branch\, 53715 C.R. 1\, Elkhart\, IN\, 46514\, United States
CATEGORIES:Adult Programs,Just for Fun,School Age Programs,Teen Programs
ATTACH;FMTTYPE=image/png:https://www.myepl.org/wp-content/uploads/2023/03/Peeps-Diorama-Contest-Calendar.png
END:VEVENT
BEGIN:VEVENT
DTSTART;TZID=America/Indiana/Indianapolis:20250322T110000
DTEND;TZID=America/Indiana/Indianapolis:20250322T130000
DTSTAMP:20260419T142136
CREATED:20241226T143434Z
LAST-MODIFIED:20250313T205407Z
UID:47397-1742641200-1742648400@www.myepl.org
SUMMARY:Prop Swap
DESCRIPTION:A plant hobby doesn’t have to be expensive. Join other green thumbs to swap cutting and add new members to your family. Bring a plant to trim and propagate or take one of ours. Pots and dirt available while supplies last. 
URL:https://www.myepl.org/event/prop-swap-2/
LOCATION:Downtown Library\, 300 S. Second St.\, Elkhart\, IN\, 46516\, United States
CATEGORIES:Adult Programs,Just for Fun
ATTACH;FMTTYPE=image/png:https://www.myepl.org/wp-content/uploads/2023/12/prop-swap-calendar.png
END:VEVENT
BEGIN:VEVENT
DTSTART;TZID=America/Indiana/Indianapolis:20250322T093000
DTEND;TZID=America/Indiana/Indianapolis:20250322T120000
DTSTAMP:20260419T142136
CREATED:20241220T163918Z
LAST-MODIFIED:20250228T214502Z
UID:47287-1742635800-1742644800@www.myepl.org
SUMMARY:Battle of the Books
DESCRIPTION:A quiz-bowl-style reading competition for fifth and sixth graders from participating local schools to instill reading for fun. Who will take home the trophy? 
URL:https://www.myepl.org/event/battle-of-the-books-2/
LOCATION:Downtown Library\, 300 S. Second St.\, Elkhart\, IN\, 46516\, United States
CATEGORIES:Just for Fun
ATTACH;FMTTYPE=image/jpeg:https://www.myepl.org/wp-content/uploads/2024/12/Battle-of-the-Books-Logo-01-scaled.jpg
END:VEVENT
BEGIN:VEVENT
DTSTART;TZID=America/Indiana/Indianapolis:20250321T100000
DTEND;TZID=America/Indiana/Indianapolis:20250321T110000
DTSTAMP:20260419T142136
CREATED:20241220T170545Z
LAST-MODIFIED:20250228T162153Z
UID:47295-1742551200-1742554800@www.myepl.org
SUMMARY:Pete the Cat Preschool Party
DESCRIPTION:Party like Pete the Cat with four groovy buttons and white shoes.
URL:https://www.myepl.org/event/pete-the-cat-preschool-party/
LOCATION:Downtown Library\, 300 S. Second St.\, Elkhart\, IN\, 46516\, United States
CATEGORIES:Just for Fun,Preschool Programs
ATTACH;FMTTYPE=image/png:https://www.myepl.org/wp-content/uploads/2024/12/PetetheCat-PreschoolParty_Calendar.png
END:VEVENT
END:VCALENDAR