BEGIN:VCALENDAR
VERSION:2.0
PRODID:-//Elkhart Public Library - ECPv6.15.20//NONSGML v1.0//EN
CALSCALE:GREGORIAN
METHOD:PUBLISH
X-ORIGINAL-URL:https://www.myepl.org
X-WR-CALDESC:Events for Elkhart Public Library
REFRESH-INTERVAL;VALUE=DURATION:PT1H
X-Robots-Tag:noindex
X-PUBLISHED-TTL:PT1H
BEGIN:VTIMEZONE
TZID:America/Indiana/Indianapolis
BEGIN:DAYLIGHT
TZOFFSETFROM:-0500
TZOFFSETTO:-0400
TZNAME:EDT
DTSTART:20240310T070000
END:DAYLIGHT
BEGIN:STANDARD
TZOFFSETFROM:-0400
TZOFFSETTO:-0500
TZNAME:EST
DTSTART:20241103T060000
END:STANDARD
BEGIN:DAYLIGHT
TZOFFSETFROM:-0500
TZOFFSETTO:-0400
TZNAME:EDT
DTSTART:20250309T070000
END:DAYLIGHT
BEGIN:STANDARD
TZOFFSETFROM:-0400
TZOFFSETTO:-0500
TZNAME:EST
DTSTART:20251102T060000
END:STANDARD
BEGIN:DAYLIGHT
TZOFFSETFROM:-0500
TZOFFSETTO:-0400
TZNAME:EDT
DTSTART:20260308T070000
END:DAYLIGHT
BEGIN:STANDARD
TZOFFSETFROM:-0400
TZOFFSETTO:-0500
TZNAME:EST
DTSTART:20261101T060000
END:STANDARD
END:VTIMEZONE
BEGIN:VEVENT
DTSTART;TZID=America/Indiana/Indianapolis:20250324T163000
DTEND;TZID=America/Indiana/Indianapolis:20250324T173000
DTSTAMP:20260419T175041
CREATED:20241211T153229Z
LAST-MODIFIED:20241211T153229Z
UID:46995-1742833800-1742837400@www.myepl.org
SUMMARY:LEGO Bots
DESCRIPTION:Combine your LEGO building abilities with coding for sets that move\, light up\, play sounds and more. \nRegistration for this program opens Feb. 1.
URL:https://www.myepl.org/event/lego-bots-10/
LOCATION:Downtown Library\, 300 S. Second St.\, Elkhart\, IN\, 46516\, United States
CATEGORIES:Just for Fun
ATTACH;FMTTYPE=image/jpeg:https://www.myepl.org/wp-content/uploads/2024/09/LEGO-Bots.jpg
END:VEVENT
BEGIN:VEVENT
DTSTART;VALUE=DATE:20250324
DTEND;VALUE=DATE:20250325
DTSTAMP:20260419T175041
CREATED:20241226T171541Z
LAST-MODIFIED:20250317T183245Z
UID:47485-1742774400-1742860799@www.myepl.org
SUMMARY:LEGO Contest
DESCRIPTION:Build a LEGO project and bring it to the downtown library on a 10”x10” board between March 17 and 28. Vote for the project you like best from March 31 to April 12. Cash prizes for first to third place. Winners will be announced during the Easter Egg Hunt on April 17. This contest is open to children of all ages. 
URL:https://www.myepl.org/event/lego-contest/2025-03-24/
LOCATION:Downtown Library\, 300 S. Second St.\, Elkhart\, IN\, 46516\, United States
CATEGORIES:Just for Fun
ATTACH;FMTTYPE=image/png:https://www.myepl.org/wp-content/uploads/2024/12/LEGOcontest_Calendar.png
END:VEVENT
BEGIN:VEVENT
DTSTART;VALUE=DATE:20250324
DTEND;VALUE=DATE:20250325
DTSTAMP:20260419T175041
CREATED:20241226T135936Z
LAST-MODIFIED:20241226T135936Z
UID:47390-1742774400-1742860799@www.myepl.org
SUMMARY:Peeps Diorama Contest
DESCRIPTION:Create a scene from a favorite book or characters with Peeps. Pick up an entry form and Peeps starting Monday\, March 24 while supplies last. Return your scene and form by Tuesday\, April 15. We’ll host a work day from 9 a.m. to 3 p.m. Saturday\, April 12 to build an entry. Winners will be announced on Wednesday\, April 23. 
URL:https://www.myepl.org/event/peeps-diorama-contest-3/2025-03-24/
LOCATION:Cleveland Branch\, 53715 C.R. 1\, Elkhart\, IN\, 46514\, United States
CATEGORIES:Adult Programs,Just for Fun,School Age Programs,Teen Programs
ATTACH;FMTTYPE=image/png:https://www.myepl.org/wp-content/uploads/2023/03/Peeps-Diorama-Contest-Calendar.png
END:VEVENT
BEGIN:VEVENT
DTSTART;TZID=America/Indiana/Indianapolis:20250322T110000
DTEND;TZID=America/Indiana/Indianapolis:20250322T130000
DTSTAMP:20260419T175041
CREATED:20241226T143434Z
LAST-MODIFIED:20250313T205407Z
UID:47397-1742641200-1742648400@www.myepl.org
SUMMARY:Prop Swap
DESCRIPTION:A plant hobby doesn’t have to be expensive. Join other green thumbs to swap cutting and add new members to your family. Bring a plant to trim and propagate or take one of ours. Pots and dirt available while supplies last. 
URL:https://www.myepl.org/event/prop-swap-2/
LOCATION:Downtown Library\, 300 S. Second St.\, Elkhart\, IN\, 46516\, United States
CATEGORIES:Adult Programs,Just for Fun
ATTACH;FMTTYPE=image/png:https://www.myepl.org/wp-content/uploads/2023/12/prop-swap-calendar.png
END:VEVENT
BEGIN:VEVENT
DTSTART;TZID=America/Indiana/Indianapolis:20250322T093000
DTEND;TZID=America/Indiana/Indianapolis:20250322T120000
DTSTAMP:20260419T175041
CREATED:20241220T163918Z
LAST-MODIFIED:20250228T214502Z
UID:47287-1742635800-1742644800@www.myepl.org
SUMMARY:Battle of the Books
DESCRIPTION:A quiz-bowl-style reading competition for fifth and sixth graders from participating local schools to instill reading for fun. Who will take home the trophy? 
URL:https://www.myepl.org/event/battle-of-the-books-2/
LOCATION:Downtown Library\, 300 S. Second St.\, Elkhart\, IN\, 46516\, United States
CATEGORIES:Just for Fun
ATTACH;FMTTYPE=image/jpeg:https://www.myepl.org/wp-content/uploads/2024/12/Battle-of-the-Books-Logo-01-scaled.jpg
END:VEVENT
BEGIN:VEVENT
DTSTART;TZID=America/Indiana/Indianapolis:20250321T100000
DTEND;TZID=America/Indiana/Indianapolis:20250321T110000
DTSTAMP:20260419T175041
CREATED:20241220T170545Z
LAST-MODIFIED:20250228T162153Z
UID:47295-1742551200-1742554800@www.myepl.org
SUMMARY:Pete the Cat Preschool Party
DESCRIPTION:Party like Pete the Cat with four groovy buttons and white shoes.
URL:https://www.myepl.org/event/pete-the-cat-preschool-party/
LOCATION:Downtown Library\, 300 S. Second St.\, Elkhart\, IN\, 46516\, United States
CATEGORIES:Just for Fun,Preschool Programs
ATTACH;FMTTYPE=image/png:https://www.myepl.org/wp-content/uploads/2024/12/PetetheCat-PreschoolParty_Calendar.png
END:VEVENT
BEGIN:VEVENT
DTSTART;TZID=America/Indiana/Indianapolis:20250317T163000
DTEND;TZID=America/Indiana/Indianapolis:20250317T173000
DTSTAMP:20260419T175041
CREATED:20241211T170237Z
LAST-MODIFIED:20241211T170237Z
UID:47015-1742229000-1742232600@www.myepl.org
SUMMARY:Magical Mystical Tea Party
DESCRIPTION:Come to our tea party dressed up as your favorite mythical character to win a prize. Plus enjoy treats\, games and more. Best for ages six and up.
URL:https://www.myepl.org/event/magical-mystical-tea-party/
LOCATION:Downtown Library\, 300 S. Second St.\, Elkhart\, IN\, 46516\, United States
CATEGORIES:Just for Fun
ATTACH;FMTTYPE=image/png:https://www.myepl.org/wp-content/uploads/2024/01/MagicalTeaParty_calendar.png
END:VEVENT
BEGIN:VEVENT
DTSTART;VALUE=DATE:20250317
DTEND;VALUE=DATE:20250318
DTSTAMP:20260419T175041
CREATED:20241226T171541Z
LAST-MODIFIED:20250317T183245Z
UID:47484-1742169600-1742255999@www.myepl.org
SUMMARY:LEGO Contest
DESCRIPTION:Build a LEGO project and bring it to the downtown library on a 10”x10” board between March 17 and 28. Vote for the project you like best from March 31 to April 12. Cash prizes for first to third place. Winners will be announced during the Easter Egg Hunt on April 17. This contest is open to children of all ages. 
URL:https://www.myepl.org/event/lego-contest/2025-03-17/
LOCATION:Downtown Library\, 300 S. Second St.\, Elkhart\, IN\, 46516\, United States
CATEGORIES:Just for Fun
ATTACH;FMTTYPE=image/png:https://www.myepl.org/wp-content/uploads/2024/12/LEGOcontest_Calendar.png
END:VEVENT
BEGIN:VEVENT
DTSTART;TZID=America/Indiana/Indianapolis:20250315T090000
DTEND;TZID=America/Indiana/Indianapolis:20250315T153000
DTSTAMP:20260419T175041
CREATED:20241226T133002Z
LAST-MODIFIED:20250227T184925Z
UID:47374-1742029200-1742052600@www.myepl.org
SUMMARY:Dr. Seuss Scavenger Hunt
DESCRIPTION:Drop into Cleveland to find Dr. Seuss character cards. Bring them to the front desk for a prize. 
URL:https://www.myepl.org/event/dr-seuss-scavenger-hunt/2025-03-15/
LOCATION:Cleveland Branch\, 53715 C.R. 1\, Elkhart\, IN\, 46514\, United States
CATEGORIES:Just for Fun
ATTACH;FMTTYPE=image/png:https://www.myepl.org/wp-content/uploads/2024/12/Dr.-Seuss-Scavenger-Hunt_Calendar.png
END:VEVENT
BEGIN:VEVENT
DTSTART;TZID=America/Indiana/Indianapolis:20250314T090000
DTEND;TZID=America/Indiana/Indianapolis:20250314T180000
DTSTAMP:20260419T175041
CREATED:20241226T133002Z
LAST-MODIFIED:20250227T184919Z
UID:47372-1741942800-1741975200@www.myepl.org
SUMMARY:Dr. Seuss Scavenger Hunt
DESCRIPTION:Drop into Cleveland to find Dr. Seuss character cards. Bring them to the front desk for a prize. 
URL:https://www.myepl.org/event/dr-seuss-scavenger-hunt/2025-03-14/
LOCATION:Cleveland Branch\, 53715 C.R. 1\, Elkhart\, IN\, 46514\, United States
CATEGORIES:Just for Fun
ATTACH;FMTTYPE=image/png:https://www.myepl.org/wp-content/uploads/2024/12/Dr.-Seuss-Scavenger-Hunt_Calendar.png
END:VEVENT
BEGIN:VEVENT
DTSTART;TZID=America/Indiana/Indianapolis:20250313T163000
DTEND;TZID=America/Indiana/Indianapolis:20250313T173000
DTSTAMP:20260419T175041
CREATED:20241220T173758Z
LAST-MODIFIED:20250228T155921Z
UID:47314-1741883400-1741887000@www.myepl.org
SUMMARY:Tween and Teen Slime Time
DESCRIPTION:Create slime to take home. We’ll provide all the supplies. \nRegistration for this program opens Feb. 1.
URL:https://www.myepl.org/event/tween-and-teen-slime-time/
LOCATION:Osolo Branch\, 3429 E. Bristol St.\, Elkhart\, IN\, 46516\, United States
CATEGORIES:Just for Fun,Teen Programs
ATTACH;FMTTYPE=image/png:https://www.myepl.org/wp-content/uploads/2024/12/TweenTeenSlimeTime_Calendar.png
END:VEVENT
BEGIN:VEVENT
DTSTART;TZID=America/Indiana/Indianapolis:20250313T090000
DTEND;TZID=America/Indiana/Indianapolis:20250313T190000
DTSTAMP:20260419T175041
CREATED:20241226T133002Z
LAST-MODIFIED:20250227T184918Z
UID:47371-1741856400-1741892400@www.myepl.org
SUMMARY:Dr. Seuss Scavenger Hunt
DESCRIPTION:Drop into Cleveland to find Dr. Seuss character cards. Bring them to the front desk for a prize. 
URL:https://www.myepl.org/event/dr-seuss-scavenger-hunt/2025-03-13/
LOCATION:Cleveland Branch\, 53715 C.R. 1\, Elkhart\, IN\, 46514\, United States
CATEGORIES:Just for Fun
ATTACH;FMTTYPE=image/png:https://www.myepl.org/wp-content/uploads/2024/12/Dr.-Seuss-Scavenger-Hunt_Calendar.png
END:VEVENT
BEGIN:VEVENT
DTSTART;TZID=America/Indiana/Indianapolis:20250312T090000
DTEND;TZID=America/Indiana/Indianapolis:20250312T190000
DTSTAMP:20260419T175041
CREATED:20241226T133002Z
LAST-MODIFIED:20250227T184918Z
UID:47370-1741770000-1741806000@www.myepl.org
SUMMARY:Dr. Seuss Scavenger Hunt
DESCRIPTION:Drop into Cleveland to find Dr. Seuss character cards. Bring them to the front desk for a prize. 
URL:https://www.myepl.org/event/dr-seuss-scavenger-hunt/2025-03-12/
LOCATION:Cleveland Branch\, 53715 C.R. 1\, Elkhart\, IN\, 46514\, United States
CATEGORIES:Just for Fun
ATTACH;FMTTYPE=image/png:https://www.myepl.org/wp-content/uploads/2024/12/Dr.-Seuss-Scavenger-Hunt_Calendar.png
END:VEVENT
BEGIN:VEVENT
DTSTART;TZID=America/Indiana/Indianapolis:20250311T163000
DTEND;TZID=America/Indiana/Indianapolis:20250311T180000
DTSTAMP:20260419T175041
CREATED:20241226T191733Z
LAST-MODIFIED:20250205T131948Z
UID:47515-1741710600-1741716000@www.myepl.org
SUMMARY:Teen DIY Mushroom Garland
DESCRIPTION:Turn upcycled egg cartons into mushroom garland\, bringing a cottage aesthetic to your space. All materials will be provided.
URL:https://www.myepl.org/event/teen-diy-mushroom-garland/
LOCATION:Downtown Library\, 300 S. Second St.\, Elkhart\, IN\, 46516\, United States
CATEGORIES:Just for Fun,Teen Programs
ATTACH;FMTTYPE=image/png:https://www.myepl.org/wp-content/uploads/2024/12/TeenDIYMushroomGarland_Calendar.png
END:VEVENT
BEGIN:VEVENT
DTSTART;TZID=America/Indiana/Indianapolis:20250311T090000
DTEND;TZID=America/Indiana/Indianapolis:20250311T190000
DTSTAMP:20260419T175041
CREATED:20241226T133002Z
LAST-MODIFIED:20250227T184917Z
UID:47369-1741683600-1741719600@www.myepl.org
SUMMARY:Dr. Seuss Scavenger Hunt
DESCRIPTION:Drop into Cleveland to find Dr. Seuss character cards. Bring them to the front desk for a prize. 
URL:https://www.myepl.org/event/dr-seuss-scavenger-hunt/2025-03-11/
LOCATION:Cleveland Branch\, 53715 C.R. 1\, Elkhart\, IN\, 46514\, United States
CATEGORIES:Just for Fun
ATTACH;FMTTYPE=image/png:https://www.myepl.org/wp-content/uploads/2024/12/Dr.-Seuss-Scavenger-Hunt_Calendar.png
END:VEVENT
BEGIN:VEVENT
DTSTART;TZID=America/Indiana/Indianapolis:20250310T090000
DTEND;TZID=America/Indiana/Indianapolis:20250310T190000
DTSTAMP:20260419T175041
CREATED:20241226T133002Z
LAST-MODIFIED:20250227T184917Z
UID:47368-1741597200-1741633200@www.myepl.org
SUMMARY:Dr. Seuss Scavenger Hunt
DESCRIPTION:Drop into Cleveland to find Dr. Seuss character cards. Bring them to the front desk for a prize. 
URL:https://www.myepl.org/event/dr-seuss-scavenger-hunt/2025-03-10/
LOCATION:Cleveland Branch\, 53715 C.R. 1\, Elkhart\, IN\, 46514\, United States
CATEGORIES:Just for Fun
ATTACH;FMTTYPE=image/png:https://www.myepl.org/wp-content/uploads/2024/12/Dr.-Seuss-Scavenger-Hunt_Calendar.png
END:VEVENT
BEGIN:VEVENT
DTSTART;TZID=America/Indiana/Indianapolis:20250308T090000
DTEND;TZID=America/Indiana/Indianapolis:20250308T150000
DTSTAMP:20260419T175041
CREATED:20241226T133002Z
LAST-MODIFIED:20250227T184917Z
UID:47367-1741424400-1741446000@www.myepl.org
SUMMARY:Dr. Seuss Scavenger Hunt
DESCRIPTION:Drop into Cleveland to find Dr. Seuss character cards. Bring them to the front desk for a prize. 
URL:https://www.myepl.org/event/dr-seuss-scavenger-hunt/2025-03-08/
LOCATION:Cleveland Branch\, 53715 C.R. 1\, Elkhart\, IN\, 46514\, United States
CATEGORIES:Just for Fun
ATTACH;FMTTYPE=image/png:https://www.myepl.org/wp-content/uploads/2024/12/Dr.-Seuss-Scavenger-Hunt_Calendar.png
END:VEVENT
BEGIN:VEVENT
DTSTART;TZID=America/Indiana/Indianapolis:20250307T173000
DTEND;TZID=America/Indiana/Indianapolis:20250307T183000
DTSTAMP:20260419T175041
CREATED:20241220T213114Z
LAST-MODIFIED:20250131T181739Z
UID:47324-1741368600-1741372200@www.myepl.org
SUMMARY:Pop Quiz
DESCRIPTION:Register your team to compete in our pop culture trivia with a new theme each month. \nRegistration for this program starts Jan. 31. \nMarch 7 – Anime\nApril 4 – Marvel
URL:https://www.myepl.org/event/pop-quiz-2025-03-07/
LOCATION:Downtown Library\, 300 S. Second St.\, Elkhart\, IN\, 46516\, United States
CATEGORIES:Adult Programs,Just for Fun
ATTACH;FMTTYPE=image/png:https://www.myepl.org/wp-content/uploads/2024/12/popquiz_Calendar-1.png
END:VEVENT
BEGIN:VEVENT
DTSTART;TZID=America/Indiana/Indianapolis:20250307T090000
DTEND;TZID=America/Indiana/Indianapolis:20250307T180000
DTSTAMP:20260419T175041
CREATED:20241226T133002Z
LAST-MODIFIED:20250227T184916Z
UID:47366-1741338000-1741370400@www.myepl.org
SUMMARY:Dr. Seuss Scavenger Hunt
DESCRIPTION:Drop into Cleveland to find Dr. Seuss character cards. Bring them to the front desk for a prize. 
URL:https://www.myepl.org/event/dr-seuss-scavenger-hunt/2025-03-07/
LOCATION:Cleveland Branch\, 53715 C.R. 1\, Elkhart\, IN\, 46514\, United States
CATEGORIES:Just for Fun
ATTACH;FMTTYPE=image/png:https://www.myepl.org/wp-content/uploads/2024/12/Dr.-Seuss-Scavenger-Hunt_Calendar.png
END:VEVENT
BEGIN:VEVENT
DTSTART;TZID=America/Indiana/Indianapolis:20250306T170000
DTEND;TZID=America/Indiana/Indianapolis:20250306T180000
DTSTAMP:20260419T175041
CREATED:20241226T162215Z
LAST-MODIFIED:20241226T162419Z
UID:47462-1741280400-1741284000@www.myepl.org
SUMMARY:Noche de Lotería
DESCRIPTION:Learn and play lotería\, a fast-paced and fun bingo-like game. Plus\, we’ll have snacks and prizes. It’s a fun way to learn some new Spanish words. \nDiviértete y juega a la lotería\, come deliciosos aperitivos y gana premios!
URL:https://www.myepl.org/event/noche-de-loteria-7/2025-03-06/
LOCATION:Pierre Moran Branch\, 2400 Benham Ave\, Elkhart\, IN\, 46517\, United States
CATEGORIES:Just for Fun
ATTACH;FMTTYPE=image/png:https://www.myepl.org/wp-content/uploads/2023/01/Nocha-De-Loteria-Calendar.png
END:VEVENT
BEGIN:VEVENT
DTSTART;TZID=America/Indiana/Indianapolis:20250306T090000
DTEND;TZID=America/Indiana/Indianapolis:20250306T190000
DTSTAMP:20260419T175041
CREATED:20241226T133002Z
LAST-MODIFIED:20250227T184916Z
UID:47365-1741251600-1741287600@www.myepl.org
SUMMARY:Dr. Seuss Scavenger Hunt
DESCRIPTION:Drop into Cleveland to find Dr. Seuss character cards. Bring them to the front desk for a prize. 
URL:https://www.myepl.org/event/dr-seuss-scavenger-hunt/2025-03-06/
LOCATION:Cleveland Branch\, 53715 C.R. 1\, Elkhart\, IN\, 46514\, United States
CATEGORIES:Just for Fun
ATTACH;FMTTYPE=image/png:https://www.myepl.org/wp-content/uploads/2024/12/Dr.-Seuss-Scavenger-Hunt_Calendar.png
END:VEVENT
BEGIN:VEVENT
DTSTART;TZID=America/Indiana/Indianapolis:20250305T163000
DTEND;TZID=America/Indiana/Indianapolis:20250305T173000
DTSTAMP:20260419T175041
CREATED:20240627T195800Z
LAST-MODIFIED:20250319T165320Z
UID:44482-1741192200-1741195800@www.myepl.org
SUMMARY:LEGO Challenge
DESCRIPTION:Take our monthly build challenge and share it with the group. We’ll vote on a winner\, who gets a prize.
URL:https://www.myepl.org/event/lego-challenge-2/2025-03-05/
LOCATION:Downtown Library\, 300 S. Second St.\, Elkhart\, IN\, 46516\, United States
CATEGORIES:Just for Fun
ATTACH;FMTTYPE=image/jpeg:https://www.myepl.org/wp-content/uploads/2023/06/LEGO-Challenge-10-scaled.jpg
END:VEVENT
BEGIN:VEVENT
DTSTART;TZID=America/Indiana/Indianapolis:20250305T090000
DTEND;TZID=America/Indiana/Indianapolis:20250305T190000
DTSTAMP:20260419T175041
CREATED:20241226T133002Z
LAST-MODIFIED:20250227T184915Z
UID:47364-1741165200-1741201200@www.myepl.org
SUMMARY:Dr. Seuss Scavenger Hunt
DESCRIPTION:Drop into Cleveland to find Dr. Seuss character cards. Bring them to the front desk for a prize. 
URL:https://www.myepl.org/event/dr-seuss-scavenger-hunt/2025-03-05/
LOCATION:Cleveland Branch\, 53715 C.R. 1\, Elkhart\, IN\, 46514\, United States
CATEGORIES:Just for Fun
ATTACH;FMTTYPE=image/png:https://www.myepl.org/wp-content/uploads/2024/12/Dr.-Seuss-Scavenger-Hunt_Calendar.png
END:VEVENT
BEGIN:VEVENT
DTSTART;TZID=America/Indiana/Indianapolis:20250304T090000
DTEND;TZID=America/Indiana/Indianapolis:20250304T190000
DTSTAMP:20260419T175041
CREATED:20241226T133002Z
LAST-MODIFIED:20250227T184914Z
UID:47363-1741078800-1741114800@www.myepl.org
SUMMARY:Dr. Seuss Scavenger Hunt
DESCRIPTION:Drop into Cleveland to find Dr. Seuss character cards. Bring them to the front desk for a prize. 
URL:https://www.myepl.org/event/dr-seuss-scavenger-hunt/2025-03-04/
LOCATION:Cleveland Branch\, 53715 C.R. 1\, Elkhart\, IN\, 46514\, United States
CATEGORIES:Just for Fun
ATTACH;FMTTYPE=image/png:https://www.myepl.org/wp-content/uploads/2024/12/Dr.-Seuss-Scavenger-Hunt_Calendar.png
END:VEVENT
BEGIN:VEVENT
DTSTART;TZID=America/Indiana/Indianapolis:20250303T090000
DTEND;TZID=America/Indiana/Indianapolis:20250303T190000
DTSTAMP:20260419T175041
CREATED:20241226T133002Z
LAST-MODIFIED:20250227T184914Z
UID:47362-1740992400-1741028400@www.myepl.org
SUMMARY:Dr. Seuss Scavenger Hunt
DESCRIPTION:Drop into Cleveland to find Dr. Seuss character cards. Bring them to the front desk for a prize. 
URL:https://www.myepl.org/event/dr-seuss-scavenger-hunt/2025-03-03/
LOCATION:Cleveland Branch\, 53715 C.R. 1\, Elkhart\, IN\, 46514\, United States
CATEGORIES:Just for Fun
ATTACH;FMTTYPE=image/png:https://www.myepl.org/wp-content/uploads/2024/12/Dr.-Seuss-Scavenger-Hunt_Calendar.png
END:VEVENT
BEGIN:VEVENT
DTSTART;TZID=America/Indiana/Indianapolis:20250228T100000
DTEND;TZID=America/Indiana/Indianapolis:20250228T110000
DTSTAMP:20260419T175041
CREATED:20241227T161206Z
LAST-MODIFIED:20250205T142019Z
UID:47531-1740736800-1740740400@www.myepl.org
SUMMARY:Preschool Danny Go Dance Party
DESCRIPTION:Dance to your favorite Danny Go videos and get moving. Plus\, take home a craft.
URL:https://www.myepl.org/event/preschool-danny-go-dance-party/
LOCATION:Dunlap Branch\, 58485 C.R. 13 East\, Elkhart\, IN\, 46516\, United States
CATEGORIES:Just for Fun,Preschool Programs
ATTACH;FMTTYPE=image/png:https://www.myepl.org/wp-content/uploads/2024/12/PreschoolDanceParty_Calendar.png
END:VEVENT
BEGIN:VEVENT
DTSTART;TZID=America/Indiana/Indianapolis:20250224T140000
DTEND;TZID=America/Indiana/Indianapolis:20250224T150000
DTSTAMP:20260419T175041
CREATED:20241227T164129Z
LAST-MODIFIED:20241227T164129Z
UID:47582-1740405600-1740409200@www.myepl.org
SUMMARY:Homeschool LEGO Bots
DESCRIPTION:Work with a team to build something and take it to the next level with coding to make it complete tasks like lighting up\, playing sounds or more. This is great for ages 6 and up. \nRegistration for this program opens Jan. 1.
URL:https://www.myepl.org/event/homeschool-lego-bots-5/
LOCATION:Dunlap Branch\, 58485 C.R. 13 East\, Elkhart\, IN\, 46516\, United States
CATEGORIES:Just for Fun,School Age Programs
ATTACH;FMTTYPE=image/jpeg:https://www.myepl.org/wp-content/uploads/2024/12/LEGO-Bots-2.jpg
END:VEVENT
BEGIN:VEVENT
DTSTART;TZID=America/Indiana/Indianapolis:20250221T100000
DTEND;TZID=America/Indiana/Indianapolis:20250221T110000
DTSTAMP:20260419T175041
CREATED:20241220T172406Z
LAST-MODIFIED:20250128T200337Z
UID:47301-1740132000-1740135600@www.myepl.org
SUMMARY:Blaze and the Monster Machines Preschool Party
DESCRIPTION:Celebrate Blaze and the Monster Machines at a party including science\, stories and racing.
URL:https://www.myepl.org/event/blaze-and-the-monster-machines-preschool-party/
LOCATION:Downtown Library\, 300 S. Second St.\, Elkhart\, IN\, 46516\, United States
CATEGORIES:Just for Fun,Preschool Programs
ATTACH;FMTTYPE=image/png:https://www.myepl.org/wp-content/uploads/2024/12/preschoolparty_Calendar-1.png
END:VEVENT
BEGIN:VEVENT
DTSTART;TZID=America/Indiana/Indianapolis:20250220T160000
DTEND;TZID=America/Indiana/Indianapolis:20250220T180000
DTSTAMP:20260419T175041
CREATED:20241226T161024Z
LAST-MODIFIED:20250122T164600Z
UID:47457-1740067200-1740074400@www.myepl.org
SUMMARY:Let's Move Dance Class
DESCRIPTION:Get dancing with direction from a local choreographer. For all skill levels\, ages 13 and up. 
URL:https://www.myepl.org/event/lets-move-dance-class/
LOCATION:Pierre Moran Branch\, 2400 Benham Ave\, Elkhart\, IN\, 46517\, United States
CATEGORIES:Adult Programs,Just for Fun,Teen Programs
ATTACH;FMTTYPE=image/png:https://www.myepl.org/wp-content/uploads/2024/12/LetsMoveDanceClass_Calendar.png
END:VEVENT
BEGIN:VEVENT
DTSTART;TZID=America/Indiana/Indianapolis:20250217T163000
DTEND;TZID=America/Indiana/Indianapolis:20250217T173000
DTSTAMP:20260419T175041
CREATED:20241211T152725Z
LAST-MODIFIED:20241211T152725Z
UID:46992-1739809800-1739813400@www.myepl.org
SUMMARY:LEGO Bots
DESCRIPTION:Combine your LEGO building abilities with coding for sets that move\, light up\, play sounds and more. \nRegistration for this program opens Jan. 1.bot
URL:https://www.myepl.org/event/lego-bots-9/
LOCATION:Downtown Library\, 300 S. Second St.\, Elkhart\, IN\, 46516\, United States
CATEGORIES:Just for Fun
ATTACH;FMTTYPE=image/jpeg:https://www.myepl.org/wp-content/uploads/2024/09/LEGO-Bots.jpg
END:VEVENT
END:VCALENDAR