BEGIN:VCALENDAR
VERSION:2.0
PRODID:-//Elkhart Public Library - ECPv6.15.20//NONSGML v1.0//EN
CALSCALE:GREGORIAN
METHOD:PUBLISH
X-WR-CALNAME:Elkhart Public Library
X-ORIGINAL-URL:https://www.myepl.org
X-WR-CALDESC:Events for Elkhart Public Library
REFRESH-INTERVAL;VALUE=DURATION:PT1H
X-Robots-Tag:noindex
X-PUBLISHED-TTL:PT1H
BEGIN:VTIMEZONE
TZID:America/Indiana/Indianapolis
BEGIN:DAYLIGHT
TZOFFSETFROM:-0500
TZOFFSETTO:-0400
TZNAME:EDT
DTSTART:20230312T070000
END:DAYLIGHT
BEGIN:STANDARD
TZOFFSETFROM:-0400
TZOFFSETTO:-0500
TZNAME:EST
DTSTART:20231105T060000
END:STANDARD
BEGIN:DAYLIGHT
TZOFFSETFROM:-0500
TZOFFSETTO:-0400
TZNAME:EDT
DTSTART:20240310T070000
END:DAYLIGHT
BEGIN:STANDARD
TZOFFSETFROM:-0400
TZOFFSETTO:-0500
TZNAME:EST
DTSTART:20241103T060000
END:STANDARD
BEGIN:DAYLIGHT
TZOFFSETFROM:-0500
TZOFFSETTO:-0400
TZNAME:EDT
DTSTART:20250309T070000
END:DAYLIGHT
BEGIN:STANDARD
TZOFFSETFROM:-0400
TZOFFSETTO:-0500
TZNAME:EST
DTSTART:20251102T060000
END:STANDARD
END:VTIMEZONE
BEGIN:VEVENT
DTSTART;TZID=America/Indiana/Indianapolis:20241230T090000
DTEND;TZID=America/Indiana/Indianapolis:20241230T190000
DTSTAMP:20260419T225647
CREATED:20240925T133057Z
LAST-MODIFIED:20240925T133131Z
UID:45762-1735549200-1735585200@www.myepl.org
SUMMARY:Winter Break Boredom Busters
DESCRIPTION:Get out of the house over break and enjoy games\, puzzles\, activities and more at Cleveland Branch. Each Friday over break we’re showing a movie at 1:30 p.m. instead of activities.
URL:https://www.myepl.org/event/winter-break-boredom-busters-3/2024-12-30/
LOCATION:Cleveland Branch\, 53715 C.R. 1\, Elkhart\, IN\, 46514\, United States
CATEGORIES:Just for Fun
ATTACH;FMTTYPE=image/png:https://www.myepl.org/wp-content/uploads/2022/10/Winter-Break-Boredom-Busters-01.png
END:VEVENT
BEGIN:VEVENT
DTSTART;TZID=America/Indiana/Indianapolis:20241228T090000
DTEND;TZID=America/Indiana/Indianapolis:20241228T150000
DTSTAMP:20260419T225647
CREATED:20240925T133057Z
LAST-MODIFIED:20240925T133130Z
UID:45761-1735376400-1735398000@www.myepl.org
SUMMARY:Winter Break Boredom Busters
DESCRIPTION:Get out of the house over break and enjoy games\, puzzles\, activities and more at Cleveland Branch. Each Friday over break we’re showing a movie at 1:30 p.m. instead of activities.
URL:https://www.myepl.org/event/winter-break-boredom-busters-3/2024-12-28/
LOCATION:Cleveland Branch\, 53715 C.R. 1\, Elkhart\, IN\, 46514\, United States
CATEGORIES:Just for Fun
ATTACH;FMTTYPE=image/png:https://www.myepl.org/wp-content/uploads/2022/10/Winter-Break-Boredom-Busters-01.png
END:VEVENT
BEGIN:VEVENT
DTSTART;TZID=America/Indiana/Indianapolis:20241226T090000
DTEND;TZID=America/Indiana/Indianapolis:20241226T190000
DTSTAMP:20260419T225647
CREATED:20240925T133057Z
LAST-MODIFIED:20240925T133129Z
UID:45759-1735203600-1735239600@www.myepl.org
SUMMARY:Winter Break Boredom Busters
DESCRIPTION:Get out of the house over break and enjoy games\, puzzles\, activities and more at Cleveland Branch. Each Friday over break we’re showing a movie at 1:30 p.m. instead of activities.
URL:https://www.myepl.org/event/winter-break-boredom-busters-3/2024-12-26/
LOCATION:Cleveland Branch\, 53715 C.R. 1\, Elkhart\, IN\, 46514\, United States
CATEGORIES:Just for Fun
ATTACH;FMTTYPE=image/png:https://www.myepl.org/wp-content/uploads/2022/10/Winter-Break-Boredom-Busters-01.png
END:VEVENT
BEGIN:VEVENT
DTSTART;TZID=America/Indiana/Indianapolis:20241219T163000
DTEND;TZID=America/Indiana/Indianapolis:20241219T173000
DTSTAMP:20260419T225647
CREATED:20240919T135153Z
LAST-MODIFIED:20241218T220007Z
UID:45535-1734625800-1734629400@www.myepl.org
SUMMARY:LEGO Bots
DESCRIPTION:Take your build to the next level by working together with others to make LEGOs move\, light up and more. Learn coding skills while demonstrating your builds. \nRegistration for this program opens Nov. 1.
URL:https://www.myepl.org/event/lego-bots-7/
LOCATION:Downtown Library\, 300 S. Second St.\, Elkhart\, IN\, 46516\, United States
CATEGORIES:Just for Fun
ATTACH;FMTTYPE=image/jpeg:https://www.myepl.org/wp-content/uploads/2024/09/LEGO-Bots.jpg
END:VEVENT
BEGIN:VEVENT
DTSTART;TZID=America/Indiana/Indianapolis:20241218T173000
DTEND;TZID=America/Indiana/Indianapolis:20241218T183000
DTSTAMP:20260419T225647
CREATED:20240917T195439Z
LAST-MODIFIED:20241209T184224Z
UID:45445-1734543000-1734546600@www.myepl.org
SUMMARY:Bedtime Stories: Snowmen at Night
DESCRIPTION:Explore what snowmen do at night with stories\, songs and activities at this Storytime for the whole family.
URL:https://www.myepl.org/event/bedtime-stories-snowmen-at-night/
LOCATION:Downtown Library\, 300 S. Second St.\, Elkhart\, IN\, 46516\, United States
CATEGORIES:Just for Fun,Storytimes
ATTACH;FMTTYPE=image/png:https://www.myepl.org/wp-content/uploads/2024/07/BedtimeStories_Calendar.png
END:VEVENT
BEGIN:VEVENT
DTSTART;TZID=America/Indiana/Indianapolis:20241216T160000
DTEND;TZID=America/Indiana/Indianapolis:20241216T180000
DTSTAMP:20260419T225647
CREATED:20241112T205940Z
LAST-MODIFIED:20241112T205940Z
UID:46602-1734364800-1734372000@www.myepl.org
SUMMARY:Christmas Party with Santa and Mrs. Claus
DESCRIPTION:Free pictures with Santa and Mrs. Claus! Plus\, enjoy cocoa\, stories\, games and more. Free gift of a book for kids while supplies last.
URL:https://www.myepl.org/event/christmas-party-with-santa-and-mrs-claus-3/
LOCATION:Downtown Library\, 300 S. Second St.\, Elkhart\, IN\, 46516\, United States
CATEGORIES:Just for Fun,Seasonal
ATTACH;FMTTYPE=image/jpeg:https://www.myepl.org/wp-content/uploads/2024/11/Santa-and-Mrs-Claus-01-scaled.jpg
END:VEVENT
BEGIN:VEVENT
DTSTART;VALUE=DATE:20241209
DTEND;VALUE=DATE:20241210
DTSTAMP:20260419T225647
CREATED:20240926T143521Z
LAST-MODIFIED:20241008T130608Z
UID:45824-1733702400-1733788799@www.myepl.org
SUMMARY:Holiday Cards for Seniors
DESCRIPTION:Drop to create a card or bring one in between Nov. 4 and Dec. 13. We’ll deliver them to our community’s senior care centers.
URL:https://www.myepl.org/event/holiday-cards-for-seniors/2024-12-09/
LOCATION:Pierre Moran Branch\, 2400 Benham Ave\, Elkhart\, IN\, 46517\, United States
CATEGORIES:Crafts,Just for Fun
ATTACH;FMTTYPE=image/png:https://www.myepl.org/wp-content/uploads/2022/10/Calendar-Card-Stamping-01.png
END:VEVENT
BEGIN:VEVENT
DTSTART;TZID=America/Indiana/Indianapolis:20241207T120000
DTEND;TZID=America/Indiana/Indianapolis:20241207T140000
DTSTAMP:20260419T225647
CREATED:20240925T181715Z
LAST-MODIFIED:20241206T155851Z
UID:45809-1733572800-1733580000@www.myepl.org
SUMMARY:Winterfest at the Library
DESCRIPTION:Come by during WinterFest for a photo with the Grinch and to make an RV Santa. \nElkhart City Parks and Recreation Department hosts Santa for photos from 1:15 to 3 p.m.
URL:https://www.myepl.org/event/winterfest-at-the-library-2/
LOCATION:Downtown Library\, 300 S. Second St.\, Elkhart\, IN\, 46516\, United States
CATEGORIES:Just for Fun
ATTACH;FMTTYPE=image/png:https://www.myepl.org/wp-content/uploads/2024/09/winterfestatthelibrary_Calendar.png
END:VEVENT
BEGIN:VEVENT
DTSTART;VALUE=DATE:20241202
DTEND;VALUE=DATE:20241203
DTSTAMP:20260419T225647
CREATED:20240926T143521Z
LAST-MODIFIED:20241008T130607Z
UID:45823-1733097600-1733183999@www.myepl.org
SUMMARY:Holiday Cards for Seniors
DESCRIPTION:Drop to create a card or bring one in between Nov. 4 and Dec. 13. We’ll deliver them to our community’s senior care centers.
URL:https://www.myepl.org/event/holiday-cards-for-seniors/2024-12-02/
LOCATION:Pierre Moran Branch\, 2400 Benham Ave\, Elkhart\, IN\, 46517\, United States
CATEGORIES:Crafts,Just for Fun
ATTACH;FMTTYPE=image/png:https://www.myepl.org/wp-content/uploads/2022/10/Calendar-Card-Stamping-01.png
END:VEVENT
BEGIN:VEVENT
DTSTART;TZID=America/Indiana/Indianapolis:20241127T100000
DTEND;TZID=America/Indiana/Indianapolis:20241127T180000
DTSTAMP:20260419T225647
CREATED:20240926T150254Z
LAST-MODIFIED:20241023T124944Z
UID:45830-1732701600-1732730400@www.myepl.org
SUMMARY:Make and Take: Thanksgiving Crafts
DESCRIPTION:Create a fun and festive Thanksgiving craft while supplies last. Children ages 3 to 11 will need an adult helper.
URL:https://www.myepl.org/event/make-and-take-thanksgiving-crafts/
LOCATION:Pierre Moran Branch\, 2400 Benham Ave\, Elkhart\, IN\, 46517\, United States
CATEGORIES:Crafts,Just for Fun
ATTACH;FMTTYPE=image/jpeg:https://www.myepl.org/wp-content/uploads/2024/09/thanksgivingcrafts_Calendar.jpg
END:VEVENT
BEGIN:VEVENT
DTSTART;TZID=America/Indiana/Indianapolis:20241125T163000
DTEND;TZID=America/Indiana/Indianapolis:20241125T173000
DTSTAMP:20260419T225647
CREATED:20240919T135019Z
LAST-MODIFIED:20240919T142146Z
UID:45531-1732552200-1732555800@www.myepl.org
SUMMARY:LEGO Bots
DESCRIPTION:Take your build to the next level by working together with others to make LEGOs move\, light up and more. Learn coding skills while demonstrating your builds. \nRegistration for this program opens Oct. 1.
URL:https://www.myepl.org/event/lego-bots-6/
LOCATION:Downtown Library\, 300 S. Second St.\, Elkhart\, IN\, 46516\, United States
CATEGORIES:Just for Fun
ATTACH;FMTTYPE=image/jpeg:https://www.myepl.org/wp-content/uploads/2024/09/LEGO-Bots.jpg
END:VEVENT
BEGIN:VEVENT
DTSTART;VALUE=DATE:20241125
DTEND;VALUE=DATE:20241126
DTSTAMP:20260419T225647
CREATED:20240926T143521Z
LAST-MODIFIED:20241008T130607Z
UID:45822-1732492800-1732579199@www.myepl.org
SUMMARY:Holiday Cards for Seniors
DESCRIPTION:Drop to create a card or bring one in between Nov. 4 and Dec. 13. We’ll deliver them to our community’s senior care centers.
URL:https://www.myepl.org/event/holiday-cards-for-seniors/2024-11-25/
LOCATION:Pierre Moran Branch\, 2400 Benham Ave\, Elkhart\, IN\, 46517\, United States
CATEGORIES:Crafts,Just for Fun
ATTACH;FMTTYPE=image/png:https://www.myepl.org/wp-content/uploads/2022/10/Calendar-Card-Stamping-01.png
END:VEVENT
BEGIN:VEVENT
DTSTART;TZID=America/Indiana/Indianapolis:20241121T153000
DTEND;TZID=America/Indiana/Indianapolis:20241121T163000
DTSTAMP:20260419T225647
CREATED:20240904T141059Z
LAST-MODIFIED:20241009T170738Z
UID:45317-1732203000-1732206600@www.myepl.org
SUMMARY:Turkey Time
DESCRIPTION:Celebrate turkeys with stories\, songs and crafts all involving our favorite seasonal bird.
URL:https://www.myepl.org/event/turkey-time/
LOCATION:Osolo Branch\, 3429 E. Bristol St.\, Elkhart\, IN\, 46516\, United States
CATEGORIES:Just for Fun,Storytimes
ATTACH;FMTTYPE=image/png:https://www.myepl.org/wp-content/uploads/2024/09/turkeytime-cal.png
END:VEVENT
BEGIN:VEVENT
DTSTART;TZID=America/Indiana/Indianapolis:20241120T173000
DTEND;TZID=America/Indiana/Indianapolis:20241120T183000
DTSTAMP:20260419T225647
CREATED:20240918T133943Z
LAST-MODIFIED:20241107T190409Z
UID:45449-1732123800-1732127400@www.myepl.org
SUMMARY:Bedtime Stories: Hibernation
DESCRIPTION:Learn about how bears hibernate with stories\, music and activities at this special Storytime for the whole family.
URL:https://www.myepl.org/event/bedtime-stories-hibernation/
LOCATION:Downtown Library\, 300 S. Second St.\, Elkhart\, IN\, 46516\, United States
CATEGORIES:Just for Fun,Storytimes
ATTACH;FMTTYPE=image/png:https://www.myepl.org/wp-content/uploads/2024/07/BedtimeStories_Calendar.png
END:VEVENT
BEGIN:VEVENT
DTSTART;VALUE=DATE:20241118
DTEND;VALUE=DATE:20241119
DTSTAMP:20260419T225647
CREATED:20240926T143521Z
LAST-MODIFIED:20241008T130607Z
UID:45821-1731888000-1731974399@www.myepl.org
SUMMARY:Holiday Cards for Seniors
DESCRIPTION:Drop to create a card or bring one in between Nov. 4 and Dec. 13. We’ll deliver them to our community’s senior care centers.
URL:https://www.myepl.org/event/holiday-cards-for-seniors/2024-11-18/
LOCATION:Pierre Moran Branch\, 2400 Benham Ave\, Elkhart\, IN\, 46517\, United States
CATEGORIES:Crafts,Just for Fun
ATTACH;FMTTYPE=image/png:https://www.myepl.org/wp-content/uploads/2022/10/Calendar-Card-Stamping-01.png
END:VEVENT
BEGIN:VEVENT
DTSTART;TZID=America/Indiana/Indianapolis:20241116T110000
DTEND;TZID=America/Indiana/Indianapolis:20241116T120000
DTSTAMP:20260419T225647
CREATED:20240919T142748Z
LAST-MODIFIED:20240919T142748Z
UID:45544-1731754800-1731758400@www.myepl.org
SUMMARY:How to Catch a Turkey
DESCRIPTION:Catch a turkey and win a prize. Plus stories and games.  
URL:https://www.myepl.org/event/how-to-catch-a-turkey-3/
LOCATION:Downtown Library\, 300 S. Second St.\, Elkhart\, IN\, 46516\, United States
CATEGORIES:Just for Fun
ATTACH;FMTTYPE=image/png:https://www.myepl.org/wp-content/uploads/2023/09/How-to-Catch-a-Turkey_calendar-CLEVELAND.png
END:VEVENT
BEGIN:VEVENT
DTSTART;TZID=America/Indiana/Indianapolis:20241114T173000
DTEND;TZID=America/Indiana/Indianapolis:20241114T183000
DTSTAMP:20260419T225647
CREATED:20240918T173314Z
LAST-MODIFIED:20241105T184424Z
UID:45495-1731605400-1731609000@www.myepl.org
SUMMARY:Charcuterie 101
DESCRIPTION:(This event is full. Keep watching for more great events.) \nBefore your holiday hosting\, learn how to build an appetizing and great-looking charcuterie board. To register call Jenn at 574-533-0554 or email fink24@purdue.edu. 
URL:https://www.myepl.org/event/charcuterie-101/
LOCATION:Cleveland Branch\, 53715 C.R. 1\, Elkhart\, IN\, 46514\, United States
CATEGORIES:Just for Fun
ATTACH;FMTTYPE=image/png:https://www.myepl.org/wp-content/uploads/2024/09/charcuterie101-cal.png
END:VEVENT
BEGIN:VEVENT
DTSTART;TZID=America/Indiana/Indianapolis:20241114T170000
DTEND;TZID=America/Indiana/Indianapolis:20241114T180000
DTSTAMP:20260419T225647
CREATED:20240926T130504Z
LAST-MODIFIED:20241114T211519Z
UID:45813-1731603600-1731607200@www.myepl.org
SUMMARY:Noche de Lotería
DESCRIPTION:Play lotería\, a traditional Mexican bingo-like game that’s easy to learn and fun to play. Plus\, we’ll have prizes and snacks. Practice your Spanish while having fun. \nDiviértete y juega a la lotería\, come deliciosos aperitivos y gana premios!
URL:https://www.myepl.org/event/noche-de-loteria-6/2024-11-14/
LOCATION:Pierre Moran Branch\, 2400 Benham Ave\, Elkhart\, IN\, 46517\, United States
CATEGORIES:Just for Fun
ATTACH;FMTTYPE=image/png:https://www.myepl.org/wp-content/uploads/2023/01/Nocha-De-Loteria-Calendar.png
END:VEVENT
BEGIN:VEVENT
DTSTART;TZID=America/Indiana/Indianapolis:20241112T180000
DTEND;TZID=America/Indiana/Indianapolis:20241112T190000
DTSTAMP:20260419T225647
CREATED:20241009T132356Z
LAST-MODIFIED:20241010T152947Z
UID:46237-1731434400-1731438000@www.myepl.org
SUMMARY:Amateur Radio
DESCRIPTION:Learn about the exciting hobby of ham radio with a demonstration from members of the Michiana Amateur Radio Club.
URL:https://www.myepl.org/event/amateur-radio/
LOCATION:Osolo Branch\, 3429 E. Bristol St.\, Elkhart\, IN\, 46516\, United States
CATEGORIES:Educational,Just for Fun
ATTACH;FMTTYPE=image/png:https://www.myepl.org/wp-content/uploads/2024/10/AmateurRadio_Calendar.png
END:VEVENT
BEGIN:VEVENT
DTSTART;VALUE=DATE:20241111
DTEND;VALUE=DATE:20241112
DTSTAMP:20260419T225648
CREATED:20240926T143521Z
LAST-MODIFIED:20241008T130606Z
UID:45820-1731283200-1731369599@www.myepl.org
SUMMARY:Holiday Cards for Seniors
DESCRIPTION:Drop to create a card or bring one in between Nov. 4 and Dec. 13. We’ll deliver them to our community’s senior care centers.
URL:https://www.myepl.org/event/holiday-cards-for-seniors/2024-11-11/
LOCATION:Pierre Moran Branch\, 2400 Benham Ave\, Elkhart\, IN\, 46517\, United States
CATEGORIES:Crafts,Just for Fun
ATTACH;FMTTYPE=image/png:https://www.myepl.org/wp-content/uploads/2022/10/Calendar-Card-Stamping-01.png
END:VEVENT
BEGIN:VEVENT
DTSTART;TZID=America/Indiana/Indianapolis:20241108T100000
DTEND;TZID=America/Indiana/Indianapolis:20241108T110000
DTSTAMP:20260419T225648
CREATED:20240918T141511Z
LAST-MODIFIED:20241023T141436Z
UID:45453-1731060000-1731063600@www.myepl.org
SUMMARY:Dragons Love Tacos Preschool Party
DESCRIPTION:Don’t give a dragon salsa with their taco! Read the story and enjoy activities based on the book.
URL:https://www.myepl.org/event/dragons-love-tacos-preschool-party/
LOCATION:Downtown Library\, 300 S. Second St.\, Elkhart\, IN\, 46516\, United States
CATEGORIES:Just for Fun
ATTACH;FMTTYPE=image/png:https://www.myepl.org/wp-content/uploads/2024/09/DragonsloveTacosPreschoolParty_Calendar.png
END:VEVENT
BEGIN:VEVENT
DTSTART;TZID=America/Indiana/Indianapolis:20241104T180000
DTEND;TZID=America/Indiana/Indianapolis:20241104T190000
DTSTAMP:20260419T225648
CREATED:20241015T133148Z
LAST-MODIFIED:20241016T182203Z
UID:46297-1730743200-1730746800@www.myepl.org
SUMMARY:Meet the Cast
DESCRIPTION:Live theater comes to Dunlap Branch. Cast members from Concord High’s fall show “A Wrinkle in Time” perform a scene from the show\, plus answer questions about theater and performing. Support local students\, learn about performing and enter to win tickets to the show at this program for the whole family.
URL:https://www.myepl.org/event/meet-the-cast/
LOCATION:Dunlap Branch\, 58485 C.R. 13 East\, Elkhart\, IN\, 46516\, United States
CATEGORIES:Educational,Just for Fun
ATTACH;FMTTYPE=image/png:https://www.myepl.org/wp-content/uploads/2024/10/MeetTheCast_Calendar.png
END:VEVENT
BEGIN:VEVENT
DTSTART;VALUE=DATE:20241104
DTEND;VALUE=DATE:20241105
DTSTAMP:20260419T225648
CREATED:20240926T143521Z
LAST-MODIFIED:20241008T130606Z
UID:45819-1730678400-1730764799@www.myepl.org
SUMMARY:Holiday Cards for Seniors
DESCRIPTION:Drop to create a card or bring one in between Nov. 4 and Dec. 13. We’ll deliver them to our community’s senior care centers.
URL:https://www.myepl.org/event/holiday-cards-for-seniors/2024-11-04/
LOCATION:Pierre Moran Branch\, 2400 Benham Ave\, Elkhart\, IN\, 46517\, United States
CATEGORIES:Crafts,Just for Fun
ATTACH;FMTTYPE=image/png:https://www.myepl.org/wp-content/uploads/2022/10/Calendar-Card-Stamping-01.png
END:VEVENT
BEGIN:VEVENT
DTSTART;TZID=America/Indiana/Indianapolis:20241101T170000
DTEND;TZID=America/Indiana/Indianapolis:20241101T200000
DTSTAMP:20260419T225648
CREATED:20240930T173440Z
LAST-MODIFIED:20241007T201717Z
UID:45995-1730480400-1730491200@www.myepl.org
SUMMARY:Día de los Muertos
DESCRIPTION:Celebrate and learn about Día de los Muertos with facepainting\, crafts\, cocoa and pan de muertos.
URL:https://www.myepl.org/event/dia-de-los-muertos/
LOCATION:Downtown Library\, 300 S. Second St.\, Elkhart\, IN\, 46516\, United States
CATEGORIES:Educational,Just for Fun
ATTACH;FMTTYPE=image/png:https://www.myepl.org/wp-content/uploads/2024/09/2024-DiadelosMuertos-digital-03.png
END:VEVENT
BEGIN:VEVENT
DTSTART;TZID=America/Indiana/Indianapolis:20241031T163000
DTEND;TZID=America/Indiana/Indianapolis:20241031T173000
DTSTAMP:20260419T225648
CREATED:20240717T205345Z
LAST-MODIFIED:20241023T204849Z
UID:44844-1730392200-1730395800@www.myepl.org
SUMMARY:Harry Potter Halloween Hoopla
DESCRIPTION:Join our Halloween party of fun with a Harry Potter theme! Play games\, get candy\, enter our costume contest and more.
URL:https://www.myepl.org/event/halloween-hoopla-2/
LOCATION:Downtown Library\, 300 S. Second St.\, Elkhart\, IN\, 46516\, United States
CATEGORIES:Just for Fun
ATTACH;FMTTYPE=image/jpeg:https://www.myepl.org/wp-content/uploads/2024/07/Halloween-Party-06-1-scaled.jpg
END:VEVENT
BEGIN:VEVENT
DTSTART;TZID=America/Indiana/Indianapolis:20241031T100000
DTEND;TZID=America/Indiana/Indianapolis:20241031T110000
DTSTAMP:20260419T225648
CREATED:20240613T203857Z
LAST-MODIFIED:20240613T203857Z
UID:44230-1730368800-1730372400@www.myepl.org
SUMMARY:Halloween Parade
DESCRIPTION:Preschoolers can come in their costumes for stories\, rhymes and games. We finish with a walk around the building to collect candy.
URL:https://www.myepl.org/event/halloween-parade/
LOCATION:Downtown Library\, 300 S. Second St.\, Elkhart\, IN\, 46516\, United States
CATEGORIES:Just for Fun,Preschool Programs
ATTACH;FMTTYPE=image/jpeg:https://www.myepl.org/wp-content/uploads/2024/06/Halloween-Parade-13-scaled.jpg
END:VEVENT
BEGIN:VEVENT
DTSTART;TZID=America/Indiana/Indianapolis:20241030T160000
DTEND;TZID=America/Indiana/Indianapolis:20241030T180000
DTSTAMP:20260419T225648
CREATED:20240709T173801Z
LAST-MODIFIED:20240808T184110Z
UID:44703-1730304000-1730311200@www.myepl.org
SUMMARY:Trunk-or-Treat at Pierre Moran
DESCRIPTION:From 4 to 6 p.m. enjoy family-friendly trick-or-treating in a safe environment. The event is free and open to all. \nIf you’d like to register a vehicle to give out candy or small toys or trinkets\, please call Angie at the Pierre Moran Branch at 574.294.6418.
URL:https://www.myepl.org/event/trunk-or-treat-at-pierre-moran/
LOCATION:Pierre Moran Branch\, 2400 Benham Ave\, Elkhart\, IN\, 46517\, United States
CATEGORIES:Just for Fun
ATTACH;FMTTYPE=image/png:https://www.myepl.org/wp-content/uploads/2024/07/trunk-or-treat-Pierre-Moran_Calendar.png
END:VEVENT
BEGIN:VEVENT
DTSTART;TZID=America/Indiana/Indianapolis:20241025T153000
DTEND;TZID=America/Indiana/Indianapolis:20241025T170000
DTSTAMP:20260419T225648
CREATED:20240628T204304Z
LAST-MODIFIED:20240923T163210Z
UID:44530-1729870200-1729875600@www.myepl.org
SUMMARY:Taylor Swift The Eras Tour (EPL's Version)
DESCRIPTION:Swifties of all ages can make bracelets\, listen to her music\, karaoke\, and more as we enter our Swiftie Era.
URL:https://www.myepl.org/event/taylor-swift-the-eras-tour-epls-version/
LOCATION:Downtown Library\, 300 S. Second St.\, Elkhart\, IN\, 46516\, United States
CATEGORIES:Just for Fun,Music,Teen Programs
ATTACH;FMTTYPE=image/png:https://www.myepl.org/wp-content/uploads/2024/06/TaylorSwiftPartyPromo_Calendar.png
END:VEVENT
BEGIN:VEVENT
DTSTART;TZID=America/Indiana/Indianapolis:20241017T153000
DTEND;TZID=America/Indiana/Indianapolis:20241017T163000
DTSTAMP:20260419T225648
CREATED:20240709T132332Z
LAST-MODIFIED:20241007T121447Z
UID:44672-1729179000-1729182600@www.myepl.org
SUMMARY:Slime Time
DESCRIPTION:Make your own slime to take home with you. This program is best for children ages 6 and up.
URL:https://www.myepl.org/event/slime-time/
LOCATION:Osolo Branch\, 3429 E. Bristol St.\, Elkhart\, IN\, 46516\, United States
CATEGORIES:Just for Fun
ATTACH;FMTTYPE=image/jpeg:https://www.myepl.org/wp-content/uploads/2019/03/Slime-08-e1552680228407.jpg
END:VEVENT
BEGIN:VEVENT
DTSTART;TZID=America/Indiana/Indianapolis:20241014T163000
DTEND;TZID=America/Indiana/Indianapolis:20241014T173000
DTSTAMP:20260419T225648
CREATED:20240717T210921Z
LAST-MODIFIED:20241010T175146Z
UID:44859-1728923400-1728927000@www.myepl.org
SUMMARY:LEGO Bots
DESCRIPTION:Bring LEGO creations to life by working with a team to build something and then code it to complete tasks like light up\, play sounds or move. \nRegistration for this program starts Sept. 1.
URL:https://www.myepl.org/event/lego-bots-5/
LOCATION:Downtown Library\, 300 S. Second St.\, Elkhart\, IN\, 46516\, United States
CATEGORIES:Just for Fun
ATTACH;FMTTYPE=image/jpeg:https://www.myepl.org/wp-content/uploads/2023/09/LEGO-Sparks.jpg
END:VEVENT
END:VCALENDAR