BEGIN:VCALENDAR
VERSION:2.0
PRODID:-//Elkhart Public Library - ECPv6.15.20//NONSGML v1.0//EN
CALSCALE:GREGORIAN
METHOD:PUBLISH
X-WR-CALNAME:Elkhart Public Library
X-ORIGINAL-URL:https://www.myepl.org
X-WR-CALDESC:Events for Elkhart Public Library
REFRESH-INTERVAL;VALUE=DURATION:PT1H
X-Robots-Tag:noindex
X-PUBLISHED-TTL:PT1H
BEGIN:VTIMEZONE
TZID:America/Indiana/Indianapolis
BEGIN:DAYLIGHT
TZOFFSETFROM:-0500
TZOFFSETTO:-0400
TZNAME:EDT
DTSTART:20230312T070000
END:DAYLIGHT
BEGIN:STANDARD
TZOFFSETFROM:-0400
TZOFFSETTO:-0500
TZNAME:EST
DTSTART:20231105T060000
END:STANDARD
BEGIN:DAYLIGHT
TZOFFSETFROM:-0500
TZOFFSETTO:-0400
TZNAME:EDT
DTSTART:20240310T070000
END:DAYLIGHT
BEGIN:STANDARD
TZOFFSETFROM:-0400
TZOFFSETTO:-0500
TZNAME:EST
DTSTART:20241103T060000
END:STANDARD
BEGIN:DAYLIGHT
TZOFFSETFROM:-0500
TZOFFSETTO:-0400
TZNAME:EDT
DTSTART:20250309T070000
END:DAYLIGHT
BEGIN:STANDARD
TZOFFSETFROM:-0400
TZOFFSETTO:-0500
TZNAME:EST
DTSTART:20251102T060000
END:STANDARD
END:VTIMEZONE
BEGIN:VEVENT
DTSTART;TZID=America/Indiana/Indianapolis:20240906T190000
DTEND;TZID=America/Indiana/Indianapolis:20240906T213000
DTSTAMP:20260420T034726
CREATED:20240823T143606Z
LAST-MODIFIED:20240823T143606Z
UID:45172-1725649200-1725658200@www.myepl.org
SUMMARY:Curbside Concerts: Los Ortega
DESCRIPTION:¡Bailamos! Los Ortega is coming back to the rooftop stage as Curbside Concerts rolls on Sept. 6. Expect high-energy regional Mexican music from these outstanding players.\n\nFriday shows at Elkhart Public Library are free – bring a blanket or a camp chair and enjoy the best local music played on the best roof in town. Beverages and That Guys Gourmet Ribs will be for sale.\n\nThese events are “Well Crafted\,” thanks to our friends at VisitElkhartCounty.com.
URL:https://www.myepl.org/event/curbside-concerts-los-ortega/
LOCATION:Downtown Library\, 300 S. Second St.\, Elkhart\, IN\, 46516\, United States
CATEGORIES:Featured,Just for Fun,Music
ATTACH;FMTTYPE=image/jpeg:https://www.myepl.org/wp-content/uploads/2024/08/Los-Ortega-2-scaled.jpg
END:VEVENT
BEGIN:VEVENT
DTSTART;VALUE=DATE:20240901
DTEND;VALUE=DATE:20240902
DTSTAMP:20260420T034726
CREATED:20240628T204741Z
LAST-MODIFIED:20240925T180615Z
UID:44532-1725148800-1725235199@www.myepl.org
SUMMARY:Spice Club
DESCRIPTION:Spice up your life with a take-and-make spice kit that changes monthly. Come in during open hours to pick up a kit. Sept. – Fennel Oct. – Turmeric\nNov. – Za’atar\nDec. – Ginger\nJan. – Five spice\nFeb. – Cardamom
URL:https://www.myepl.org/event/spice-club/2024-09-01/
LOCATION:Downtown Library\, 300 S. Second St.\, Elkhart\, IN\, 46516\, United States
CATEGORIES:Just for Fun
ATTACH;FMTTYPE=image/png:https://www.myepl.org/wp-content/uploads/2024/06/spiceclub_Calendar.png
END:VEVENT
BEGIN:VEVENT
DTSTART;TZID=America/Indiana/Indianapolis:20240830T190000
DTEND;TZID=America/Indiana/Indianapolis:20240830T213000
DTSTAMP:20260420T034726
CREATED:20240823T142251Z
LAST-MODIFIED:20240823T142252Z
UID:45169-1725044400-1725053400@www.myepl.org
SUMMARY:Curbside Concerts: JR Clark Band
DESCRIPTION:JR Clark brings the blues as we kickoff the fall Curbside Concerts series.\n\nBacked by a horn section that’s been on tour with the Ohio Players\, this talented roster also features the legendary Johnny B Gayden on bass. Johnny B was a long-time player with Albert Collins and played on The Ice Man’s Grammy-winning “Showdown!” with Robert Cray and Johnny Copeland.\n\n\nThat Guys Gourmet Ribs and beverages for sale. Bring a camp chair or blanket.\n\nOur concert series is just one of the Well Crafted events happening here in Elkhart County. See the entire list of entertainment and things to do at Visit Elkhart County.
URL:https://www.myepl.org/event/curbside-concerts-jr-clark-band/
LOCATION:Downtown Library\, 300 S. Second St.\, Elkhart\, IN\, 46516\, United States
CATEGORIES:Featured,Just for Fun,Music
ATTACH;FMTTYPE=image/jpeg:https://www.myepl.org/wp-content/uploads/2024/08/453413916_895239685976481_2382841375123408648_n.jpg
END:VEVENT
BEGIN:VEVENT
DTSTART;TZID=America/Indiana/Indianapolis:20240824T160000
DTEND;TZID=America/Indiana/Indianapolis:20240824T190000
DTSTAMP:20260420T034726
CREATED:20240509T135238Z
LAST-MODIFIED:20240919T125445Z
UID:43795-1724515200-1724526000@www.myepl.org
SUMMARY:Mercado
DESCRIPTION:Explore nuestro mercado\, donde los vendedores latinos locales muestran su artesanía\, comida y cultura. Desde tesoros hechos a mano hasta deliciosa comida \, sumérgete en el vibrante tapiz de nuestra comunidad.
URL:https://www.myepl.org/event/mercado/2024-08-24/
LOCATION:Downtown Library\, 300 S. Second St.\, Elkhart\, IN\, 46516\, United States
CATEGORIES:Just for Fun
ATTACH;FMTTYPE=image/jpeg:https://www.myepl.org/wp-content/uploads/2024/05/Mercado-web.jpg
END:VEVENT
BEGIN:VEVENT
DTSTART;TZID=America/Indiana/Indianapolis:20240814T160000
DTEND;TZID=America/Indiana/Indianapolis:20240814T170000
DTSTAMP:20260420T034726
CREATED:20240327T171619Z
LAST-MODIFIED:20240327T171619Z
UID:43070-1723651200-1723654800@www.myepl.org
SUMMARY:Noche de Lotería
DESCRIPTION:Play lotería\, win prizes and eat snacks.
URL:https://www.myepl.org/event/noche-de-loteria-5/
LOCATION:Pierre Moran Branch\, 2400 Benham Ave\, Elkhart\, IN\, 46517\, United States
CATEGORIES:Just for Fun
ATTACH;FMTTYPE=image/png:https://www.myepl.org/wp-content/uploads/2023/01/Nocha-De-Loteria-Calendar.png
END:VEVENT
BEGIN:VEVENT
DTSTART;TZID=America/Indiana/Indianapolis:20240729T163000
DTEND;TZID=America/Indiana/Indianapolis:20240729T173000
DTSTAMP:20260420T034726
CREATED:20240329T140257Z
LAST-MODIFIED:20240329T140257Z
UID:43171-1722270600-1722274200@www.myepl.org
SUMMARY:LEGO Bots
DESCRIPTION:Combine building with coding to make LEGOs move. \nRegistration for this program opens June 1.
URL:https://www.myepl.org/event/lego-bots-2/
LOCATION:Downtown Library\, 300 S. Second St.\, Elkhart\, IN\, 46516\, United States
CATEGORIES:Just for Fun
ATTACH;FMTTYPE=image/jpeg:https://www.myepl.org/wp-content/uploads/2023/09/LEGO-Sparks.jpg
END:VEVENT
BEGIN:VEVENT
DTSTART;TZID=America/Indiana/Indianapolis:20240727T160000
DTEND;TZID=America/Indiana/Indianapolis:20240727T190000
DTSTAMP:20260420T034726
CREATED:20240509T135238Z
LAST-MODIFIED:20240919T125444Z
UID:43794-1722096000-1722106800@www.myepl.org
SUMMARY:Mercado
DESCRIPTION:Explore nuestro mercado\, donde los vendedores latinos locales muestran su artesanía\, comida y cultura. Desde tesoros hechos a mano hasta deliciosa comida \, sumérgete en el vibrante tapiz de nuestra comunidad.
URL:https://www.myepl.org/event/mercado/2024-07-27/
LOCATION:Downtown Library\, 300 S. Second St.\, Elkhart\, IN\, 46516\, United States
CATEGORIES:Just for Fun
ATTACH;FMTTYPE=image/jpeg:https://www.myepl.org/wp-content/uploads/2024/05/Mercado-web.jpg
END:VEVENT
BEGIN:VEVENT
DTSTART;TZID=America/Indiana/Indianapolis:20240718T150000
DTEND;TZID=America/Indiana/Indianapolis:20240718T194500
DTSTAMP:20260420T034726
CREATED:20240516T140824Z
LAST-MODIFIED:20240516T140825Z
UID:43877-1721314800-1721331900@www.myepl.org
SUMMARY:Summer Reading Prize Party
DESCRIPTION:Celebrate the end of the Summer Reading Challenge presented by Ranger Distribution and Froggy 102.7. Enjoy games\, snacks and activities from 3 to 6 p.m. for all ages and 6 to 7:45 p.m. for teens. Winners will be announced at 5:30 p.m.
URL:https://www.myepl.org/event/summer-reading-prize-party-2/
LOCATION:Tolson Center for Community Excellence\, 1320 Benham AVe\, Elkhart\, IN\, 46516\, United States
CATEGORIES:Just for Fun,Summer Reading
ATTACH;FMTTYPE=image/png:https://www.myepl.org/wp-content/uploads/2024/05/Froggy-digital-website-banner-06.png
END:VEVENT
BEGIN:VEVENT
DTSTART;TZID=America/Indiana/Indianapolis:20240710T163000
DTEND;TZID=America/Indiana/Indianapolis:20240710T173000
DTSTAMP:20260420T034726
CREATED:20230928T211436Z
LAST-MODIFIED:20240327T182212Z
UID:43109-1720629000-1720632600@www.myepl.org
SUMMARY:LEGO Challenge
DESCRIPTION:Build magnificent things. Use our prompt to build something and then talk about what you made. You could take home a prize.
URL:https://www.myepl.org/event/lego-challenge/2024-07-10/
LOCATION:Downtown Library\, 300 S. Second St.\, Elkhart\, IN\, 46516\, United States
CATEGORIES:Just for Fun
ATTACH;FMTTYPE=image/jpeg:https://www.myepl.org/wp-content/uploads/2023/09/LEGO-Downtown-01.jpg
END:VEVENT
BEGIN:VEVENT
DTSTART;TZID=America/Indiana/Indianapolis:20240709T180000
DTEND;TZID=America/Indiana/Indianapolis:20240709T190000
DTSTAMP:20260420T034726
CREATED:20240327T172127Z
LAST-MODIFIED:20240626T125807Z
UID:43074-1720548000-1720551600@www.myepl.org
SUMMARY:Game Night
DESCRIPTION:Bring friends and family for new and classic board games. We’ll add a twist\, too.
URL:https://www.myepl.org/event/game-night-2/
LOCATION:Osolo Branch\, 3429 E. Bristol St.\, Elkhart\, IN\, 46516\, United States
CATEGORIES:Just for Fun
ATTACH;FMTTYPE=image/png:https://www.myepl.org/wp-content/uploads/2024/03/Game-Night-Mixed-Bag-02.png
END:VEVENT
BEGIN:VEVENT
DTSTART;TZID=America/Indiana/Indianapolis:20240709T160000
DTEND;TZID=America/Indiana/Indianapolis:20240709T170000
DTSTAMP:20260420T034726
CREATED:20240401T165541Z
LAST-MODIFIED:20240430T154006Z
UID:43230-1720540800-1720544400@www.myepl.org
SUMMARY:Tie-Dye Shirts
DESCRIPTION:Create a tie-dye shirt using one of our available shirts or bring your own. Our sizes vary and are available while supplies last. This is an outdoor event — watch our Facebook page if the weather looks iffy.
URL:https://www.myepl.org/event/tie-dye-shirts-2/
LOCATION:Dunlap Branch\, 58485 C.R. 13 East\, Elkhart\, IN\, 46516\, United States
CATEGORIES:Just for Fun
ATTACH;FMTTYPE=image/jpeg:https://www.myepl.org/wp-content/uploads/2024/03/Tie-Dye-scaled.jpg
END:VEVENT
BEGIN:VEVENT
DTSTART;TZID=America/Indiana/Indianapolis:20240701T170000
DTEND;TZID=America/Indiana/Indianapolis:20240701T180000
DTSTAMP:20260420T034726
CREATED:20240604T144424Z
LAST-MODIFIED:20240604T144620Z
UID:44110-1719853200-1719856800@www.myepl.org
SUMMARY:Zoo to You
DESCRIPTION:Potawatomi Zoo teaches us about some of their animals. Get up close with some of them. \nThere is another show at 3:30 p.m. to accommodate more families!
URL:https://www.myepl.org/event/zoo-to-you-2/
LOCATION:Downtown Library\, 300 S. Second St.\, Elkhart\, IN\, 46516\, United States
CATEGORIES:Educational,Just for Fun
ATTACH;FMTTYPE=image/jpeg:https://www.myepl.org/wp-content/uploads/2024/04/Zoo-01.jpg
END:VEVENT
BEGIN:VEVENT
DTSTART;TZID=America/Indiana/Indianapolis:20240701T153000
DTEND;TZID=America/Indiana/Indianapolis:20240701T163000
DTSTAMP:20260420T034726
CREATED:20240401T164542Z
LAST-MODIFIED:20240604T144524Z
UID:43227-1719847800-1719851400@www.myepl.org
SUMMARY:Zoo to You
DESCRIPTION:Potawatomi Zoo teaches us about some of their animals. Get up close with some of them. \nThere will be a second show at 5 p.m. to accommodate more families!
URL:https://www.myepl.org/event/zoo-to-you/
LOCATION:Downtown Library\, 300 S. Second St.\, Elkhart\, IN\, 46516\, United States
CATEGORIES:Educational,Just for Fun
ATTACH;FMTTYPE=image/jpeg:https://www.myepl.org/wp-content/uploads/2024/04/Zoo-01.jpg
END:VEVENT
BEGIN:VEVENT
DTSTART;TZID=America/Indiana/Indianapolis:20240628T190000
DTEND;TZID=America/Indiana/Indianapolis:20240628T213000
DTSTAMP:20260420T034726
CREATED:20240419T182918Z
LAST-MODIFIED:20240425T162226Z
UID:43461-1719601200-1719610200@www.myepl.org
SUMMARY:Curbside Concerts: BEE! The Band
DESCRIPTION:Our spring series wraps up with a band from Goshen that’s been getting a lot of buzz. BEE! brings to the roof an original sound that’s folk\, indie pop and psychedelic rock.\n\nThat Guys Gourmet Ribs and beverages for sale. Bring a camp chair or blanket.\n\nOur concert series is just one of the Well Crafted events happening here in Elkhart County. See the entire list of entertainment and things to do at Visit Elkhart County.
URL:https://www.myepl.org/event/curbside-concerts-bee-the-band/
LOCATION:Downtown Library\, 300 S. Second St.\, Elkhart\, IN\, 46516\, United States
CATEGORIES:Featured,Just for Fun,Music
ATTACH;FMTTYPE=image/jpeg:https://www.myepl.org/wp-content/uploads/2024/04/beetheband.jpeg
END:VEVENT
BEGIN:VEVENT
DTSTART;TZID=America/Indiana/Indianapolis:20240628T163000
DTEND;TZID=America/Indiana/Indianapolis:20240628T170000
DTSTAMP:20260420T034726
CREATED:20240619T165734Z
LAST-MODIFIED:20240619T165853Z
UID:44359-1719592200-1719594000@www.myepl.org
SUMMARY:Summer Theater Camp Performance
DESCRIPTION:Friends\, family and the public are invited to watch the performance of our Summer Theater Camp in the atrium.
URL:https://www.myepl.org/event/summer-theater-camp-performance/
LOCATION:Downtown Library\, 300 S. Second St.\, Elkhart\, IN\, 46516\, United States
CATEGORIES:Just for Fun
ATTACH;FMTTYPE=image/jpeg:https://www.myepl.org/wp-content/uploads/2024/06/Page-to-Stage-19-scaled.jpg
END:VEVENT
BEGIN:VEVENT
DTSTART;TZID=America/Indiana/Indianapolis:20240627T150000
DTEND;TZID=America/Indiana/Indianapolis:20240627T170000
DTSTAMP:20260420T034726
CREATED:20240327T180218Z
LAST-MODIFIED:20240620T154823Z
UID:43091-1719500400-1719507600@www.myepl.org
SUMMARY:Summer Theater Camp
DESCRIPTION:Get on stage or take a crew role and make a performance come together in less than a week. Rehearsals are Monday to Thursday\, June 24 to 27. The performance will be on Friday\, June 28 at 4:30 p.m. This program is great for ages 9 and up. \nRegistration for this program opens May 1.
URL:https://www.myepl.org/event/summer-theater-camp/2024-06-27/
LOCATION:Downtown Library\, 300 S. Second St.\, Elkhart\, IN\, 46516\, United States
CATEGORIES:Just for Fun
END:VEVENT
BEGIN:VEVENT
DTSTART;TZID=America/Indiana/Indianapolis:20240627T130000
DTEND;TZID=America/Indiana/Indianapolis:20240627T150000
DTSTAMP:20260420T034726
CREATED:20240401T172312Z
LAST-MODIFIED:20240604T173537Z
UID:43249-1719493200-1719500400@www.myepl.org
SUMMARY:Junior Theater Camp
DESCRIPTION:(This event is full. Keep watching for more great activities.) \nJoin our two-week camp. Beginners and those looking to return to the limelight are welcome. Rehearsals are June 17-20 and June 24-26 from 1 to 3 p.m. The performance will be on Thursday\, June 27 for our family and friends. \nRegistration for this event opens May 1.
URL:https://www.myepl.org/event/junior-theater-camp-4/2024-06-27/
LOCATION:Dunlap Branch\, 58485 C.R. 13 East\, Elkhart\, IN\, 46516\, United States
CATEGORIES:Just for Fun
ATTACH;FMTTYPE=image/jpeg:https://www.myepl.org/wp-content/uploads/2023/03/received_6075275275820566.jpeg
END:VEVENT
BEGIN:VEVENT
DTSTART;TZID=America/Indiana/Indianapolis:20240627T100000
DTEND;TZID=America/Indiana/Indianapolis:20240627T120000
DTSTAMP:20260420T034726
CREATED:20240322T181254Z
LAST-MODIFIED:20240611T211314Z
UID:42899-1719482400-1719489600@www.myepl.org
SUMMARY:Indoor Olympics
DESCRIPTION:Celebrate the Summer Olympics with our unique indoor version. No training required\, just fun and friendly competition.
URL:https://www.myepl.org/event/indoor-olympics/
LOCATION:Osolo Branch\, 3429 E. Bristol St.\, Elkhart\, IN\, 46516\, United States
CATEGORIES:Just for Fun
ATTACH;FMTTYPE=image/png:https://www.myepl.org/wp-content/uploads/2024/03/indoorolympics-03.png
END:VEVENT
BEGIN:VEVENT
DTSTART;TZID=America/Indiana/Indianapolis:20240626T150000
DTEND;TZID=America/Indiana/Indianapolis:20240626T170000
DTSTAMP:20260420T034726
CREATED:20240327T180218Z
LAST-MODIFIED:20240620T154823Z
UID:43090-1719414000-1719421200@www.myepl.org
SUMMARY:Summer Theater Camp
DESCRIPTION:Get on stage or take a crew role and make a performance come together in less than a week. Rehearsals are Monday to Thursday\, June 24 to 27. The performance will be on Friday\, June 28 at 4:30 p.m. This program is great for ages 9 and up. \nRegistration for this program opens May 1.
URL:https://www.myepl.org/event/summer-theater-camp/2024-06-26/
LOCATION:Downtown Library\, 300 S. Second St.\, Elkhart\, IN\, 46516\, United States
CATEGORIES:Just for Fun
END:VEVENT
BEGIN:VEVENT
DTSTART;TZID=America/Indiana/Indianapolis:20240626T130000
DTEND;TZID=America/Indiana/Indianapolis:20240626T150000
DTSTAMP:20260420T034726
CREATED:20240401T172312Z
LAST-MODIFIED:20240604T173537Z
UID:43248-1719406800-1719414000@www.myepl.org
SUMMARY:Junior Theater Camp
DESCRIPTION:(This event is full. Keep watching for more great activities.) \nJoin our two-week camp. Beginners and those looking to return to the limelight are welcome. Rehearsals are June 17-20 and June 24-26 from 1 to 3 p.m. The performance will be on Thursday\, June 27 for our family and friends. \nRegistration for this event opens May 1.
URL:https://www.myepl.org/event/junior-theater-camp-4/2024-06-26/
LOCATION:Dunlap Branch\, 58485 C.R. 13 East\, Elkhart\, IN\, 46516\, United States
CATEGORIES:Just for Fun
ATTACH;FMTTYPE=image/jpeg:https://www.myepl.org/wp-content/uploads/2023/03/received_6075275275820566.jpeg
END:VEVENT
BEGIN:VEVENT
DTSTART;TZID=America/Indiana/Indianapolis:20240625T150000
DTEND;TZID=America/Indiana/Indianapolis:20240625T170000
DTSTAMP:20260420T034726
CREATED:20240327T180218Z
LAST-MODIFIED:20240620T154822Z
UID:43089-1719327600-1719334800@www.myepl.org
SUMMARY:Summer Theater Camp
DESCRIPTION:Get on stage or take a crew role and make a performance come together in less than a week. Rehearsals are Monday to Thursday\, June 24 to 27. The performance will be on Friday\, June 28 at 4:30 p.m. This program is great for ages 9 and up. \nRegistration for this program opens May 1.
URL:https://www.myepl.org/event/summer-theater-camp/2024-06-25/
LOCATION:Downtown Library\, 300 S. Second St.\, Elkhart\, IN\, 46516\, United States
CATEGORIES:Just for Fun
END:VEVENT
BEGIN:VEVENT
DTSTART;TZID=America/Indiana/Indianapolis:20240625T130000
DTEND;TZID=America/Indiana/Indianapolis:20240625T150000
DTSTAMP:20260420T034726
CREATED:20240401T172312Z
LAST-MODIFIED:20240604T173537Z
UID:43247-1719320400-1719327600@www.myepl.org
SUMMARY:Junior Theater Camp
DESCRIPTION:(This event is full. Keep watching for more great activities.) \nJoin our two-week camp. Beginners and those looking to return to the limelight are welcome. Rehearsals are June 17-20 and June 24-26 from 1 to 3 p.m. The performance will be on Thursday\, June 27 for our family and friends. \nRegistration for this event opens May 1.
URL:https://www.myepl.org/event/junior-theater-camp-4/2024-06-25/
LOCATION:Dunlap Branch\, 58485 C.R. 13 East\, Elkhart\, IN\, 46516\, United States
CATEGORIES:Just for Fun
ATTACH;FMTTYPE=image/jpeg:https://www.myepl.org/wp-content/uploads/2023/03/received_6075275275820566.jpeg
END:VEVENT
BEGIN:VEVENT
DTSTART;TZID=America/Indiana/Indianapolis:20240624T160000
DTEND;TZID=America/Indiana/Indianapolis:20240624T170000
DTSTAMP:20260420T034726
CREATED:20240327T160318Z
LAST-MODIFIED:20240617T135411Z
UID:43059-1719244800-1719248400@www.myepl.org
SUMMARY:Fun in the Sun Mondays
DESCRIPTION:Enjoy Kona Ice\, prizes\, games\, activities and more. The Book Bus will be out to make sure everyone leaves with a free book. This is a rain or shine event. \nJune 3 – Dunlap\nJune 10 – Pierre Moran\nJune 17 – Cleveland – Moving inside due to excessive heat!\nJune 24 – Osolo
URL:https://www.myepl.org/event/fun-in-the-sun-mondays/2024-06-24/
LOCATION:IN
CATEGORIES:Just for Fun,Summer Reading
ATTACH;FMTTYPE=image/jpeg:https://www.myepl.org/wp-content/uploads/2024/03/Fun-in-the-Sun-PMB-12-scaled.jpg
END:VEVENT
BEGIN:VEVENT
DTSTART;TZID=America/Indiana/Indianapolis:20240624T150000
DTEND;TZID=America/Indiana/Indianapolis:20240624T170000
DTSTAMP:20260420T034726
CREATED:20240327T180218Z
LAST-MODIFIED:20240620T154821Z
UID:43087-1719241200-1719248400@www.myepl.org
SUMMARY:Summer Theater Camp
DESCRIPTION:Get on stage or take a crew role and make a performance come together in less than a week. Rehearsals are Monday to Thursday\, June 24 to 27. The performance will be on Friday\, June 28 at 4:30 p.m. This program is great for ages 9 and up. \nRegistration for this program opens May 1.
URL:https://www.myepl.org/event/summer-theater-camp/2024-06-24/
LOCATION:Downtown Library\, 300 S. Second St.\, Elkhart\, IN\, 46516\, United States
CATEGORIES:Just for Fun
END:VEVENT
BEGIN:VEVENT
DTSTART;TZID=America/Indiana/Indianapolis:20240624T130000
DTEND;TZID=America/Indiana/Indianapolis:20240624T150000
DTSTAMP:20260420T034726
CREATED:20240401T172312Z
LAST-MODIFIED:20240604T173536Z
UID:43246-1719234000-1719241200@www.myepl.org
SUMMARY:Junior Theater Camp
DESCRIPTION:(This event is full. Keep watching for more great activities.) \nJoin our two-week camp. Beginners and those looking to return to the limelight are welcome. Rehearsals are June 17-20 and June 24-26 from 1 to 3 p.m. The performance will be on Thursday\, June 27 for our family and friends. \nRegistration for this event opens May 1.
URL:https://www.myepl.org/event/junior-theater-camp-4/2024-06-24/
LOCATION:Dunlap Branch\, 58485 C.R. 13 East\, Elkhart\, IN\, 46516\, United States
CATEGORIES:Just for Fun
ATTACH;FMTTYPE=image/jpeg:https://www.myepl.org/wp-content/uploads/2023/03/received_6075275275820566.jpeg
END:VEVENT
BEGIN:VEVENT
DTSTART;TZID=America/Indiana/Indianapolis:20240622T214500
DTEND;TZID=America/Indiana/Indianapolis:20240622T234500
DTSTAMP:20260420T034726
CREATED:20240419T182800Z
LAST-MODIFIED:20240611T151034Z
UID:43458-1719092700-1719099900@www.myepl.org
SUMMARY:Curbside Concerts: Lalo Cura
DESCRIPTION:Lalo Cura is here to cap your Elkhart Jazz Festival Saturday night. Special start time for this after party – 9:45 p.m.\n\nThat Guys Gourmet Ribs and beverages for sale all night. Come early and catch rebel noire and the accomplices at 7:30 p.m. Both shows are free!\n\nOur concert series is just one of the Well Crafted events happening here in Elkhart County. See the entire list of entertainment and things to do at Visit Elkhart County.
URL:https://www.myepl.org/event/curbside-concerts-lalo-cura/
LOCATION:Downtown Library\, 300 S. Second St.\, Elkhart\, IN\, 46516\, United States
CATEGORIES:Featured,Just for Fun,Music
ATTACH;FMTTYPE=image/jpeg:https://www.myepl.org/wp-content/uploads/2024/04/lalo1-scaled.jpg
END:VEVENT
BEGIN:VEVENT
DTSTART;TZID=America/Indiana/Indianapolis:20240622T193000
DTEND;TZID=America/Indiana/Indianapolis:20240622T204500
DTSTAMP:20260420T034726
CREATED:20240419T182628Z
LAST-MODIFIED:20240425T165631Z
UID:43455-1719084600-1719089100@www.myepl.org
SUMMARY:Curbside Concerts: rebel noire and the accomplices (jazz fest special time)
DESCRIPTION:For the first time\, rebel noire is coming to the rooftop stage. This special event on Jazz Fest Saturday night starts at 7:30 p.m.\n\nThat Guys Gourmet Ribs and beverages for sale. Stick around for Lalo Cura and the after party\, starting about 9:45. Both shows free!\n\nOur concert series is just one of the Well Crafted events happening here in Elkhart County. See the entire list of entertainment and things to do at Visit Elkhart County.
URL:https://www.myepl.org/event/curbside-concerts-rebel-noire-and-the-accomplices-jazz-fest-special-time/
LOCATION:Downtown Library\, 300 S. Second St.\, Elkhart\, IN\, 46516\, United States
CATEGORIES:Featured,Just for Fun,Music
ATTACH;FMTTYPE=image/jpeg:https://www.myepl.org/wp-content/uploads/2024/04/rebel.jpeg
END:VEVENT
BEGIN:VEVENT
DTSTART;TZID=America/Indiana/Indianapolis:20240622T160000
DTEND;TZID=America/Indiana/Indianapolis:20240622T190000
DTSTAMP:20260420T034726
CREATED:20240509T135238Z
LAST-MODIFIED:20240919T125444Z
UID:43790-1719072000-1719082800@www.myepl.org
SUMMARY:Mercado
DESCRIPTION:Explore nuestro mercado\, donde los vendedores latinos locales muestran su artesanía\, comida y cultura. Desde tesoros hechos a mano hasta deliciosa comida \, sumérgete en el vibrante tapiz de nuestra comunidad.
URL:https://www.myepl.org/event/mercado/2024-06-22/
LOCATION:Downtown Library\, 300 S. Second St.\, Elkhart\, IN\, 46516\, United States
CATEGORIES:Just for Fun
ATTACH;FMTTYPE=image/jpeg:https://www.myepl.org/wp-content/uploads/2024/05/Mercado-web.jpg
END:VEVENT
BEGIN:VEVENT
DTSTART;TZID=America/Indiana/Indianapolis:20240621T214500
DTEND;TZID=America/Indiana/Indianapolis:20240621T234500
DTSTAMP:20260420T034726
CREATED:20240419T182449Z
LAST-MODIFIED:20240425T165634Z
UID:43452-1719006300-1719013500@www.myepl.org
SUMMARY:Curbside Concerts: Paul Erdman (jazz fest afterparty)
DESCRIPTION:The one and only Paul E – the “E” stands for “Elkhart Jazz Festival After Party.”\n\nA third trip to the rooftop stage will be special for Erdman. It’s a) his first time playing during the festival and b) way past his usual bedtime.\n\nThat Guys Gourmet Ribs and beverages for sale all night.\n\nCome earlier in the evening to catch JAGALCHI play a set about 7:30pm. Both shows are free!\n\nOur concert series is just one of the Well Crafted events happening here in Elkhart County. See the entire list of entertainment and things to do at Visit Elkhart County.
URL:https://www.myepl.org/event/curbside-concerts-paul-erdman-jazz-fest-afterparty/
LOCATION:Downtown Library\, 300 S. Second St.\, Elkhart\, IN\, 46516\, United States
CATEGORIES:Featured,Just for Fun,Music
ATTACH;FMTTYPE=image/jpeg:https://www.myepl.org/wp-content/uploads/2024/04/erdmanroof-scaled.jpg
END:VEVENT
BEGIN:VEVENT
DTSTART;TZID=America/Indiana/Indianapolis:20240621T193000
DTEND;TZID=America/Indiana/Indianapolis:20240621T204500
DTSTAMP:20260420T034726
CREATED:20240419T182308Z
LAST-MODIFIED:20240425T165638Z
UID:43447-1718998200-1719002700@www.myepl.org
SUMMARY:Curbside Concerts: JAGALCHI (jazz fest special time)
DESCRIPTION:JAGALCHI has arrived to deliver the riffs you’ve been waiting for. This will be a special start time during Elkhart Jazz Fest.\n\nThat Guys Gourmet Ribs and beverages for sale all night. Stick around for the after party with Paul Erdman\, who’ll play 9:45-11:45. Both shows are free!\n\nOur concert series is just one of the Well Crafted events happening here in Elkhart County. See the entire list of entertainment and things to do at Visit Elkhart County.
URL:https://www.myepl.org/event/curbside-concerts-jagalchi-jazz-fest-special-time/
LOCATION:Downtown Library\, 300 S. Second St.\, Elkhart\, IN\, 46516\, United States
CATEGORIES:Featured,Just for Fun,Music
ATTACH;FMTTYPE=image/jpeg:https://www.myepl.org/wp-content/uploads/2024/04/jagalchi2.jpeg
END:VEVENT
END:VCALENDAR