BEGIN:VCALENDAR
VERSION:2.0
PRODID:-//Elkhart Public Library - ECPv6.15.20//NONSGML v1.0//EN
CALSCALE:GREGORIAN
METHOD:PUBLISH
X-WR-CALNAME:Elkhart Public Library
X-ORIGINAL-URL:https://www.myepl.org
X-WR-CALDESC:Events for Elkhart Public Library
REFRESH-INTERVAL;VALUE=DURATION:PT1H
X-Robots-Tag:noindex
X-PUBLISHED-TTL:PT1H
BEGIN:VTIMEZONE
TZID:America/Indiana/Indianapolis
BEGIN:DAYLIGHT
TZOFFSETFROM:-0500
TZOFFSETTO:-0400
TZNAME:EDT
DTSTART:20230312T070000
END:DAYLIGHT
BEGIN:STANDARD
TZOFFSETFROM:-0400
TZOFFSETTO:-0500
TZNAME:EST
DTSTART:20231105T060000
END:STANDARD
BEGIN:DAYLIGHT
TZOFFSETFROM:-0500
TZOFFSETTO:-0400
TZNAME:EDT
DTSTART:20240310T070000
END:DAYLIGHT
BEGIN:STANDARD
TZOFFSETFROM:-0400
TZOFFSETTO:-0500
TZNAME:EST
DTSTART:20241103T060000
END:STANDARD
BEGIN:DAYLIGHT
TZOFFSETFROM:-0500
TZOFFSETTO:-0400
TZNAME:EDT
DTSTART:20250309T070000
END:DAYLIGHT
BEGIN:STANDARD
TZOFFSETFROM:-0400
TZOFFSETTO:-0500
TZNAME:EST
DTSTART:20251102T060000
END:STANDARD
END:VTIMEZONE
BEGIN:VEVENT
DTSTART;TZID=America/Indiana/Indianapolis:20240624T150000
DTEND;TZID=America/Indiana/Indianapolis:20240624T170000
DTSTAMP:20260420T160326
CREATED:20240327T180218Z
LAST-MODIFIED:20240620T154821Z
UID:43087-1719241200-1719248400@www.myepl.org
SUMMARY:Summer Theater Camp
DESCRIPTION:Get on stage or take a crew role and make a performance come together in less than a week. Rehearsals are Monday to Thursday\, June 24 to 27. The performance will be on Friday\, June 28 at 4:30 p.m. This program is great for ages 9 and up. \nRegistration for this program opens May 1.
URL:https://www.myepl.org/event/summer-theater-camp/2024-06-24/
LOCATION:Downtown Library\, 300 S. Second St.\, Elkhart\, IN\, 46516\, United States
CATEGORIES:Just for Fun
END:VEVENT
BEGIN:VEVENT
DTSTART;TZID=America/Indiana/Indianapolis:20240624T130000
DTEND;TZID=America/Indiana/Indianapolis:20240624T150000
DTSTAMP:20260420T160326
CREATED:20240401T172312Z
LAST-MODIFIED:20240604T173536Z
UID:43246-1719234000-1719241200@www.myepl.org
SUMMARY:Junior Theater Camp
DESCRIPTION:(This event is full. Keep watching for more great activities.) \nJoin our two-week camp. Beginners and those looking to return to the limelight are welcome. Rehearsals are June 17-20 and June 24-26 from 1 to 3 p.m. The performance will be on Thursday\, June 27 for our family and friends. \nRegistration for this event opens May 1.
URL:https://www.myepl.org/event/junior-theater-camp-4/2024-06-24/
LOCATION:Dunlap Branch\, 58485 C.R. 13 East\, Elkhart\, IN\, 46516\, United States
CATEGORIES:Just for Fun
ATTACH;FMTTYPE=image/jpeg:https://www.myepl.org/wp-content/uploads/2023/03/received_6075275275820566.jpeg
END:VEVENT
BEGIN:VEVENT
DTSTART;TZID=America/Indiana/Indianapolis:20240622T214500
DTEND;TZID=America/Indiana/Indianapolis:20240622T234500
DTSTAMP:20260420T160326
CREATED:20240419T182800Z
LAST-MODIFIED:20240611T151034Z
UID:43458-1719092700-1719099900@www.myepl.org
SUMMARY:Curbside Concerts: Lalo Cura
DESCRIPTION:Lalo Cura is here to cap your Elkhart Jazz Festival Saturday night. Special start time for this after party – 9:45 p.m.\n\nThat Guys Gourmet Ribs and beverages for sale all night. Come early and catch rebel noire and the accomplices at 7:30 p.m. Both shows are free!\n\nOur concert series is just one of the Well Crafted events happening here in Elkhart County. See the entire list of entertainment and things to do at Visit Elkhart County.
URL:https://www.myepl.org/event/curbside-concerts-lalo-cura/
LOCATION:Downtown Library\, 300 S. Second St.\, Elkhart\, IN\, 46516\, United States
CATEGORIES:Featured,Just for Fun,Music
ATTACH;FMTTYPE=image/jpeg:https://www.myepl.org/wp-content/uploads/2024/04/lalo1-scaled.jpg
END:VEVENT
BEGIN:VEVENT
DTSTART;TZID=America/Indiana/Indianapolis:20240622T193000
DTEND;TZID=America/Indiana/Indianapolis:20240622T204500
DTSTAMP:20260420T160326
CREATED:20240419T182628Z
LAST-MODIFIED:20240425T165631Z
UID:43455-1719084600-1719089100@www.myepl.org
SUMMARY:Curbside Concerts: rebel noire and the accomplices (jazz fest special time)
DESCRIPTION:For the first time\, rebel noire is coming to the rooftop stage. This special event on Jazz Fest Saturday night starts at 7:30 p.m.\n\nThat Guys Gourmet Ribs and beverages for sale. Stick around for Lalo Cura and the after party\, starting about 9:45. Both shows free!\n\nOur concert series is just one of the Well Crafted events happening here in Elkhart County. See the entire list of entertainment and things to do at Visit Elkhart County.
URL:https://www.myepl.org/event/curbside-concerts-rebel-noire-and-the-accomplices-jazz-fest-special-time/
LOCATION:Downtown Library\, 300 S. Second St.\, Elkhart\, IN\, 46516\, United States
CATEGORIES:Featured,Just for Fun,Music
ATTACH;FMTTYPE=image/jpeg:https://www.myepl.org/wp-content/uploads/2024/04/rebel.jpeg
END:VEVENT
BEGIN:VEVENT
DTSTART;TZID=America/Indiana/Indianapolis:20240622T160000
DTEND;TZID=America/Indiana/Indianapolis:20240622T190000
DTSTAMP:20260420T160326
CREATED:20240509T135238Z
LAST-MODIFIED:20240919T125444Z
UID:43790-1719072000-1719082800@www.myepl.org
SUMMARY:Mercado
DESCRIPTION:Explore nuestro mercado\, donde los vendedores latinos locales muestran su artesanía\, comida y cultura. Desde tesoros hechos a mano hasta deliciosa comida \, sumérgete en el vibrante tapiz de nuestra comunidad.
URL:https://www.myepl.org/event/mercado/2024-06-22/
LOCATION:Downtown Library\, 300 S. Second St.\, Elkhart\, IN\, 46516\, United States
CATEGORIES:Just for Fun
ATTACH;FMTTYPE=image/jpeg:https://www.myepl.org/wp-content/uploads/2024/05/Mercado-web.jpg
END:VEVENT
BEGIN:VEVENT
DTSTART;TZID=America/Indiana/Indianapolis:20240621T214500
DTEND;TZID=America/Indiana/Indianapolis:20240621T234500
DTSTAMP:20260420T160326
CREATED:20240419T182449Z
LAST-MODIFIED:20240425T165634Z
UID:43452-1719006300-1719013500@www.myepl.org
SUMMARY:Curbside Concerts: Paul Erdman (jazz fest afterparty)
DESCRIPTION:The one and only Paul E – the “E” stands for “Elkhart Jazz Festival After Party.”\n\nA third trip to the rooftop stage will be special for Erdman. It’s a) his first time playing during the festival and b) way past his usual bedtime.\n\nThat Guys Gourmet Ribs and beverages for sale all night.\n\nCome earlier in the evening to catch JAGALCHI play a set about 7:30pm. Both shows are free!\n\nOur concert series is just one of the Well Crafted events happening here in Elkhart County. See the entire list of entertainment and things to do at Visit Elkhart County.
URL:https://www.myepl.org/event/curbside-concerts-paul-erdman-jazz-fest-afterparty/
LOCATION:Downtown Library\, 300 S. Second St.\, Elkhart\, IN\, 46516\, United States
CATEGORIES:Featured,Just for Fun,Music
ATTACH;FMTTYPE=image/jpeg:https://www.myepl.org/wp-content/uploads/2024/04/erdmanroof-scaled.jpg
END:VEVENT
BEGIN:VEVENT
DTSTART;TZID=America/Indiana/Indianapolis:20240621T193000
DTEND;TZID=America/Indiana/Indianapolis:20240621T204500
DTSTAMP:20260420T160326
CREATED:20240419T182308Z
LAST-MODIFIED:20240425T165638Z
UID:43447-1718998200-1719002700@www.myepl.org
SUMMARY:Curbside Concerts: JAGALCHI (jazz fest special time)
DESCRIPTION:JAGALCHI has arrived to deliver the riffs you’ve been waiting for. This will be a special start time during Elkhart Jazz Fest.\n\nThat Guys Gourmet Ribs and beverages for sale all night. Stick around for the after party with Paul Erdman\, who’ll play 9:45-11:45. Both shows are free!\n\nOur concert series is just one of the Well Crafted events happening here in Elkhart County. See the entire list of entertainment and things to do at Visit Elkhart County.
URL:https://www.myepl.org/event/curbside-concerts-jagalchi-jazz-fest-special-time/
LOCATION:Downtown Library\, 300 S. Second St.\, Elkhart\, IN\, 46516\, United States
CATEGORIES:Featured,Just for Fun,Music
ATTACH;FMTTYPE=image/jpeg:https://www.myepl.org/wp-content/uploads/2024/04/jagalchi2.jpeg
END:VEVENT
BEGIN:VEVENT
DTSTART;TZID=America/Indiana/Indianapolis:20240621T163000
DTEND;TZID=America/Indiana/Indianapolis:20240621T173000
DTSTAMP:20260420T160326
CREATED:20240322T165908Z
LAST-MODIFIED:20240606T193533Z
UID:42869-1718987400-1718991000@www.myepl.org
SUMMARY:Tween and Teen BINGO
DESCRIPTION:Play games\, win prizes and snack on your BINGO markers between rounds.
URL:https://www.myepl.org/event/tween-and-teen-bingo-3/
LOCATION:Cleveland Branch\, 53715 C.R. 1\, Elkhart\, IN\, 46514\, United States
CATEGORIES:Just for Fun
ATTACH;FMTTYPE=image/png:https://www.myepl.org/wp-content/uploads/2023/12/Tween-and-Teen-BINGO-Calendar.png
END:VEVENT
BEGIN:VEVENT
DTSTART;TZID=America/Indiana/Indianapolis:20240620T160000
DTEND;TZID=America/Indiana/Indianapolis:20240620T170000
DTSTAMP:20260420T160326
CREATED:20240327T170942Z
LAST-MODIFIED:20240327T170942Z
UID:43066-1718899200-1718902800@www.myepl.org
SUMMARY:Tie-Dye Shirts
DESCRIPTION:Create a tie-dye shirt with one of our available shirts. Sizes vary and are available while supplies last. This is an outdoor event and is canceled if it rains.
URL:https://www.myepl.org/event/tie-dye-shirts/
LOCATION:Pierre Moran Branch\, 2400 Benham Ave\, Elkhart\, IN\, 46517\, United States
CATEGORIES:Just for Fun
ATTACH;FMTTYPE=image/jpeg:https://www.myepl.org/wp-content/uploads/2024/03/Tie-Dye-scaled.jpg
END:VEVENT
BEGIN:VEVENT
DTSTART;TZID=America/Indiana/Indianapolis:20240620T130000
DTEND;TZID=America/Indiana/Indianapolis:20240620T150000
DTSTAMP:20260420T160326
CREATED:20240401T172312Z
LAST-MODIFIED:20240604T173536Z
UID:43245-1718888400-1718895600@www.myepl.org
SUMMARY:Junior Theater Camp
DESCRIPTION:(This event is full. Keep watching for more great activities.) \nJoin our two-week camp. Beginners and those looking to return to the limelight are welcome. Rehearsals are June 17-20 and June 24-26 from 1 to 3 p.m. The performance will be on Thursday\, June 27 for our family and friends. \nRegistration for this event opens May 1.
URL:https://www.myepl.org/event/junior-theater-camp-4/2024-06-20/
LOCATION:Dunlap Branch\, 58485 C.R. 13 East\, Elkhart\, IN\, 46516\, United States
CATEGORIES:Just for Fun
ATTACH;FMTTYPE=image/jpeg:https://www.myepl.org/wp-content/uploads/2023/03/received_6075275275820566.jpeg
END:VEVENT
BEGIN:VEVENT
DTSTART;TZID=America/Indiana/Indianapolis:20240619T130000
DTEND;TZID=America/Indiana/Indianapolis:20240619T150000
DTSTAMP:20260420T160326
CREATED:20240401T172312Z
LAST-MODIFIED:20240604T173536Z
UID:43244-1718802000-1718809200@www.myepl.org
SUMMARY:Junior Theater Camp
DESCRIPTION:(This event is full. Keep watching for more great activities.) \nJoin our two-week camp. Beginners and those looking to return to the limelight are welcome. Rehearsals are June 17-20 and June 24-26 from 1 to 3 p.m. The performance will be on Thursday\, June 27 for our family and friends. \nRegistration for this event opens May 1.
URL:https://www.myepl.org/event/junior-theater-camp-4/2024-06-19/
LOCATION:Dunlap Branch\, 58485 C.R. 13 East\, Elkhart\, IN\, 46516\, United States
CATEGORIES:Just for Fun
ATTACH;FMTTYPE=image/jpeg:https://www.myepl.org/wp-content/uploads/2023/03/received_6075275275820566.jpeg
END:VEVENT
BEGIN:VEVENT
DTSTART;TZID=America/Indiana/Indianapolis:20240618T130000
DTEND;TZID=America/Indiana/Indianapolis:20240618T150000
DTSTAMP:20260420T160326
CREATED:20240401T172312Z
LAST-MODIFIED:20240604T173535Z
UID:43243-1718715600-1718722800@www.myepl.org
SUMMARY:Junior Theater Camp
DESCRIPTION:(This event is full. Keep watching for more great activities.) \nJoin our two-week camp. Beginners and those looking to return to the limelight are welcome. Rehearsals are June 17-20 and June 24-26 from 1 to 3 p.m. The performance will be on Thursday\, June 27 for our family and friends. \nRegistration for this event opens May 1.
URL:https://www.myepl.org/event/junior-theater-camp-4/2024-06-18/
LOCATION:Dunlap Branch\, 58485 C.R. 13 East\, Elkhart\, IN\, 46516\, United States
CATEGORIES:Just for Fun
ATTACH;FMTTYPE=image/jpeg:https://www.myepl.org/wp-content/uploads/2023/03/received_6075275275820566.jpeg
END:VEVENT
BEGIN:VEVENT
DTSTART;TZID=America/Indiana/Indianapolis:20240617T163000
DTEND;TZID=America/Indiana/Indianapolis:20240617T173000
DTSTAMP:20260420T160326
CREATED:20240329T140118Z
LAST-MODIFIED:20240610T182419Z
UID:43168-1718641800-1718645400@www.myepl.org
SUMMARY:LEGO Bots
DESCRIPTION:(This event is full. Keep watching for more great activities.) \nCombine LEGO building and coding to make LEGOs move. Great for ages 6 to 17.
URL:https://www.myepl.org/event/lego-bots/
LOCATION:Downtown Library\, 300 S. Second St.\, Elkhart\, IN\, 46516\, United States
CATEGORIES:Just for Fun
ATTACH;FMTTYPE=image/jpeg:https://www.myepl.org/wp-content/uploads/2023/09/LEGO-Sparks.jpg
END:VEVENT
BEGIN:VEVENT
DTSTART;TZID=America/Indiana/Indianapolis:20240617T160000
DTEND;TZID=America/Indiana/Indianapolis:20240617T170000
DTSTAMP:20260420T160326
CREATED:20240327T160318Z
LAST-MODIFIED:20240617T135411Z
UID:43058-1718640000-1718643600@www.myepl.org
SUMMARY:Fun in the Sun Mondays
DESCRIPTION:Enjoy Kona Ice\, prizes\, games\, activities and more. The Book Bus will be out to make sure everyone leaves with a free book. This is a rain or shine event. \nJune 3 – Dunlap\nJune 10 – Pierre Moran\nJune 17 – Cleveland – Moving inside due to excessive heat!\nJune 24 – Osolo
URL:https://www.myepl.org/event/fun-in-the-sun-mondays/2024-06-17/
LOCATION:IN
CATEGORIES:Just for Fun,Summer Reading
ATTACH;FMTTYPE=image/jpeg:https://www.myepl.org/wp-content/uploads/2024/03/Fun-in-the-Sun-PMB-12-scaled.jpg
END:VEVENT
BEGIN:VEVENT
DTSTART;TZID=America/Indiana/Indianapolis:20240617T130000
DTEND;TZID=America/Indiana/Indianapolis:20240617T150000
DTSTAMP:20260420T160326
CREATED:20240401T172312Z
LAST-MODIFIED:20240604T173535Z
UID:43241-1718629200-1718636400@www.myepl.org
SUMMARY:Junior Theater Camp
DESCRIPTION:(This event is full. Keep watching for more great activities.) \nJoin our two-week camp. Beginners and those looking to return to the limelight are welcome. Rehearsals are June 17-20 and June 24-26 from 1 to 3 p.m. The performance will be on Thursday\, June 27 for our family and friends. \nRegistration for this event opens May 1.
URL:https://www.myepl.org/event/junior-theater-camp-4/2024-06-17/
LOCATION:Dunlap Branch\, 58485 C.R. 13 East\, Elkhart\, IN\, 46516\, United States
CATEGORIES:Just for Fun
ATTACH;FMTTYPE=image/jpeg:https://www.myepl.org/wp-content/uploads/2023/03/received_6075275275820566.jpeg
END:VEVENT
BEGIN:VEVENT
DTSTART;TZID=America/Indiana/Indianapolis:20240614T190000
DTEND;TZID=America/Indiana/Indianapolis:20240614T213000
DTSTAMP:20260420T160326
CREATED:20240419T182108Z
LAST-MODIFIED:20240425T165641Z
UID:43443-1718391600-1718400600@www.myepl.org
SUMMARY:Curbside Concerts: High Gravity
DESCRIPTION:High Gravity high up on the roof – for the fifth year in a row.\n\nThat Guys Gourmet Ribs and beverages for sale. Bring a blanket or camp chair. Break our attendance record. Demand they play Rage Against The Machine this time.\n\nOur concert series is just one of the Well Crafted events happening here in Elkhart County. See the entire list of entertainment and things to do at Visit Elkhart County.
URL:https://www.myepl.org/event/curbside-concerts-high-gravity-3/
LOCATION:Downtown Library\, 300 S. Second St.\, Elkhart\, IN\, 46516\, United States
CATEGORIES:Featured,Just for Fun,Music
ATTACH;FMTTYPE=image/jpeg:https://www.myepl.org/wp-content/uploads/2024/04/highgravity.jpeg
END:VEVENT
BEGIN:VEVENT
DTSTART;TZID=America/Indiana/Indianapolis:20240612T100000
DTEND;TZID=America/Indiana/Indianapolis:20240612T110000
DTSTAMP:20260420T160326
CREATED:20240327T175524Z
LAST-MODIFIED:20240327T175623Z
UID:43083-1718186400-1718190000@www.myepl.org
SUMMARY:Investigate Incredible Insects
DESCRIPTION:Encounter and get hands-on with insects from the Elkhart County Parks Department. \nRegistration opens May 1\, but is for attendance count only.
URL:https://www.myepl.org/event/investigate-incredible-insects/
LOCATION:Osolo Branch\, 3429 E. Bristol St.\, Elkhart\, IN\, 46516\, United States
CATEGORIES:Educational,Just for Fun
END:VEVENT
BEGIN:VEVENT
DTSTART;TZID=America/Indiana/Indianapolis:20240610T160000
DTEND;TZID=America/Indiana/Indianapolis:20240610T170000
DTSTAMP:20260420T160326
CREATED:20240327T160318Z
LAST-MODIFIED:20240617T135410Z
UID:43057-1718035200-1718038800@www.myepl.org
SUMMARY:Fun in the Sun Mondays
DESCRIPTION:Enjoy Kona Ice\, prizes\, games\, activities and more. The Book Bus will be out to make sure everyone leaves with a free book. This is a rain or shine event. \nJune 3 – Dunlap\nJune 10 – Pierre Moran\nJune 17 – Cleveland – Moving inside due to excessive heat!\nJune 24 – Osolo
URL:https://www.myepl.org/event/fun-in-the-sun-mondays/2024-06-10/
LOCATION:IN
CATEGORIES:Just for Fun,Summer Reading
ATTACH;FMTTYPE=image/jpeg:https://www.myepl.org/wp-content/uploads/2024/03/Fun-in-the-Sun-PMB-12-scaled.jpg
END:VEVENT
BEGIN:VEVENT
DTSTART;TZID=America/Indiana/Indianapolis:20240607T190000
DTEND;TZID=America/Indiana/Indianapolis:20240607T215500
DTSTAMP:20260420T160326
CREATED:20240419T181946Z
LAST-MODIFIED:20240425T165644Z
UID:43439-1717786800-1717797300@www.myepl.org
SUMMARY:Curbside Concerts: The Distractions wsg Half Built Homes and The Hatchbacks
DESCRIPTION:Henry Rollins once said\, “Complaining … is just a way to get out of the hard work of making music that will do some lasting damage.” Welcome to Punk Night at the ‘berry. \n\nThe Distractions take to the rooftop if there’s anything left of it after Half Built Homes and The Hatchbacks get done.\nHotdogeddy’s will be here\, and beverages will be available for purchase.\n\nOur concert series is just one of the Well Crafted events happening here in Elkhart County. See the entire list of entertainment and things to do at Visit Elkhart County.
URL:https://www.myepl.org/event/curbside-concerts-the-distractions-wsg-half-built-homes-and-the-hatchbacks/
LOCATION:Downtown Library\, 300 S. Second St.\, Elkhart\, IN\, 46516\, United States
CATEGORIES:Featured,Just for Fun,Music
ATTACH;FMTTYPE=image/jpeg:https://www.myepl.org/wp-content/uploads/2024/04/distractions.jpeg
END:VEVENT
BEGIN:VEVENT
DTSTART;TZID=America/Indiana/Indianapolis:20240605T163000
DTEND;TZID=America/Indiana/Indianapolis:20240605T173000
DTSTAMP:20260420T160326
CREATED:20230928T211436Z
LAST-MODIFIED:20240327T182212Z
UID:43108-1717605000-1717608600@www.myepl.org
SUMMARY:LEGO Challenge
DESCRIPTION:Build magnificent things. Use our prompt to build something and then talk about what you made. You could take home a prize.
URL:https://www.myepl.org/event/lego-challenge/2024-06-05/
LOCATION:Downtown Library\, 300 S. Second St.\, Elkhart\, IN\, 46516\, United States
CATEGORIES:Just for Fun
ATTACH;FMTTYPE=image/jpeg:https://www.myepl.org/wp-content/uploads/2023/09/LEGO-Downtown-01.jpg
END:VEVENT
BEGIN:VEVENT
DTSTART;TZID=America/Indiana/Indianapolis:20240603T160000
DTEND;TZID=America/Indiana/Indianapolis:20240603T170000
DTSTAMP:20260420T160326
CREATED:20240327T160318Z
LAST-MODIFIED:20240617T135410Z
UID:43054-1717430400-1717434000@www.myepl.org
SUMMARY:Fun in the Sun Mondays
DESCRIPTION:Enjoy Kona Ice\, prizes\, games\, activities and more. The Book Bus will be out to make sure everyone leaves with a free book. This is a rain or shine event. \nJune 3 – Dunlap\nJune 10 – Pierre Moran\nJune 17 – Cleveland – Moving inside due to excessive heat!\nJune 24 – Osolo
URL:https://www.myepl.org/event/fun-in-the-sun-mondays/2024-06-03/
LOCATION:IN
CATEGORIES:Just for Fun,Summer Reading
ATTACH;FMTTYPE=image/jpeg:https://www.myepl.org/wp-content/uploads/2024/03/Fun-in-the-Sun-PMB-12-scaled.jpg
END:VEVENT
BEGIN:VEVENT
DTSTART;TZID=America/Indiana/Indianapolis:20240603T150000
DTEND;TZID=America/Indiana/Indianapolis:20240603T160000
DTSTAMP:20260420T160326
CREATED:20240419T182121Z
LAST-MODIFIED:20240419T182121Z
UID:43440-1717426800-1717430400@www.myepl.org
SUMMARY:Roz Puppets presents "The Mystery of Cacklewood Forest"
DESCRIPTION:Meet a little mouse who goes on a grand adventure in this funny and entertaining puppet show that’s great for the whole family.
URL:https://www.myepl.org/event/roz-puppets-presents-the-mystery-of-cacklewood-forest/
LOCATION:Downtown Library\, 300 S. Second St.\, Elkhart\, IN\, 46516\, United States
CATEGORIES:Just for Fun
ATTACH;FMTTYPE=image/jpeg:https://www.myepl.org/wp-content/uploads/2024/04/Roz-Puppets-01-scaled.jpg
END:VEVENT
BEGIN:VEVENT
DTSTART;TZID=America/Indiana/Indianapolis:20240531T190000
DTEND;TZID=America/Indiana/Indianapolis:20240531T213000
DTSTAMP:20260420T160326
CREATED:20240419T181820Z
LAST-MODIFIED:20240425T165648Z
UID:43436-1717182000-1717191000@www.myepl.org
SUMMARY:Curbside Concerts: Darryl Buchanan and the Soul Motown Allstars
DESCRIPTION:The legendary Darryl Buchanan makes his way to the rooftop stage for the third time.\n\nThat Guys Gourmet Ribs and beverages available for purchase. Bring a blanket or camp chair\, dancing shoes optional. Show moves inside the library if bad weather.\n\nOur concert series is just one of the Well Crafted events happening here in Elkhart County. See the entire list of entertainment and things to do at Visit Elkhart County.
URL:https://www.myepl.org/event/curbside-concerts-darryl-buchanan-and-the-soul-motown-allstars-2/
LOCATION:Downtown Library\, 300 S. Second St.\, Elkhart\, IN\, 46516\, United States
CATEGORIES:Featured,Just for Fun,Music
ATTACH;FMTTYPE=image/jpeg:https://www.myepl.org/wp-content/uploads/2024/04/darryl2-scaled.jpeg
END:VEVENT
BEGIN:VEVENT
DTSTART;TZID=America/Indiana/Indianapolis:20240529T163000
DTEND;TZID=America/Indiana/Indianapolis:20240529T173000
DTSTAMP:20260420T160326
CREATED:20240401T163456Z
LAST-MODIFIED:20240528T145004Z
UID:43225-1717000200-1717003800@www.myepl.org
SUMMARY:Reptiles and Amphibians
DESCRIPTION:An Elkhart County Parks Department expert is bringing live critters for us to see up close. Learn about snakes\, frogs and turtles that live right here in our area.
URL:https://www.myepl.org/event/reptiles-and-amphibians/
LOCATION:Downtown Library\, 300 S. Second St.\, Elkhart\, IN\, 46516\, United States
CATEGORIES:Educational,Just for Fun
ATTACH;FMTTYPE=image/jpeg:https://www.myepl.org/wp-content/uploads/2023/03/NN-Turtles-7-5-23-1024x683-1.jpeg
END:VEVENT
BEGIN:VEVENT
DTSTART;TZID=America/Indiana/Indianapolis:20240524T190000
DTEND;TZID=America/Indiana/Indianapolis:20240524T213000
DTSTAMP:20260420T160326
CREATED:20240419T181633Z
LAST-MODIFIED:20240425T165651Z
UID:43433-1716577200-1716586200@www.myepl.org
SUMMARY:Curbside Concerts: Society's Child
DESCRIPTION:Michiana’s hardest-working rock band\, Society’s Child\, is coming back to the rooftop stage.\n\nThat Guys Gourmet Ribs and beverages available for purchase. Bring a blanket or camp chair – ’80s shades\, long hair\, and band shirts with skulls optional.\n\nOur concert series is just one of the Well Crafted events happening here in Elkhart County. See the entire list of entertainment and things to do at Visit Elkhart County.
URL:https://www.myepl.org/event/curbside-concerts-societys-child-2/
LOCATION:Downtown Library\, 300 S. Second St.\, Elkhart\, IN\, 46516\, United States
CATEGORIES:Featured,Just for Fun,Music
ATTACH;FMTTYPE=image/jpeg:https://www.myepl.org/wp-content/uploads/2024/04/societys.jpeg
END:VEVENT
BEGIN:VEVENT
DTSTART;TZID=America/Indiana/Indianapolis:20240520T163000
DTEND;TZID=America/Indiana/Indianapolis:20240520T173000
DTSTAMP:20260420T160326
CREATED:20240401T161126Z
LAST-MODIFIED:20240520T181920Z
UID:43218-1716222600-1716226200@www.myepl.org
SUMMARY:LEGO Bots
DESCRIPTION:Registration for this event has closed. \nLEGOs and coding combine to make your builds move.
URL:https://www.myepl.org/event/lego-bots-3/
LOCATION:Downtown Library\, 300 S. Second St.\, Elkhart\, IN\, 46516\, United States
CATEGORIES:Just for Fun
ATTACH;FMTTYPE=image/jpeg:https://www.myepl.org/wp-content/uploads/2023/09/LEGO-Sparks.jpg
END:VEVENT
BEGIN:VEVENT
DTSTART;TZID=America/Indiana/Indianapolis:20240518T110000
DTEND;TZID=America/Indiana/Indianapolis:20240518T123000
DTSTAMP:20260420T160326
CREATED:20240322T185411Z
LAST-MODIFIED:20240322T185411Z
UID:42901-1716030000-1716035400@www.myepl.org
SUMMARY:Tie-Dye T-Shirts
DESCRIPTION:Stop by Cleveland and make a tie-dye t-shirt for Summer Reading. Shirts and supplies available while they last. Rain out date is Thursday\, May 23 at 3 p.m.
URL:https://www.myepl.org/event/tie-dye-t-shirts-2/
LOCATION:Cleveland Branch\, 53715 C.R. 1\, Elkhart\, IN\, 46514\, United States
CATEGORIES:Crafts,Just for Fun
ATTACH;FMTTYPE=image/jpeg:https://www.myepl.org/wp-content/uploads/2024/03/Tie-Dye-scaled.jpg
END:VEVENT
BEGIN:VEVENT
DTSTART;TZID=America/Indiana/Indianapolis:20240517T190000
DTEND;TZID=America/Indiana/Indianapolis:20240517T213000
DTSTAMP:20260420T160326
CREATED:20240419T181518Z
LAST-MODIFIED:20240425T165655Z
UID:43430-1715972400-1715981400@www.myepl.org
SUMMARY:Curbside Concerts: Jake Miller and the Midwest Heat
DESCRIPTION:Jake Miller comes back to the rooftop stage\, this time with his new country-rock band\, the Midwest Heat.\n\nThat Guys Gourmet Ribs and beverages available for purchase. Bring a blanket or camp chair\, dancing shoes optional. Show moves inside the library if bad weather.\n\nOur concert series is just one of the Well Crafted events happening here in Elkhart County. See the entire list of entertainment and things to do at Visit Elkhart County.
URL:https://www.myepl.org/event/curbside-concerts-jake-miller-and-the-midwest-heat/
LOCATION:Downtown Library\, 300 S. Second St.\, Elkhart\, IN\, 46516\, United States
CATEGORIES:Featured,Just for Fun,Music
ATTACH;FMTTYPE=image/jpeg:https://www.myepl.org/wp-content/uploads/2024/04/jakemiller.jpeg
END:VEVENT
BEGIN:VEVENT
DTSTART;TZID=America/Indiana/Indianapolis:20240517T150000
DTEND;TZID=America/Indiana/Indianapolis:20240517T170000
DTSTAMP:20260420T160326
CREATED:20240401T170438Z
LAST-MODIFIED:20240430T204355Z
UID:43232-1715958000-1715965200@www.myepl.org
SUMMARY:Summer Reading Challenge Ice Cream Social
DESCRIPTION:Kick off the 2024 Summer Reading Challenge with a sweet treat. While you eat\, get everything you need for the Summer Reading Challenge\, including stocking up on books.
URL:https://www.myepl.org/event/summer-reading-challenge-ice-cream-social/
LOCATION:Dunlap Branch\, 58485 C.R. 13 East\, Elkhart\, IN\, 46516\, United States
CATEGORIES:Just for Fun,Summer Reading
ATTACH;FMTTYPE=image/jpeg:https://www.myepl.org/wp-content/uploads/2024/04/Ice-Cream-Social-04-scaled.jpg
END:VEVENT
BEGIN:VEVENT
DTSTART;TZID=America/Indiana/Indianapolis:20240517T150000
DTEND;TZID=America/Indiana/Indianapolis:20240517T170000
DTSTAMP:20260420T160326
CREATED:20240327T175210Z
LAST-MODIFIED:20240503T200732Z
UID:43081-1715958000-1715965200@www.myepl.org
SUMMARY:Summer Reading Challenge Kick-Off Party
DESCRIPTION:Stock up for Summer Reading with our books. Plus enjoy snacks\, making a necklace and spinning our prize wheel. We’ll make sure you’re all set for the 2024 Summer Reading Challenge.
URL:https://www.myepl.org/event/summer-reading-challenge-kick-off-party/2024-05-17/
LOCATION:Osolo Branch\, 3429 E. Bristol St.\, Elkhart\, IN\, 46516\, United States
CATEGORIES:Just for Fun,Summer Reading
ATTACH;FMTTYPE=image/jpeg:https://www.myepl.org/wp-content/uploads/2024/03/Fables-and-Festivities-09-scaled.jpg
END:VEVENT
END:VCALENDAR