BEGIN:VCALENDAR
VERSION:2.0
PRODID:-//Elkhart Public Library - ECPv6.15.20//NONSGML v1.0//EN
CALSCALE:GREGORIAN
METHOD:PUBLISH
X-ORIGINAL-URL:https://www.myepl.org
X-WR-CALDESC:Events for Elkhart Public Library
REFRESH-INTERVAL;VALUE=DURATION:PT1H
X-Robots-Tag:noindex
X-PUBLISHED-TTL:PT1H
BEGIN:VTIMEZONE
TZID:America/Indiana/Indianapolis
BEGIN:DAYLIGHT
TZOFFSETFROM:-0500
TZOFFSETTO:-0400
TZNAME:EDT
DTSTART:20230312T070000
END:DAYLIGHT
BEGIN:STANDARD
TZOFFSETFROM:-0400
TZOFFSETTO:-0500
TZNAME:EST
DTSTART:20231105T060000
END:STANDARD
BEGIN:DAYLIGHT
TZOFFSETFROM:-0500
TZOFFSETTO:-0400
TZNAME:EDT
DTSTART:20240310T070000
END:DAYLIGHT
BEGIN:STANDARD
TZOFFSETFROM:-0400
TZOFFSETTO:-0500
TZNAME:EST
DTSTART:20241103T060000
END:STANDARD
BEGIN:DAYLIGHT
TZOFFSETFROM:-0500
TZOFFSETTO:-0400
TZNAME:EDT
DTSTART:20250309T070000
END:DAYLIGHT
BEGIN:STANDARD
TZOFFSETFROM:-0400
TZOFFSETTO:-0500
TZNAME:EST
DTSTART:20251102T060000
END:STANDARD
END:VTIMEZONE
BEGIN:VEVENT
DTSTART;TZID=America/Indiana/Indianapolis:20240524T190000
DTEND;TZID=America/Indiana/Indianapolis:20240524T213000
DTSTAMP:20260420T224154
CREATED:20240419T181633Z
LAST-MODIFIED:20240425T165651Z
UID:43433-1716577200-1716586200@www.myepl.org
SUMMARY:Curbside Concerts: Society's Child
DESCRIPTION:Michiana’s hardest-working rock band\, Society’s Child\, is coming back to the rooftop stage.\n\nThat Guys Gourmet Ribs and beverages available for purchase. Bring a blanket or camp chair – ’80s shades\, long hair\, and band shirts with skulls optional.\n\nOur concert series is just one of the Well Crafted events happening here in Elkhart County. See the entire list of entertainment and things to do at Visit Elkhart County.
URL:https://www.myepl.org/event/curbside-concerts-societys-child-2/
LOCATION:Downtown Library\, 300 S. Second St.\, Elkhart\, IN\, 46516\, United States
CATEGORIES:Featured,Just for Fun,Music
ATTACH;FMTTYPE=image/jpeg:https://www.myepl.org/wp-content/uploads/2024/04/societys.jpeg
END:VEVENT
BEGIN:VEVENT
DTSTART;TZID=America/Indiana/Indianapolis:20240520T163000
DTEND;TZID=America/Indiana/Indianapolis:20240520T173000
DTSTAMP:20260420T224154
CREATED:20240401T161126Z
LAST-MODIFIED:20240520T181920Z
UID:43218-1716222600-1716226200@www.myepl.org
SUMMARY:LEGO Bots
DESCRIPTION:Registration for this event has closed. \nLEGOs and coding combine to make your builds move.
URL:https://www.myepl.org/event/lego-bots-3/
LOCATION:Downtown Library\, 300 S. Second St.\, Elkhart\, IN\, 46516\, United States
CATEGORIES:Just for Fun
ATTACH;FMTTYPE=image/jpeg:https://www.myepl.org/wp-content/uploads/2023/09/LEGO-Sparks.jpg
END:VEVENT
BEGIN:VEVENT
DTSTART;TZID=America/Indiana/Indianapolis:20240518T110000
DTEND;TZID=America/Indiana/Indianapolis:20240518T123000
DTSTAMP:20260420T224154
CREATED:20240322T185411Z
LAST-MODIFIED:20240322T185411Z
UID:42901-1716030000-1716035400@www.myepl.org
SUMMARY:Tie-Dye T-Shirts
DESCRIPTION:Stop by Cleveland and make a tie-dye t-shirt for Summer Reading. Shirts and supplies available while they last. Rain out date is Thursday\, May 23 at 3 p.m.
URL:https://www.myepl.org/event/tie-dye-t-shirts-2/
LOCATION:Cleveland Branch\, 53715 C.R. 1\, Elkhart\, IN\, 46514\, United States
CATEGORIES:Crafts,Just for Fun
ATTACH;FMTTYPE=image/jpeg:https://www.myepl.org/wp-content/uploads/2024/03/Tie-Dye-scaled.jpg
END:VEVENT
BEGIN:VEVENT
DTSTART;TZID=America/Indiana/Indianapolis:20240517T190000
DTEND;TZID=America/Indiana/Indianapolis:20240517T213000
DTSTAMP:20260420T224154
CREATED:20240419T181518Z
LAST-MODIFIED:20240425T165655Z
UID:43430-1715972400-1715981400@www.myepl.org
SUMMARY:Curbside Concerts: Jake Miller and the Midwest Heat
DESCRIPTION:Jake Miller comes back to the rooftop stage\, this time with his new country-rock band\, the Midwest Heat.\n\nThat Guys Gourmet Ribs and beverages available for purchase. Bring a blanket or camp chair\, dancing shoes optional. Show moves inside the library if bad weather.\n\nOur concert series is just one of the Well Crafted events happening here in Elkhart County. See the entire list of entertainment and things to do at Visit Elkhart County.
URL:https://www.myepl.org/event/curbside-concerts-jake-miller-and-the-midwest-heat/
LOCATION:Downtown Library\, 300 S. Second St.\, Elkhart\, IN\, 46516\, United States
CATEGORIES:Featured,Just for Fun,Music
ATTACH;FMTTYPE=image/jpeg:https://www.myepl.org/wp-content/uploads/2024/04/jakemiller.jpeg
END:VEVENT
BEGIN:VEVENT
DTSTART;TZID=America/Indiana/Indianapolis:20240517T150000
DTEND;TZID=America/Indiana/Indianapolis:20240517T170000
DTSTAMP:20260420T224154
CREATED:20240401T170438Z
LAST-MODIFIED:20240430T204355Z
UID:43232-1715958000-1715965200@www.myepl.org
SUMMARY:Summer Reading Challenge Ice Cream Social
DESCRIPTION:Kick off the 2024 Summer Reading Challenge with a sweet treat. While you eat\, get everything you need for the Summer Reading Challenge\, including stocking up on books.
URL:https://www.myepl.org/event/summer-reading-challenge-ice-cream-social/
LOCATION:Dunlap Branch\, 58485 C.R. 13 East\, Elkhart\, IN\, 46516\, United States
CATEGORIES:Just for Fun,Summer Reading
ATTACH;FMTTYPE=image/jpeg:https://www.myepl.org/wp-content/uploads/2024/04/Ice-Cream-Social-04-scaled.jpg
END:VEVENT
BEGIN:VEVENT
DTSTART;TZID=America/Indiana/Indianapolis:20240517T150000
DTEND;TZID=America/Indiana/Indianapolis:20240517T170000
DTSTAMP:20260420T224154
CREATED:20240327T175210Z
LAST-MODIFIED:20240503T200732Z
UID:43081-1715958000-1715965200@www.myepl.org
SUMMARY:Summer Reading Challenge Kick-Off Party
DESCRIPTION:Stock up for Summer Reading with our books. Plus enjoy snacks\, making a necklace and spinning our prize wheel. We’ll make sure you’re all set for the 2024 Summer Reading Challenge.
URL:https://www.myepl.org/event/summer-reading-challenge-kick-off-party/2024-05-17/
LOCATION:Osolo Branch\, 3429 E. Bristol St.\, Elkhart\, IN\, 46516\, United States
CATEGORIES:Just for Fun,Summer Reading
ATTACH;FMTTYPE=image/jpeg:https://www.myepl.org/wp-content/uploads/2024/03/Fables-and-Festivities-09-scaled.jpg
END:VEVENT
BEGIN:VEVENT
DTSTART;TZID=America/Indiana/Indianapolis:20240517T150000
DTEND;TZID=America/Indiana/Indianapolis:20240517T170000
DTSTAMP:20260420T224154
CREATED:20240327T171456Z
LAST-MODIFIED:20240509T133554Z
UID:43068-1715958000-1715965200@www.myepl.org
SUMMARY:Summer Reading Kick-Off Ice Cream Party
DESCRIPTION:Make an ice cream sundae with our available toppings. Plus\, get everything you need for the Summer Reading Challenge. \nApúntate al Programa de Lectura de Verano y disfruta de un helado. Crea tu propio helado con nuestra amplia variedad de ingredientes. Hasta agotar existencias.
URL:https://www.myepl.org/event/summer-reading-kick-off-ice-cream-party/
LOCATION:Pierre Moran Branch\, 2400 Benham Ave\, Elkhart\, IN\, 46517\, United States
CATEGORIES:Just for Fun,Summer Reading
ATTACH;FMTTYPE=image/jpeg:https://www.myepl.org/wp-content/uploads/2024/03/Ice-Cream-Social-01-scaled.jpg
END:VEVENT
BEGIN:VEVENT
DTSTART;TZID=America/Indiana/Indianapolis:20240517T100000
DTEND;TZID=America/Indiana/Indianapolis:20240517T110000
DTSTAMP:20260420T224154
CREATED:20240503T200851Z
LAST-MODIFIED:20240510T201130Z
UID:43697-1715940000-1715943600@www.myepl.org
SUMMARY:Summer Reading Kickoff Party
DESCRIPTION:Stock up for Summer Reading with our books. Plus enjoy snacks\, making a necklace and spinning our prize wheel. We’ll make sure you’re all set for the 2024 Summer Reading Challenge. There is another Kick-Off Party starting at 3 p.m.
URL:https://www.myepl.org/event/summer-reading-kickoff-party/
LOCATION:Osolo Branch\, 3429 E. Bristol St.\, Elkhart\, IN\, 46516\, United States
CATEGORIES:Just for Fun,Summer Reading
ATTACH;FMTTYPE=image/jpeg:https://www.myepl.org/wp-content/uploads/2024/03/Fables-and-Festivities-09-scaled.jpg
END:VEVENT
BEGIN:VEVENT
DTSTART;TZID=America/Indiana/Indianapolis:20240510T190000
DTEND;TZID=America/Indiana/Indianapolis:20240510T213000
DTSTAMP:20260420T224154
CREATED:20240419T181345Z
LAST-MODIFIED:20240425T165658Z
UID:43426-1715367600-1715376600@www.myepl.org
SUMMARY:Curbside Concerts: Paul Decker and the Remnants
DESCRIPTION:Paul Decker and the Remnants on the rooftop stage for the first time! \n\nThat Guys Gourmet Ribs and beverages available for purchase. Bring a blanket or camp chair\, dancing shoes optional. Show moves inside the library if bad weather.\n\nOur concert series is just one of the Well Crafted events happening here in Elkhart County. See the entire list of entertainment and things to do at Visit Elkhart County.
URL:https://www.myepl.org/event/curbside-concerts-paul-decker-and-the-remnants/
LOCATION:Downtown Library\, 300 S. Second St.\, Elkhart\, IN\, 46516\, United States
CATEGORIES:Featured,Just for Fun,Music
ATTACH;FMTTYPE=image/jpeg:https://www.myepl.org/wp-content/uploads/2024/04/decker2.jpeg
END:VEVENT
BEGIN:VEVENT
DTSTART;TZID=America/Indiana/Indianapolis:20240509T180000
DTEND;TZID=America/Indiana/Indianapolis:20240509T190000
DTSTAMP:20260420T224154
CREATED:20240327T172326Z
LAST-MODIFIED:20240327T172326Z
UID:43076-1715277600-1715281200@www.myepl.org
SUMMARY:Game Night - Scattergories
DESCRIPTION:Bring your friends and family for a night of Scattergories. No experience necessary. Single or team play available. Play for prizes.
URL:https://www.myepl.org/event/game-night-scattergories/
LOCATION:Osolo Branch\, 3429 E. Bristol St.\, Elkhart\, IN\, 46516\, United States
CATEGORIES:Just for Fun
END:VEVENT
BEGIN:VEVENT
DTSTART;TZID=America/Indiana/Indianapolis:20240506T163000
DTEND;TZID=America/Indiana/Indianapolis:20240506T173000
DTSTAMP:20260420T224154
CREATED:20230928T211436Z
LAST-MODIFIED:20240327T182212Z
UID:43107-1715013000-1715016600@www.myepl.org
SUMMARY:LEGO Challenge
DESCRIPTION:Build magnificent things. Use our prompt to build something and then talk about what you made. You could take home a prize.
URL:https://www.myepl.org/event/lego-challenge/2024-05-06/
LOCATION:Downtown Library\, 300 S. Second St.\, Elkhart\, IN\, 46516\, United States
CATEGORIES:Just for Fun
ATTACH;FMTTYPE=image/jpeg:https://www.myepl.org/wp-content/uploads/2023/09/LEGO-Downtown-01.jpg
END:VEVENT
BEGIN:VEVENT
DTSTART;TZID=America/Indiana/Indianapolis:20240506T160000
DTEND;TZID=America/Indiana/Indianapolis:20240506T170000
DTSTAMP:20260420T224154
CREATED:20231221T200851Z
LAST-MODIFIED:20240429T205420Z
UID:41495-1715011200-1715014800@www.myepl.org
SUMMARY:Tween and Teen BINGO
DESCRIPTION:Play BINGO with a twist. Use food to mark your board and win prizes. Plus\, snack while you play.
URL:https://www.myepl.org/event/tween-and-teen-bingo-2/
LOCATION:Osolo Branch\, 3429 E. Bristol St.\, Elkhart\, IN\, 46516\, United States
CATEGORIES:Just for Fun,Teen Programs
ATTACH;FMTTYPE=image/png:https://www.myepl.org/wp-content/uploads/2023/12/Tween-and-Teen-BINGO-Calendar.png
END:VEVENT
BEGIN:VEVENT
DTSTART;TZID=America/Indiana/Indianapolis:20240503T153000
DTEND;TZID=America/Indiana/Indianapolis:20240503T173000
DTSTAMP:20260420T224154
CREATED:20240108T212202Z
LAST-MODIFIED:20240423T130429Z
UID:41759-1714750200-1714757400@www.myepl.org
SUMMARY:Celebrate El Día de los Niños
DESCRIPTION:El Día de los Niños is a holiday celebration for children with games\, prizes\, free books\, snacks and more.
URL:https://www.myepl.org/event/celebrate-el-dia-de-los-ninos/
LOCATION:Pierre Moran Branch\, 2400 Benham Ave\, Elkhart\, IN\, 46517\, United States
CATEGORIES:Just for Fun
ATTACH;FMTTYPE=image/jpeg:https://www.myepl.org/wp-content/uploads/2024/01/Dia-de-los-ninos-22-scaled.jpg
END:VEVENT
BEGIN:VEVENT
DTSTART;TZID=America/Indiana/Indianapolis:20240430T170000
DTEND;TZID=America/Indiana/Indianapolis:20240430T193000
DTSTAMP:20260420T224154
CREATED:20240115T190825Z
LAST-MODIFIED:20240115T190826Z
UID:41881-1714496400-1714505400@www.myepl.org
SUMMARY:Día de los Niños y Libros
DESCRIPTION:Games\, stories\, and more to celebrate kids! \nParticipa en juegos\, haz una manualidad o escucha cuentos y canciones en español\, y celebra un día para los niños: ¡cada niño se irá con un premio!
URL:https://www.myepl.org/event/dia-de-los-ninos-y-libros/
LOCATION:Downtown Library\, 300 S. Second St.\, Elkhart\, IN\, 46516\, United States
CATEGORIES:Just for Fun
ATTACH;FMTTYPE=image/jpeg:https://www.myepl.org/wp-content/uploads/2024/01/Dia-de-los-ninos-08-scaled.jpg
END:VEVENT
BEGIN:VEVENT
DTSTART;TZID=America/Indiana/Indianapolis:20240420T110000
DTEND;TZID=America/Indiana/Indianapolis:20240420T130000
DTSTAMP:20260420T224154
CREATED:20231212T194600Z
LAST-MODIFIED:20240409T194229Z
UID:41251-1713610800-1713618000@www.myepl.org
SUMMARY:Prop Swap
DESCRIPTION:Plants don’t have to be expensive. Bring a plant that’s ready for propagation or use our available dirt and pots to take a prop from one of ours. Plus\, meet other green thumbs and share tips. Dirt and other materials are available while supplies last.
URL:https://www.myepl.org/event/prop-swap/
LOCATION:Downtown Library\, 300 S. Second St.\, Elkhart\, IN\, 46516\, United States
CATEGORIES:Just for Fun
ATTACH;FMTTYPE=image/png:https://www.myepl.org/wp-content/uploads/2023/12/prop-swap-calendar.png
END:VEVENT
BEGIN:VEVENT
DTSTART;TZID=America/Indiana/Indianapolis:20240410T173000
DTEND;TZID=America/Indiana/Indianapolis:20240410T183000
DTSTAMP:20260420T224154
CREATED:20231221T180121Z
LAST-MODIFIED:20240402T210550Z
UID:41416-1712770200-1712773800@www.myepl.org
SUMMARY:Trolls Preschool Pajama Party
DESCRIPTION:Dance and sing along with music from the Trolls movies. Activities and stories add to the fun. 
URL:https://www.myepl.org/event/trolls-preschool-pajama-party/
LOCATION:Downtown Library\, 300 S. Second St.\, Elkhart\, IN\, 46516\, United States
CATEGORIES:Just for Fun
ATTACH;FMTTYPE=image/png:https://www.myepl.org/wp-content/uploads/2023/12/trollspreschoolpartydigitalcontent_calendar.png
END:VEVENT
BEGIN:VEVENT
DTSTART;TZID=America/Indiana/Indianapolis:20240408T140000
DTEND;TZID=America/Indiana/Indianapolis:20240408T170000
DTSTAMP:20260420T224154
CREATED:20231220T214258Z
LAST-MODIFIED:20240314T172827Z
UID:41379-1712584800-1712595600@www.myepl.org
SUMMARY:Eclipse Activities
DESCRIPTION:Stick around following Homeschool Art to enjoy activities and games related to science before and after the eclipse. Pick up a pair of viewing glasses\, too.
URL:https://www.myepl.org/event/eclipse-activities/
LOCATION:Downtown Library\, 300 S. Second St.\, Elkhart\, IN\, 46516\, United States
CATEGORIES:Educational,Just for Fun
ATTACH;FMTTYPE=image/jpeg:https://www.myepl.org/wp-content/uploads/2023/12/Astronauts-Talk-to-Earth3.jpg
END:VEVENT
BEGIN:VEVENT
DTSTART;TZID=America/Indiana/Indianapolis:20240408T140000
DTEND;TZID=America/Indiana/Indianapolis:20240408T160000
DTSTAMP:20260420T224154
CREATED:20240314T170313Z
LAST-MODIFIED:20240322T132756Z
UID:42647-1712584800-1712592000@www.myepl.org
SUMMARY:Dunlap Eclipse Viewing Party
DESCRIPTION:Pick up a pair of eclipse glasses and enjoy snacks and more during the near-total solar eclipse. Bring a blanket or lawn chair to sit on. Enter our raffle for a chance to win a book or a LEGO set. The eclipse peaks at 3:09 p.m.
URL:https://www.myepl.org/event/dunlap-eclipse-viewing-party/
LOCATION:Dunlap Branch\, 58485 C.R. 13 East\, Elkhart\, IN\, 46516\, United States
CATEGORIES:Educational,Featured,Just for Fun
ATTACH;FMTTYPE=image/jpeg:https://www.myepl.org/wp-content/uploads/2024/03/IMG_0635.jpg
END:VEVENT
BEGIN:VEVENT
DTSTART;TZID=America/Indiana/Indianapolis:20240408T133000
DTEND;TZID=America/Indiana/Indianapolis:20240408T163000
DTSTAMP:20260420T224154
CREATED:20240108T214356Z
LAST-MODIFIED:20240314T174810Z
UID:41773-1712583000-1712593800@www.myepl.org
SUMMARY:Cleveland Solar Eclipse Viewing Party
DESCRIPTION:The solar eclipse will be near-total in our area. Bring a chair or blanket and we’ll hand out viewing glasses at 1:30 p.m. while supplies last. The eclipse starts at 1:50 p.m.\, peaks at 3:09 p.m. and completes at 4:25 p.m.
URL:https://www.myepl.org/event/solar-eclipse-viewing/
LOCATION:Cleveland Branch\, 53715 C.R. 1\, Elkhart\, IN\, 46514\, United States
CATEGORIES:Educational,Just for Fun
ATTACH;FMTTYPE=image/jpeg:https://www.myepl.org/wp-content/uploads/2024/01/eclipse.jpg
END:VEVENT
BEGIN:VEVENT
DTSTART;TZID=America/Indiana/Indianapolis:20240403T100000
DTEND;TZID=America/Indiana/Indianapolis:20240403T110000
DTSTAMP:20260420T224154
CREATED:20240103T201459Z
LAST-MODIFIED:20240103T201459Z
UID:41598-1712138400-1712142000@www.myepl.org
SUMMARY:Toddler Dance Party
DESCRIPTION:This special event takes place at the same time as Baby and Me for the week of Spring Break. Bring along older siblings and everyone will have a great time dancing with scarves\, egg shakers\, and more.
URL:https://www.myepl.org/event/toddler-dance-party/
LOCATION:Downtown Library\, 300 S. Second St.\, Elkhart\, IN\, 46516\, United States
CATEGORIES:Just for Fun,Music
ATTACH;FMTTYPE=image/jpeg:https://www.myepl.org/wp-content/uploads/2024/01/Dance-party-scaled.jpg
END:VEVENT
BEGIN:VEVENT
DTSTART;TZID=America/Indiana/Indianapolis:20240403T100000
DTEND;TZID=America/Indiana/Indianapolis:20240403T110000
DTSTAMP:20260420T224154
CREATED:20231221T200551Z
LAST-MODIFIED:20231221T200551Z
UID:41493-1712138400-1712142000@www.myepl.org
SUMMARY:Bluey Party
DESCRIPTION:Help us find Bluey when she is lost in the library. Plus stories and activities.
URL:https://www.myepl.org/event/bluey-party/
LOCATION:Osolo Branch\, 3429 E. Bristol St.\, Elkhart\, IN\, 46516\, United States
CATEGORIES:Just for Fun
ATTACH;FMTTYPE=image/jpeg:https://www.myepl.org/wp-content/uploads/2022/01/bluey-preview-tw.jpeg
END:VEVENT
BEGIN:VEVENT
DTSTART;TZID=America/Indiana/Indianapolis:20240401T090000
DTEND;TZID=America/Indiana/Indianapolis:20240401T190000
DTSTAMP:20260420T224154
CREATED:20240212T210858Z
LAST-MODIFIED:20240212T210928Z
UID:42254-1711962000-1711998000@www.myepl.org
SUMMARY:Book Scavenger Hunt
DESCRIPTION:Come by Osolo any time during open hours over spring break and follow our clues to find books. Then stop by the desk to collect a prize.
URL:https://www.myepl.org/event/book-scavenger-hunt/2024-04-01/
LOCATION:Osolo Branch\, 3429 E. Bristol St.\, Elkhart\, IN\, 46516\, United States
CATEGORIES:Just for Fun
ATTACH;FMTTYPE=image/png:https://www.myepl.org/wp-content/uploads/2023/09/winterbreak-bookhunt-CALENDAR.png
END:VEVENT
BEGIN:VEVENT
DTSTART;TZID=America/Indiana/Indianapolis:20240401T090000
DTEND;TZID=America/Indiana/Indianapolis:20240401T190000
DTSTAMP:20260420T224154
CREATED:20240109T162328Z
LAST-MODIFIED:20240403T210808Z
UID:41817-1711962000-1711998000@www.myepl.org
SUMMARY:Chocolate Chip Taste Test
DESCRIPTION:Pick up a kit to take home and try each of the chocolate chips inside\, while supplies last. Return the form and we’ll tell you which brand of chocolate chips you prefer. We can also give you some recipes to use.
URL:https://www.myepl.org/event/chocolate-chip-taste-test/
LOCATION:Dunlap Branch\, 58485 C.R. 13 East\, Elkhart\, IN\, 46516\, United States
CATEGORIES:Just for Fun
END:VEVENT
BEGIN:VEVENT
DTSTART;TZID=America/Indiana/Indianapolis:20240401T090000
DTEND;TZID=America/Indiana/Indianapolis:20240401T190000
DTSTAMP:20260420T224154
CREATED:20240109T162048Z
LAST-MODIFIED:20240318T184242Z
UID:41810-1711962000-1711998000@www.myepl.org
SUMMARY:Spring Break LEGO City
DESCRIPTION:Come by Dunlap throughout Spring Break and build on our LEGO City. The only rule is to not remove what’s already there. Get creative and see how big we can build it.
URL:https://www.myepl.org/event/spring-break-lego-city/2024-04-01/
LOCATION:Dunlap Branch\, 58485 C.R. 13 East\, Elkhart\, IN\, 46516\, United States
CATEGORIES:Just for Fun
ATTACH;FMTTYPE=image/jpeg:https://www.myepl.org/wp-content/uploads/2022/10/LEGO-Challenge-3-e1665068276506.jpg
END:VEVENT
BEGIN:VEVENT
DTSTART;TZID=America/Indiana/Indianapolis:20240328T163000
DTEND;TZID=America/Indiana/Indianapolis:20240328T173000
DTSTAMP:20260420T224154
CREATED:20240109T162806Z
LAST-MODIFIED:20240312T163107Z
UID:41824-1711643400-1711647000@www.myepl.org
SUMMARY:Easter Egg Hunt
DESCRIPTION:Bring your basket to collect the eggs hidden throughout the library\, but everyone will take home a treat bag\, whether you find eggs or not. Before the hunt\, enjoy a magic show from magician Steve Vaught.
URL:https://www.myepl.org/event/easter-egg-hunt/
LOCATION:Downtown Library\, 300 S. Second St.\, Elkhart\, IN\, 46516\, United States
CATEGORIES:Just for Fun
ATTACH;FMTTYPE=image/jpeg:https://www.myepl.org/wp-content/uploads/2024/01/Egg-Hunt-Party-18-scaled.jpg
END:VEVENT
BEGIN:VEVENT
DTSTART;TZID=America/Indiana/Indianapolis:20240326T100000
DTEND;TZID=America/Indiana/Indianapolis:20240326T110000
DTSTAMP:20260420T224154
CREATED:20231221T175213Z
LAST-MODIFIED:20231221T175213Z
UID:41408-1711447200-1711450800@www.myepl.org
SUMMARY:Easter Egg Hunt for Littles
DESCRIPTION:First\, music\, stories and games\, then a shared egg hunt with something for everyone to take home (regardless of how many eggs you find).
URL:https://www.myepl.org/event/easter-egg-hunt-for-littles/
LOCATION:Downtown Library\, 300 S. Second St.\, Elkhart\, IN\, 46516\, United States
CATEGORIES:Just for Fun
ATTACH;FMTTYPE=image/jpeg:https://www.myepl.org/wp-content/uploads/2023/12/Egg-Hunt-Littles-02.jpg
END:VEVENT
BEGIN:VEVENT
DTSTART;TZID=America/Indiana/Indianapolis:20240325T163000
DTEND;TZID=America/Indiana/Indianapolis:20240325T173000
DTSTAMP:20260420T224154
CREATED:20240109T173500Z
LAST-MODIFIED:20240320T172800Z
UID:41833-1711384200-1711387800@www.myepl.org
SUMMARY:LEGO Sparks
DESCRIPTION:(This event is full. Keep watching for more great activities.) \nCombine LEGO building with coding to make the LEGOs move and complete tasks.
URL:https://www.myepl.org/event/lego-sparks-7/
LOCATION:Downtown Library\, 300 S. Second St.\, Elkhart\, IN\, 46516\, United States
CATEGORIES:Just for Fun
ATTACH;FMTTYPE=image/jpeg:https://www.myepl.org/wp-content/uploads/2023/09/LEGO-Sparks.jpg
END:VEVENT
BEGIN:VEVENT
DTSTART;TZID=America/Indiana/Indianapolis:20240325T090000
DTEND;TZID=America/Indiana/Indianapolis:20240325T190000
DTSTAMP:20260420T224154
CREATED:20240109T151100Z
LAST-MODIFIED:20240109T151100Z
UID:41785-1711357200-1711393200@www.myepl.org
SUMMARY:Peeps Diorama Contest
DESCRIPTION:Create a scene from a favorite book or anything using our supplies and marshmallow Peeps. We’ll have a work day to build one at the branch on Saturday\, April 6 during open hours. \nCome to Cleveland to grab supplies\, while they last\, from March 25 to April 8. Entries need to be dropped off by April 9. Voting for each category is April 10-16.
URL:https://www.myepl.org/event/peeps-diorama-contest-2/
LOCATION:Cleveland Branch\, 53715 C.R. 1\, Elkhart\, IN\, 46514\, United States
CATEGORIES:Crafts,Just for Fun
ATTACH;FMTTYPE=image/png:https://www.myepl.org/wp-content/uploads/2023/03/Peeps-Diorama-Contest-Calendar.png
END:VEVENT
BEGIN:VEVENT
DTSTART;TZID=America/Indiana/Indianapolis:20240323T093000
DTEND;TZID=America/Indiana/Indianapolis:20240323T120000
DTSTAMP:20260420T224154
CREATED:20231221T190422Z
LAST-MODIFIED:20240315T194456Z
UID:41472-1711186200-1711195200@www.myepl.org
SUMMARY:Battle of the Books
DESCRIPTION:The reading competition for fifth and sixth graders is back for participating schools. 
URL:https://www.myepl.org/event/battle-of-the-books/
LOCATION:Downtown Library\, 300 S. Second St.\, Elkhart\, IN\, 46516\, United States
CATEGORIES:Educational,Just for Fun
ATTACH;FMTTYPE=image/jpeg:https://www.myepl.org/wp-content/uploads/2020/01/2019-Winner-Pinewood-Puetz-scaled-1.jpg
END:VEVENT
BEGIN:VEVENT
DTSTART;TZID=America/Indiana/Indianapolis:20240318T163000
DTEND;TZID=America/Indiana/Indianapolis:20240318T180000
DTSTAMP:20260420T224154
CREATED:20240104T194402Z
LAST-MODIFIED:20240304T161013Z
UID:41627-1710779400-1710784800@www.myepl.org
SUMMARY:Magical Tea Party
DESCRIPTION:Treats\, tea and hot chocolate will be served at this magic tea time. Come in costume if you choose and enjoy activities and stories\, too.
URL:https://www.myepl.org/event/magical-tea-party/
LOCATION:Downtown Library\, 300 S. Second St.\, Elkhart\, IN\, 46516\, United States
CATEGORIES:Just for Fun
ATTACH;FMTTYPE=image/png:https://www.myepl.org/wp-content/uploads/2024/01/MagicalTeaParty_calendar.png
END:VEVENT
END:VCALENDAR