BEGIN:VCALENDAR
VERSION:2.0
PRODID:-//Elkhart Public Library - ECPv6.15.20//NONSGML v1.0//EN
CALSCALE:GREGORIAN
METHOD:PUBLISH
X-WR-CALNAME:Elkhart Public Library
X-ORIGINAL-URL:https://www.myepl.org
X-WR-CALDESC:Events for Elkhart Public Library
REFRESH-INTERVAL;VALUE=DURATION:PT1H
X-Robots-Tag:noindex
X-PUBLISHED-TTL:PT1H
BEGIN:VTIMEZONE
TZID:America/Indiana/Indianapolis
BEGIN:DAYLIGHT
TZOFFSETFROM:-0500
TZOFFSETTO:-0400
TZNAME:EDT
DTSTART:20250309T070000
END:DAYLIGHT
BEGIN:STANDARD
TZOFFSETFROM:-0400
TZOFFSETTO:-0500
TZNAME:EST
DTSTART:20251102T060000
END:STANDARD
BEGIN:DAYLIGHT
TZOFFSETFROM:-0500
TZOFFSETTO:-0400
TZNAME:EDT
DTSTART:20260308T070000
END:DAYLIGHT
BEGIN:STANDARD
TZOFFSETFROM:-0400
TZOFFSETTO:-0500
TZNAME:EST
DTSTART:20261101T060000
END:STANDARD
BEGIN:DAYLIGHT
TZOFFSETFROM:-0500
TZOFFSETTO:-0400
TZNAME:EDT
DTSTART:20270314T070000
END:DAYLIGHT
BEGIN:STANDARD
TZOFFSETFROM:-0400
TZOFFSETTO:-0500
TZNAME:EST
DTSTART:20271107T060000
END:STANDARD
END:VTIMEZONE
BEGIN:VEVENT
DTSTART;TZID=America/Indiana/Indianapolis:20260529T160000
DTEND;TZID=America/Indiana/Indianapolis:20260529T180000
DTSTAMP:20260423T171916
CREATED:20260320T155110Z
LAST-MODIFIED:20260320T155110Z
UID:55728-1780070400-1780077600@www.myepl.org
SUMMARY:Finals Week Wind Down
DESCRIPTION:Get away from the stress of finals week with different relaxing activities each evening.
URL:https://www.myepl.org/event/finals-week-wind-down/2026-05-29/
LOCATION:Osolo Branch\, 3429 E. Bristol St.\, Elkhart\, IN\, 46516\, United States
CATEGORIES:Just for Fun,Teen Programs
END:VEVENT
BEGIN:VEVENT
DTSTART;TZID=America/Indiana/Indianapolis:20260601T153000
DTEND;TZID=America/Indiana/Indianapolis:20260601T170000
DTSTAMP:20260423T171916
CREATED:20260318T153240Z
LAST-MODIFIED:20260318T154209Z
UID:55541-1780327800-1780333200@www.myepl.org
SUMMARY:Fun in the Sun
DESCRIPTION:Join us at each neighborhood branch on Mondays in June for games\, activities\, the Book Bus\, prizes and free Kona Ice. The Friends of EPL supports this program.  \nJune 1 – Osolo\nJune 8 – Cleveland\nJune 15 – Pierre Moran\nJune 22 – Dunlap
URL:https://www.myepl.org/event/fun-in-the-sun-2/
LOCATION:Osolo Branch\, 3429 E. Bristol St.\, Elkhart\, IN\, 46516\, United States
CATEGORIES:Infant Programs,Just for Fun,Preschool Programs,School Age Programs,Summer Reading,Teen Programs
ATTACH;FMTTYPE=image/jpeg:https://www.myepl.org/wp-content/uploads/2026/03/Fun-in-the-Sun-PMB-04-scaled.jpg
END:VEVENT
BEGIN:VEVENT
DTSTART;TZID=America/Indiana/Indianapolis:20260602T100000
DTEND;TZID=America/Indiana/Indianapolis:20260602T120000
DTSTAMP:20260423T171916
CREATED:20240108T211718Z
LAST-MODIFIED:20240108T211718Z
UID:55203-1780394400-1780401600@www.myepl.org
SUMMARY:Hooks and Needles
DESCRIPTION:Beginner and expert knitters and crocheters are welcome to work on new or existing projects\, share tips\, ideas and meet other enthusiasts.
URL:https://www.myepl.org/event/hooks-and-needles/2026-06-02/
LOCATION:Cleveland Branch\, 53715 C.R. 1\, Elkhart\, IN\, 46514\, United States
CATEGORIES:Crafts,Educational,Just for Fun
ATTACH;FMTTYPE=image/png:https://www.myepl.org/wp-content/uploads/2024/01/hooksandneedles_Calendar-1.png
END:VEVENT
BEGIN:VEVENT
DTSTART;TZID=America/Indiana/Indianapolis:20260602T163000
DTEND;TZID=America/Indiana/Indianapolis:20260602T180000
DTSTAMP:20260423T171916
CREATED:20230621T172139Z
LAST-MODIFIED:20230621T172139Z
UID:55392-1780417800-1780423200@www.myepl.org
SUMMARY:Teen Anime Club
DESCRIPTION:Enjoy anime and manga with other fans. We’ll share Japanese snacks and make crafts\, too.
URL:https://www.myepl.org/event/teen-anime-club-5/2026-06-02/
LOCATION:Downtown Library\, 300 S. Second St.\, Elkhart\, IN\, 46516\, United States
CATEGORIES:Just for Fun,Teen Programs
ATTACH;FMTTYPE=image/png:https://www.myepl.org/wp-content/uploads/2021/09/Calendar-_-Anime-Club-01-1.png
END:VEVENT
BEGIN:VEVENT
DTSTART;TZID=America/Indiana/Indianapolis:20260603T163000
DTEND;TZID=America/Indiana/Indianapolis:20260603T180000
DTSTAMP:20260423T171916
CREATED:20260106T185444Z
LAST-MODIFIED:20260106T185444Z
UID:55512-1780504200-1780509600@www.myepl.org
SUMMARY:Adult Anime Club
DESCRIPTION:Watch and discuss anime\, make a craft and enjoy snacks.
URL:https://www.myepl.org/event/adult-anime-club/2026-06-03/
LOCATION:Downtown Library\, 300 S. Second St.\, Elkhart\, IN\, 46516\, United States
CATEGORIES:Adult Programs,Just for Fun
ATTACH;FMTTYPE=image/png:https://www.myepl.org/wp-content/uploads/2025/06/adultanimeclub_Calendar.png
END:VEVENT
BEGIN:VEVENT
DTSTART;TZID=America/Indiana/Indianapolis:20260604T153000
DTEND;TZID=America/Indiana/Indianapolis:20260604T163000
DTSTAMP:20260423T171916
CREATED:20230315T150933Z
LAST-MODIFIED:20230315T150933Z
UID:55148-1780587000-1780590600@www.myepl.org
SUMMARY:Osolo LEGO Club
DESCRIPTION:Build with our LEGOs at Osolo. Come in and we’ll challenge you to build something and share it with the group.
URL:https://www.myepl.org/event/osolo-lego-club/2026-06-04/
LOCATION:Osolo Branch\, 3429 E. Bristol St.\, Elkhart\, IN\, 46516\, United States
CATEGORIES:Just for Fun
ATTACH;FMTTYPE=image/jpeg:https://www.myepl.org/wp-content/uploads/2023/03/LEGO-Challenge.jpg
END:VEVENT
BEGIN:VEVENT
DTSTART;TZID=America/Indiana/Indianapolis:20260605T100000
DTEND;TZID=America/Indiana/Indianapolis:20260605T110000
DTSTAMP:20260423T171916
CREATED:20250618T162100Z
LAST-MODIFIED:20260330T131455Z
UID:55351-1780653600-1780657200@www.myepl.org
SUMMARY:Sensory Playdate
DESCRIPTION:Come in play clothes and let little ones explore and learn through sensory play.
URL:https://www.myepl.org/event/sensory-playdate/2026-06-05/
LOCATION:Downtown Library\, 300 S. Second St.\, Elkhart\, IN\, 46516\, United States
CATEGORIES:Just for Fun,Preschool Programs
ATTACH;FMTTYPE=image/jpeg:https://www.myepl.org/wp-content/uploads/2025/06/Messy-Play-Day-scaled.jpg
END:VEVENT
BEGIN:VEVENT
DTSTART;TZID=America/Indiana/Indianapolis:20260608T153000
DTEND;TZID=America/Indiana/Indianapolis:20260608T170000
DTSTAMP:20260423T171916
CREATED:20260318T153413Z
LAST-MODIFIED:20260318T153414Z
UID:55544-1780932600-1780938000@www.myepl.org
SUMMARY:Fun in the Sun
DESCRIPTION:Join us at each neighborhood branch on Mondays in June for games\, activities\, the Book Bus\, prizes and free Kona Ice. The Friends of EPL supports this program.  \nJune 1 – Osolo\nJune 8 – Cleveland\nJune 15 – Pierre Moran\nJune 22 – Dunlap
URL:https://www.myepl.org/event/fun-in-the-sun-3/
LOCATION:Cleveland Branch\, 53715 C.R. 1\, Elkhart\, IN\, 46514\, United States
CATEGORIES:Infant Programs,Just for Fun,Preschool Programs,School Age Programs,Summer Reading,Teen Programs
ATTACH;FMTTYPE=image/jpeg:https://www.myepl.org/wp-content/uploads/2026/03/Fun-in-the-Sun-PMB-04-scaled.jpg
END:VEVENT
BEGIN:VEVENT
DTSTART;TZID=America/Indiana/Indianapolis:20260609T163000
DTEND;TZID=America/Indiana/Indianapolis:20260609T171500
DTSTAMP:20260423T171916
CREATED:20260316T205655Z
LAST-MODIFIED:20260316T205655Z
UID:55497-1781022600-1781025300@www.myepl.org
SUMMARY:Roz Puppets Presents: "Dinosaur Pirates"
DESCRIPTION:Hit the high seas for a story filled with music\, fun and audience participation. This show is made to delight the whole family. 
URL:https://www.myepl.org/event/roz-puppets-presents-dinosaur-pirates/
LOCATION:Dunlap Branch\, 58485 C.R. 13 East\, Elkhart\, IN\, 46516\, United States
CATEGORIES:Adult Programs,Just for Fun,Preschool Programs,School Age Programs,Teen Programs
ATTACH;FMTTYPE=image/jpeg:https://www.myepl.org/wp-content/uploads/2024/04/Roz-Puppets-01-scaled.jpg
END:VEVENT
BEGIN:VEVENT
DTSTART;TZID=America/Indiana/Indianapolis:20260609T163000
DTEND;TZID=America/Indiana/Indianapolis:20260609T180000
DTSTAMP:20260423T171916
CREATED:20260316T171714Z
LAST-MODIFIED:20260316T171714Z
UID:55402-1781022600-1781028000@www.myepl.org
SUMMARY:What's Inside?
DESCRIPTION:Join us to do some reverse engineering on old electronics and toys to see what’s inside and how they work. This program is geared for teens.
URL:https://www.myepl.org/event/whats-inside/
LOCATION:Downtown Library\, 300 S. Second St.\, Elkhart\, IN\, 46516\, United States
CATEGORIES:Just for Fun,Teen Programs
END:VEVENT
BEGIN:VEVENT
DTSTART;TZID=America/Indiana/Indianapolis:20260609T170000
DTEND;TZID=America/Indiana/Indianapolis:20260609T180000
DTSTAMP:20260423T171916
CREATED:20231211T143927Z
LAST-MODIFIED:20231211T143927Z
UID:55464-1781024400-1781028000@www.myepl.org
SUMMARY:Cleveland LEGO Club
DESCRIPTION:Bring your ideas to life by building and showing off your creation.
URL:https://www.myepl.org/event/cleveland-lego-club-3-2024-04-09/2026-06-09/
LOCATION:Cleveland Branch\, 53715 C.R. 1\, Elkhart\, IN\, 46514\, United States
CATEGORIES:Just for Fun
ATTACH;FMTTYPE=image/jpeg:https://www.myepl.org/wp-content/uploads/2023/12/Cleveland-LEGO-03-scaled.jpg
END:VEVENT
BEGIN:VEVENT
DTSTART;TZID=America/Indiana/Indianapolis:20260611T110000
DTEND;TZID=America/Indiana/Indianapolis:20260611T120000
DTSTAMP:20260423T171916
CREATED:20260312T132619Z
LAST-MODIFIED:20260312T135955Z
UID:55160-1781175600-1781179200@www.myepl.org
SUMMARY:Mammals with Elkhart County Parks
DESCRIPTION:Learn about the mammals in our area and parks with hands-on activities and artifacts. Explore their habits and homes with an expert from Elkhart County Parks. \nRegistration for this program starts May 1.
URL:https://www.myepl.org/event/mammals-with-elkhart-county-parks/
LOCATION:Osolo Branch\, 3429 E. Bristol St.\, Elkhart\, IN\, 46516\, United States
CATEGORIES:Educational,Just for Fun
ATTACH;FMTTYPE=image/png:https://www.myepl.org/wp-content/uploads/2025/09/programs-jan-09.png
END:VEVENT
BEGIN:VEVENT
DTSTART;TZID=America/Indiana/Indianapolis:20260611T173000
DTEND;TZID=America/Indiana/Indianapolis:20260611T190000
DTSTAMP:20260423T171916
CREATED:20251219T174419Z
LAST-MODIFIED:20251219T174419Z
UID:55684-1781199000-1781204400@www.myepl.org
SUMMARY:Adult LEGO Club
DESCRIPTION:Kids shouldn’t have all the LEGO fun. Join other adult brick builders to complete a challenge or create your own build from our LEGO stash. 
URL:https://www.myepl.org/event/adult-lego-club/2026-06-11/
LOCATION:Cleveland Branch\, 53715 C.R. 1\, Elkhart\, IN\, 46514\, United States
CATEGORIES:Adult Programs,Just for Fun
ATTACH;FMTTYPE=image/jpeg:https://www.myepl.org/wp-content/uploads/2025/12/Adult-LEGO-Club_Calendar.jpg
END:VEVENT
BEGIN:VEVENT
DTSTART;TZID=America/Indiana/Indianapolis:20260612T100000
DTEND;TZID=America/Indiana/Indianapolis:20260612T110000
DTSTAMP:20260423T171916
CREATED:20260316T173706Z
LAST-MODIFIED:20260316T173706Z
UID:55414-1781258400-1781262000@www.myepl.org
SUMMARY:Building Block Preschool Party
DESCRIPTION:Explore and build with DUPLOs\, Magna-Tiles\, wooden blocks and more.
URL:https://www.myepl.org/event/building-block-preschool-party/
LOCATION:Downtown Library\, 300 S. Second St.\, Elkhart\, IN\, 46516\, United States
CATEGORIES:Just for Fun,Preschool Programs
END:VEVENT
BEGIN:VEVENT
DTSTART;TZID=America/Indiana/Indianapolis:20260615T153000
DTEND;TZID=America/Indiana/Indianapolis:20260615T170000
DTSTAMP:20260423T171916
CREATED:20260318T153956Z
LAST-MODIFIED:20260318T153956Z
UID:55546-1781537400-1781542800@www.myepl.org
SUMMARY:Fun in the Sun
DESCRIPTION:Join us at each neighborhood branch on Mondays in June for games\, activities\, the Book Bus\, prizes and free Kona Ice. The Friends of EPL supports this program.  \nJune 1 – Osolo\nJune 8 – Cleveland\nJune 15 – Pierre Moran\nJune 22 – Dunlap
URL:https://www.myepl.org/event/fun-in-the-sun-4/
LOCATION:Pierre Moran Branch\, 2400 Benham Ave\, Elkhart\, IN\, 46517\, United States
CATEGORIES:Infant Programs,Just for Fun,Preschool Programs,School Age Programs,Summer Reading,Teen Programs
ATTACH;FMTTYPE=image/jpeg:https://www.myepl.org/wp-content/uploads/2026/03/Fun-in-the-Sun-PMB-04-scaled.jpg
END:VEVENT
BEGIN:VEVENT
DTSTART;TZID=America/Indiana/Indianapolis:20260616T100000
DTEND;TZID=America/Indiana/Indianapolis:20260616T120000
DTSTAMP:20260423T171916
CREATED:20240108T211718Z
LAST-MODIFIED:20240108T211718Z
UID:55204-1781604000-1781611200@www.myepl.org
SUMMARY:Hooks and Needles
DESCRIPTION:Beginner and expert knitters and crocheters are welcome to work on new or existing projects\, share tips\, ideas and meet other enthusiasts.
URL:https://www.myepl.org/event/hooks-and-needles/2026-06-16/
LOCATION:Cleveland Branch\, 53715 C.R. 1\, Elkhart\, IN\, 46514\, United States
CATEGORIES:Crafts,Educational,Just for Fun
ATTACH;FMTTYPE=image/png:https://www.myepl.org/wp-content/uploads/2024/01/hooksandneedles_Calendar-1.png
END:VEVENT
BEGIN:VEVENT
DTSTART;TZID=America/Indiana/Indianapolis:20260618T093000
DTEND;TZID=America/Indiana/Indianapolis:20260618T110000
DTSTAMP:20260423T171916
CREATED:20251205T203235Z
LAST-MODIFIED:20251205T203235Z
UID:55143-1781775000-1781780400@www.myepl.org
SUMMARY:Open Doors: A community for adults with disabilities
DESCRIPTION:Join us for fun and enriching activities to build a community supporting adults with intellectual disabilities. Explore creativity\, build skills and connect.
URL:https://www.myepl.org/event/open-doors-a-community-for-adults-with-disabilities/2026-06-18/
LOCATION:Downtown Library\, 300 S. Second St.\, Elkhart\, IN\, 46516\, United States
CATEGORIES:Adult Programs,Just for Fun
ATTACH;FMTTYPE=image/png:https://www.myepl.org/wp-content/uploads/2025/12/open-doors.png
END:VEVENT
BEGIN:VEVENT
DTSTART;TZID=America/Indiana/Indianapolis:20260619T163000
DTEND;TZID=America/Indiana/Indianapolis:20260619T173000
DTSTAMP:20260423T171916
CREATED:20260320T140747Z
LAST-MODIFIED:20260320T140747Z
UID:55678-1781886600-1781890200@www.myepl.org
SUMMARY:Friday Night Bingo
DESCRIPTION:Enjoy themed bingo for the whole family. Win snacks and prizes. \nMay 8 – Ocean creature bingo\nJune 19 – Playing card bingo\nJuly 10 – State trivia bingo
URL:https://www.myepl.org/event/friday-night-bingo-2/2026-06-19/
LOCATION:Osolo Branch\, 3429 E. Bristol St.\, Elkhart\, IN\, 46516\, United States
CATEGORIES:Adult Programs,Just for Fun,Preschool Programs,School Age Programs,Teen Programs
ATTACH;FMTTYPE=image/jpeg:https://www.myepl.org/wp-content/uploads/2025/12/Friday-Night-Bingo_Calendar.jpg
END:VEVENT
BEGIN:VEVENT
DTSTART;TZID=America/Indiana/Indianapolis:20260620T103000
DTEND;TZID=America/Indiana/Indianapolis:20260620T120000
DTSTAMP:20260423T171916
CREATED:20260311T205521Z
LAST-MODIFIED:20260311T205521Z
UID:55133-1781951400-1781956800@www.myepl.org
SUMMARY:WordPlay at the Jazz Fest
DESCRIPTION:WordPlay is an open-mic experience for poets\, songwriters and creatives of all types. This special Elkhart Jazz Festival morning event will be on the library’s indoor stage. Free to attend and open to all\, these events honor the late John Homan and carry on his creative legacy. 
URL:https://www.myepl.org/event/wordplay-at-the-jazz-fest/
LOCATION:Downtown Library\, 300 S. Second St.\, Elkhart\, IN\, 46516\, United States
CATEGORIES:Adult Programs,Just for Fun
ATTACH;FMTTYPE=image/jpeg:https://www.myepl.org/wp-content/uploads/2025/05/wordplay.jpg
END:VEVENT
BEGIN:VEVENT
DTSTART;TZID=America/Indiana/Indianapolis:20260622T153000
DTEND;TZID=America/Indiana/Indianapolis:20260622T170000
DTSTAMP:20260423T171916
CREATED:20260318T154136Z
LAST-MODIFIED:20260318T154136Z
UID:55548-1782142200-1782147600@www.myepl.org
SUMMARY:Fun in the Sun
DESCRIPTION:Bring the family to each branch for games\, free Kona Ice\, the Book Bus and a chance to claim your Summer Reading Challenge rewards. This program is supported by the Friends of EPL. \nJune 1 – Osolo\nJune 8 – Cleveland\nJune 15 – Pierre Moran\nJune 22 – Dunlap 
URL:https://www.myepl.org/event/fun-in-the-sun-5/
LOCATION:Dunlap Branch\, 58485 C.R. 13 East\, Elkhart\, IN\, 46516\, United States
CATEGORIES:Infant Programs,Just for Fun,Preschool Programs,School Age Programs,Summer Reading,Teen Programs
ATTACH;FMTTYPE=image/jpeg:https://www.myepl.org/wp-content/uploads/2026/03/Fun-in-the-Sun-PMB-04-scaled.jpg
END:VEVENT
BEGIN:VEVENT
DTSTART;TZID=America/Indiana/Indianapolis:20260626T100000
DTEND;TZID=America/Indiana/Indianapolis:20260626T111500
DTSTAMP:20260423T171916
CREATED:20260316T145545Z
LAST-MODIFIED:20260316T145545Z
UID:55330-1782468000-1782472500@www.myepl.org
SUMMARY:Patriotic Preschool Party
DESCRIPTION:Learn a little\, read a little\, move a little and make a little. Wear messy clothes and celebrate America’s birthday. 
URL:https://www.myepl.org/event/patriotic-preschool-party/
LOCATION:Dunlap Branch\, 58485 C.R. 13 East\, Elkhart\, IN\, 46516\, United States
CATEGORIES:Just for Fun,Preschool Programs
END:VEVENT
BEGIN:VEVENT
DTSTART;TZID=America/Indiana/Indianapolis:20260626T130000
DTEND;TZID=America/Indiana/Indianapolis:20260626T143000
DTSTAMP:20260423T171916
CREATED:20260316T161118Z
LAST-MODIFIED:20260316T161118Z
UID:55376-1782478800-1782484200@www.myepl.org
SUMMARY:Playground Games
DESCRIPTION:Join us for outdoor games like jump rope\, water balloon toss and more. Have fun with other kids and enjoy light refreshments.
URL:https://www.myepl.org/event/playground-games/
LOCATION:Downtown Library\, 300 S. Second St.\, Elkhart\, IN\, 46516\, United States
CATEGORIES:Just for Fun,School Age Programs
END:VEVENT
BEGIN:VEVENT
DTSTART;VALUE=DATE:20260629
DTEND;VALUE=DATE:20260630
DTSTAMP:20260423T171916
CREATED:20260320T151719Z
LAST-MODIFIED:20260320T151719Z
UID:55687-1782691200-1782777599@www.myepl.org
SUMMARY:Happy Birthday America Project
DESCRIPTION:Come by Cleveland to decorate and add a star to our collaborative art project. We’re kicking off the project with snacks\, while supplies last\, on Monday\, June 29.
URL:https://www.myepl.org/event/happy-birthday-america-project/2026-06-29/
LOCATION:Cleveland Branch\, 53715 C.R. 1\, Elkhart\, IN\, 46514\, United States
CATEGORIES:Art,Just for Fun
END:VEVENT
BEGIN:VEVENT
DTSTART;TZID=America/Indiana/Indianapolis:20260629T153000
DTEND;TZID=America/Indiana/Indianapolis:20260629T163000
DTSTAMP:20260423T171916
CREATED:20260318T195228Z
LAST-MODIFIED:20260318T195228Z
UID:55612-1782747000-1782750600@www.myepl.org
SUMMARY:Potawatomi Zoo to You
DESCRIPTION:See animal ambassadors from the zoo and learn about their features at this educational live presentation. Two sessions are available to serve more families. 
URL:https://www.myepl.org/event/potawatomi-zoo-to-you/2026-06-29/
LOCATION:Downtown Library\, 300 S. Second St.\, Elkhart\, IN\, 46516\, United States
CATEGORIES:Educational,Just for Fun
ATTACH;FMTTYPE=image/jpeg:https://www.myepl.org/wp-content/uploads/2025/06/IMG_3347-scaled.jpg
END:VEVENT
BEGIN:VEVENT
DTSTART;VALUE=DATE:20260630
DTEND;VALUE=DATE:20260701
DTSTAMP:20260423T171916
CREATED:20260320T151719Z
LAST-MODIFIED:20260320T151719Z
UID:55688-1782777600-1782863999@www.myepl.org
SUMMARY:Happy Birthday America Project
DESCRIPTION:Come by Cleveland to decorate and add a star to our collaborative art project. We’re kicking off the project with snacks\, while supplies last\, on Monday\, June 29.
URL:https://www.myepl.org/event/happy-birthday-america-project/2026-06-30/
LOCATION:Cleveland Branch\, 53715 C.R. 1\, Elkhart\, IN\, 46514\, United States
CATEGORIES:Art,Just for Fun
END:VEVENT
BEGIN:VEVENT
DTSTART;TZID=America/Indiana/Indianapolis:20260630T163000
DTEND;TZID=America/Indiana/Indianapolis:20260630T180000
DTSTAMP:20260423T171916
CREATED:20260316T161649Z
LAST-MODIFIED:20260316T161649Z
UID:55378-1782837000-1782842400@www.myepl.org
SUMMARY:One Piece Day
DESCRIPTION:Fans of One Piece\, or anyone who wants to be a pirate\, are welcome to dress up and join a scavenger hunt\, try axe throwing\, build a ship and much more. 
URL:https://www.myepl.org/event/one-piece-day/
LOCATION:Downtown Library\, 300 S. Second St.\, Elkhart\, IN\, 46516\, United States
CATEGORIES:Adult Programs,Just for Fun,Preschool Programs,School Age Programs,Teen Programs
END:VEVENT
BEGIN:VEVENT
DTSTART;VALUE=DATE:20260701
DTEND;VALUE=DATE:20260702
DTSTAMP:20260423T171916
CREATED:20260320T151719Z
LAST-MODIFIED:20260320T151719Z
UID:55689-1782864000-1782950399@www.myepl.org
SUMMARY:Happy Birthday America Project
DESCRIPTION:Come by Cleveland to decorate and add a star to our collaborative art project. We’re kicking off the project with snacks\, while supplies last\, on Monday\, June 29.
URL:https://www.myepl.org/event/happy-birthday-america-project/2026-07-01/
LOCATION:Cleveland Branch\, 53715 C.R. 1\, Elkhart\, IN\, 46514\, United States
CATEGORIES:Art,Just for Fun
END:VEVENT
BEGIN:VEVENT
DTSTART;TZID=America/Indiana/Indianapolis:20260701T163000
DTEND;TZID=America/Indiana/Indianapolis:20260701T180000
DTSTAMP:20260423T171916
CREATED:20260106T185444Z
LAST-MODIFIED:20260106T185444Z
UID:55513-1782923400-1782928800@www.myepl.org
SUMMARY:Adult Anime Club
DESCRIPTION:Watch and discuss anime\, make a craft and enjoy snacks.
URL:https://www.myepl.org/event/adult-anime-club/2026-07-01/
LOCATION:Downtown Library\, 300 S. Second St.\, Elkhart\, IN\, 46516\, United States
CATEGORIES:Adult Programs,Just for Fun
ATTACH;FMTTYPE=image/png:https://www.myepl.org/wp-content/uploads/2025/06/adultanimeclub_Calendar.png
END:VEVENT
BEGIN:VEVENT
DTSTART;VALUE=DATE:20260702
DTEND;VALUE=DATE:20260703
DTSTAMP:20260423T171916
CREATED:20260320T151719Z
LAST-MODIFIED:20260320T151719Z
UID:55690-1782950400-1783036799@www.myepl.org
SUMMARY:Happy Birthday America Project
DESCRIPTION:Come by Cleveland to decorate and add a star to our collaborative art project. We’re kicking off the project with snacks\, while supplies last\, on Monday\, June 29.
URL:https://www.myepl.org/event/happy-birthday-america-project/2026-07-02/
LOCATION:Cleveland Branch\, 53715 C.R. 1\, Elkhart\, IN\, 46514\, United States
CATEGORIES:Art,Just for Fun
END:VEVENT
BEGIN:VEVENT
DTSTART;TZID=America/Indiana/Indianapolis:20260702T153000
DTEND;TZID=America/Indiana/Indianapolis:20260702T163000
DTSTAMP:20260423T171916
CREATED:20230315T150933Z
LAST-MODIFIED:20230315T150933Z
UID:55149-1783006200-1783009800@www.myepl.org
SUMMARY:Osolo LEGO Club
DESCRIPTION:Build with our LEGOs at Osolo. Come in and we’ll challenge you to build something and share it with the group.
URL:https://www.myepl.org/event/osolo-lego-club/2026-07-02/
LOCATION:Osolo Branch\, 3429 E. Bristol St.\, Elkhart\, IN\, 46516\, United States
CATEGORIES:Just for Fun
ATTACH;FMTTYPE=image/jpeg:https://www.myepl.org/wp-content/uploads/2023/03/LEGO-Challenge.jpg
END:VEVENT
END:VCALENDAR