BEGIN:VCALENDAR
VERSION:2.0
PRODID:-//Elkhart Public Library - ECPv6.15.20//NONSGML v1.0//EN
CALSCALE:GREGORIAN
METHOD:PUBLISH
X-ORIGINAL-URL:https://www.myepl.org
X-WR-CALDESC:Events for Elkhart Public Library
REFRESH-INTERVAL;VALUE=DURATION:PT1H
X-Robots-Tag:noindex
X-PUBLISHED-TTL:PT1H
BEGIN:VTIMEZONE
TZID:America/Indiana/Indianapolis
BEGIN:DAYLIGHT
TZOFFSETFROM:-0500
TZOFFSETTO:-0400
TZNAME:EDT
DTSTART:20220313T070000
END:DAYLIGHT
BEGIN:STANDARD
TZOFFSETFROM:-0400
TZOFFSETTO:-0500
TZNAME:EST
DTSTART:20221106T060000
END:STANDARD
BEGIN:DAYLIGHT
TZOFFSETFROM:-0500
TZOFFSETTO:-0400
TZNAME:EDT
DTSTART:20230312T070000
END:DAYLIGHT
BEGIN:STANDARD
TZOFFSETFROM:-0400
TZOFFSETTO:-0500
TZNAME:EST
DTSTART:20231105T060000
END:STANDARD
BEGIN:DAYLIGHT
TZOFFSETFROM:-0500
TZOFFSETTO:-0400
TZNAME:EDT
DTSTART:20240310T070000
END:DAYLIGHT
BEGIN:STANDARD
TZOFFSETFROM:-0400
TZOFFSETTO:-0500
TZNAME:EST
DTSTART:20241103T060000
END:STANDARD
BEGIN:DAYLIGHT
TZOFFSETFROM:-0500
TZOFFSETTO:-0400
TZNAME:EDT
DTSTART:20250309T070000
END:DAYLIGHT
BEGIN:STANDARD
TZOFFSETFROM:-0400
TZOFFSETTO:-0500
TZNAME:EST
DTSTART:20251102T060000
END:STANDARD
END:VTIMEZONE
BEGIN:VEVENT
DTSTART;TZID=America/Indiana/Indianapolis:20240120T110000
DTEND;TZID=America/Indiana/Indianapolis:20240120T123000
DTSTAMP:20260421T114518
CREATED:20230928T204236Z
LAST-MODIFIED:20240105T143007Z
UID:40085-1705748400-1705753800@www.myepl.org
SUMMARY:Winter Fun Fest
DESCRIPTION:Winter-theme games\, snow stories and more to celebrate the wintery cold.
URL:https://www.myepl.org/event/winter-fun-fest/
LOCATION:Downtown Library\, 300 S. Second St.\, Elkhart\, IN\, 46516\, United States
CATEGORIES:Just for Fun
ATTACH;FMTTYPE=image/png:https://www.myepl.org/wp-content/uploads/2023/09/Winter-Fun-Fest_calendar.png
END:VEVENT
BEGIN:VEVENT
DTSTART;TZID=America/Indiana/Indianapolis:20240118T153000
DTEND;TZID=America/Indiana/Indianapolis:20240118T163000
DTSTAMP:20260421T114518
CREATED:20230925T193318Z
LAST-MODIFIED:20240105T150907Z
UID:39883-1705591800-1705595400@www.myepl.org
SUMMARY:After School Stories
DESCRIPTION:Relax after dismissal and enjoy stories and an activity.
URL:https://www.myepl.org/event/after-school-stories-2/
LOCATION:Osolo Branch\, 3429 E. Bristol St.\, Elkhart\, IN\, 46516\, United States
CATEGORIES:Just for Fun
ATTACH;FMTTYPE=image/png:https://www.myepl.org/wp-content/uploads/2023/09/afterschool-calendar.png
END:VEVENT
BEGIN:VEVENT
DTSTART;TZID=America/Indiana/Indianapolis:20240112T183000
DTEND;TZID=America/Indiana/Indianapolis:20240112T203000
DTSTAMP:20260421T114518
CREATED:20230922T174805Z
LAST-MODIFIED:20230922T174805Z
UID:39622-1705084200-1705091400@www.myepl.org
SUMMARY:Teen Lock In
DESCRIPTION:Spend the evening playing games\, making crafts and eating snacks. Wear comfy clothes and come hang out.
URL:https://www.myepl.org/event/teen-lock-in-2/
LOCATION:Downtown Library\, 300 S. Second St.\, Elkhart\, IN\, 46516\, United States
CATEGORIES:Just for Fun,Teen Programs
ATTACH;FMTTYPE=image/png:https://www.myepl.org/wp-content/uploads/2022/07/Calendar-Library-Lock-In-01.png
END:VEVENT
BEGIN:VEVENT
DTSTART;TZID=America/Indiana/Indianapolis:20240108T160000
DTEND;TZID=America/Indiana/Indianapolis:20240108T173000
DTSTAMP:20260421T114518
CREATED:20230929T173952Z
LAST-MODIFIED:20231218T193901Z
UID:40122-1704729600-1704735000@www.myepl.org
SUMMARY:Theater Camp
DESCRIPTION:(This event is full. Keep watching for more great activities.) \nJoin another fun theater camp with Miss Debbie. Learn the basics of theater and put on a performance for your friends and family. Rehearsals are Jan. 8 to 11 and 15 to 17 with a 6 p.m. performance on Jan. 18.
URL:https://www.myepl.org/event/theater-camp-2/
LOCATION:Dunlap Branch\, 58485 C.R. 13 East\, Elkhart\, IN\, 46516\, United States
CATEGORIES:Educational,Just for Fun
ATTACH;FMTTYPE=image/jpeg:https://www.myepl.org/wp-content/uploads/2023/03/received_6075275275820566.jpeg
END:VEVENT
BEGIN:VEVENT
DTSTART;TZID=America/Indiana/Indianapolis:20240104T163000
DTEND;TZID=America/Indiana/Indianapolis:20240104T173000
DTSTAMP:20260421T114518
CREATED:20230925T142236Z
LAST-MODIFIED:20231129T132548Z
UID:39716-1704385800-1704389400@www.myepl.org
SUMMARY:LEGO Sparks
DESCRIPTION:Bring movement to LEGO builds with coding\, motors and lights.  \nRegistration for this program opens Dec. 1.
URL:https://www.myepl.org/event/lego-sparks-5/
LOCATION:Downtown Library\, 300 S. Second St.\, Elkhart\, IN\, 46516\, United States
CATEGORIES:Just for Fun
ATTACH;FMTTYPE=image/jpeg:https://www.myepl.org/wp-content/uploads/2023/09/LEGO-Sparks.jpg
END:VEVENT
BEGIN:VEVENT
DTSTART;TZID=America/Indiana/Indianapolis:20240103T093000
DTEND;TZID=America/Indiana/Indianapolis:20240103T103000
DTSTAMP:20260421T114518
CREATED:20230925T200104Z
LAST-MODIFIED:20231211T185621Z
UID:39919-1704274200-1704277800@www.myepl.org
SUMMARY:Bedhead Morning
DESCRIPTION:Sleep in on winter break and then come in your pajamas for stories\, stretches and more. Bring a blanket and stuffed animal if you’d like.
URL:https://www.myepl.org/event/bedhead-morning-2/
LOCATION:Osolo Branch\, 3429 E. Bristol St.\, Elkhart\, IN\, 46516\, United States
CATEGORIES:Just for Fun
ATTACH;FMTTYPE=image/png:https://www.myepl.org/wp-content/uploads/2023/09/bedhead-morning-CALENDAR.png
END:VEVENT
BEGIN:VEVENT
DTSTART;TZID=America/Indiana/Indianapolis:20240102T163000
DTEND;TZID=America/Indiana/Indianapolis:20240102T180000
DTSTAMP:20260421T114518
CREATED:20230621T172139Z
LAST-MODIFIED:20240102T124625Z
UID:41418-1704213000-1704218400@www.myepl.org
SUMMARY:Moved to Jan. 9 - Teen Anime Club
DESCRIPTION:(This event will take place Jan. 9. We regret the error.) \nEnjoy anime and manga with other fans. We’ll share Japanese snacks and make crafts\, too.
URL:https://www.myepl.org/event/teen-anime-club-5-2024-01-02/
LOCATION:Downtown Library\, 300 S. Second St.\, Elkhart\, IN\, 46516\, United States
CATEGORIES:Just for Fun
ATTACH;FMTTYPE=image/png:https://www.myepl.org/wp-content/uploads/2021/09/Calendar-_-Anime-Club-01-1.png
END:VEVENT
BEGIN:VEVENT
DTSTART;TZID=America/Indiana/Indianapolis:20240102T090000
DTEND;TZID=America/Indiana/Indianapolis:20240102T190000
DTSTAMP:20260421T114518
CREATED:20230925T200830Z
LAST-MODIFIED:20231211T185254Z
UID:39921-1704186000-1704222000@www.myepl.org
SUMMARY:Winter Break Book Hunt
DESCRIPTION: Come in during open hours and pick up the list of clues and then find the books and pick out a prize. 
URL:https://www.myepl.org/event/winter-break-book-hunt/2024-01-02/
LOCATION:Osolo Branch\, 3429 E. Bristol St.\, Elkhart\, IN\, 46516\, United States
CATEGORIES:Just for Fun
ATTACH;FMTTYPE=image/png:https://www.myepl.org/wp-content/uploads/2023/09/winterbreak-bookhunt-CALENDAR.png
END:VEVENT
BEGIN:VEVENT
DTSTART;TZID=America/Indiana/Indianapolis:20231226T090000
DTEND;TZID=America/Indiana/Indianapolis:20231226T190000
DTSTAMP:20260421T114518
CREATED:20230925T130633Z
LAST-MODIFIED:20230925T130633Z
UID:39672-1703581200-1703617200@www.myepl.org
SUMMARY:Winter Break Boredom Busters
DESCRIPTION:Enjoy activities any time during open hours over winter break. Activities pause on Dec. 27 and Jan. 5 for Movies and Popcorn.
URL:https://www.myepl.org/event/winter-break-boredom-busters-2/2023-12-26/
LOCATION:Cleveland Branch\, 53715 C.R. 1\, Elkhart\, IN\, 46514\, United States
CATEGORIES:Crafts,Just for Fun
ATTACH;FMTTYPE=image/png:https://www.myepl.org/wp-content/uploads/2022/10/Winter-Break-Boredom-Busters-01.png
END:VEVENT
BEGIN:VEVENT
DTSTART;TZID=America/Indiana/Indianapolis:20231214T153000
DTEND;TZID=America/Indiana/Indianapolis:20231214T170000
DTSTAMP:20260421T114518
CREATED:20230925T201015Z
LAST-MODIFIED:20231206T153605Z
UID:39926-1702567800-1702573200@www.myepl.org
SUMMARY:Santa's Elf Workshop
DESCRIPTION:Come into Osolo between 3:30 and 5 p.m. to create holiday decorations. Dress as an elf\, if you want.
URL:https://www.myepl.org/event/santas-elf-workshop/
LOCATION:Osolo Branch\, 3429 E. Bristol St.\, Elkhart\, IN\, 46516\, United States
CATEGORIES:Crafts,Just for Fun
END:VEVENT
BEGIN:VEVENT
DTSTART;TZID=America/Indiana/Indianapolis:20231211T173000
DTEND;TZID=America/Indiana/Indianapolis:20231211T183000
DTSTAMP:20260421T114518
CREATED:20230928T213110Z
LAST-MODIFIED:20231205T191347Z
UID:40098-1702315800-1702319400@www.myepl.org
SUMMARY:Family Holiday BINGO
DESCRIPTION:Celebrate the season with your family and the fun of BINGO\, plus refreshments.
URL:https://www.myepl.org/event/family-holiday-bingo/
LOCATION:Dunlap Branch\, 58485 C.R. 13 East\, Elkhart\, IN\, 46516\, United States
CATEGORIES:Just for Fun
ATTACH;FMTTYPE=image/png:https://www.myepl.org/wp-content/uploads/2023/09/Family-Holiday-Bingo_calendar.png
END:VEVENT
BEGIN:VEVENT
DTSTART;TZID=America/Indiana/Indianapolis:20231209T100000
DTEND;TZID=America/Indiana/Indianapolis:20231209T140000
DTSTAMP:20260421T114518
CREATED:20230925T173933Z
LAST-MODIFIED:20231120T184258Z
UID:39873-1702116000-1702130400@www.myepl.org
SUMMARY:Fables and Festivities
DESCRIPTION:Local authors of children’s and teen books will be set up inside the library to sell their books. Talk to authors about their books and get some holiday shopping done\, Fables Books of Goshen will have a pop-up store\, too. Plus\, activities for kids. \nFor details on the writing contest\, click here.
URL:https://www.myepl.org/event/fables-and-festivities/
LOCATION:Downtown Library\, 300 S. Second St.\, Elkhart\, IN\, 46516\, United States
CATEGORIES:Author Visits,Book Sale,Just for Fun
ATTACH;FMTTYPE=image/png:https://www.myepl.org/wp-content/uploads/2023/09/Fables-and-Festivities-Digital-Materials_CALENDAR.png
END:VEVENT
BEGIN:VEVENT
DTSTART;TZID=America/Indiana/Indianapolis:20231207T163000
DTEND;TZID=America/Indiana/Indianapolis:20231207T173000
DTSTAMP:20260421T114518
CREATED:20230925T141926Z
LAST-MODIFIED:20231129T132305Z
UID:39712-1701966600-1701970200@www.myepl.org
SUMMARY:LEGO Sparks
DESCRIPTION:Bring movement to LEGO builds with coding\, motors and lights.  \nRegistration for this program opens Nov. 1.
URL:https://www.myepl.org/event/lego-sparks-4/
LOCATION:Downtown Library\, 300 S. Second St.\, Elkhart\, IN\, 46516\, United States
CATEGORIES:Just for Fun
ATTACH;FMTTYPE=image/jpeg:https://www.myepl.org/wp-content/uploads/2023/09/LEGO-Sparks.jpg
END:VEVENT
BEGIN:VEVENT
DTSTART;TZID=America/Indiana/Indianapolis:20231206T173000
DTEND;TZID=America/Indiana/Indianapolis:20231206T183000
DTSTAMP:20260421T114518
CREATED:20230927T185818Z
LAST-MODIFIED:20231120T203314Z
UID:39980-1701883800-1701887400@www.myepl.org
SUMMARY:Family Style Pottery: Ornament Decorating
DESCRIPTION:(This event is full. Keep watching for more great activities.) \nThe whole family will enjoy decorating an ornament with Christina from Hunny Pot Studio.
URL:https://www.myepl.org/event/family-style-pottery-ornament-decorating/
LOCATION:Downtown Library\, 300 S. Second St.\, Elkhart\, IN\, 46516\, United States
CATEGORIES:Crafts,Just for Fun
END:VEVENT
BEGIN:VEVENT
DTSTART;TZID=America/Indiana/Indianapolis:20231204T090000
DTEND;TZID=America/Indiana/Indianapolis:20231204T190000
DTSTAMP:20260421T114518
CREATED:20230925T201302Z
LAST-MODIFIED:20231128T185651Z
UID:39928-1701680400-1701716400@www.myepl.org
SUMMARY:Elf on the Shelf
DESCRIPTION:Come in any time the week of Dec. 4 to 8 to find the Elf on the Shelf in the children’s room. When you find him\, take one of his cards and get a sweet treat at the desk.
URL:https://www.myepl.org/event/elf-on-the-shelf/2023-12-04/
LOCATION:Osolo Branch\, 3429 E. Bristol St.\, Elkhart\, IN\, 46516\, United States
CATEGORIES:Just for Fun
END:VEVENT
BEGIN:VEVENT
DTSTART;TZID=America/Indiana/Indianapolis:20231204T090000
DTEND;TZID=America/Indiana/Indianapolis:20231204T150000
DTSTAMP:20260421T114518
CREATED:20231202T201651Z
LAST-MODIFIED:20231202T201651Z
UID:41044-1701680400-1701702000@www.myepl.org
SUMMARY:Do Good December
DESCRIPTION:All month long\, take the Kindness Challenge Bingo at the Dunlap Branch! Pick up your kindness calendar\, and once you finish a row\, put your name on a snowflake to decorate the library\, and get a treat.
URL:https://www.myepl.org/event/do-good-december/
LOCATION:Dunlap Branch\, 58485 C.R. 13 East\, Elkhart\, IN\, 46516\, United States
CATEGORIES:Just for Fun
ATTACH;FMTTYPE=image/png:https://www.myepl.org/wp-content/uploads/2023/12/do-good-december-calendar.png
END:VEVENT
BEGIN:VEVENT
DTSTART;TZID=America/Indiana/Indianapolis:20231202T160000
DTEND;TZID=America/Indiana/Indianapolis:20231202T163000
DTSTAMP:20260421T114518
CREATED:20230811T195718Z
LAST-MODIFIED:20230811T200317Z
UID:39148-1701532800-1701534600@www.myepl.org
SUMMARY:Page to Stage Performance
DESCRIPTION:Kids from kindergarten to second grade perform a play based on a couple of children’s books\, including “Where the Wild Things Are” and “Caps for Sale.” \nClick here for more information or to register.
URL:https://www.myepl.org/event/page-to-stage-performance/
LOCATION:Downtown Library\, 300 S. Second St.\, Elkhart\, IN\, 46516\, United States
CATEGORIES:Just for Fun
ATTACH;FMTTYPE=image/png:https://www.myepl.org/wp-content/uploads/2023/08/Page-to-Stage-�-Calendar.png
END:VEVENT
BEGIN:VEVENT
DTSTART;TZID=America/Indiana/Indianapolis:20231116T163000
DTEND;TZID=America/Indiana/Indianapolis:20231116T180000
DTSTAMP:20260421T114518
CREATED:20230928T164943Z
LAST-MODIFIED:20230928T164944Z
UID:40026-1700152200-1700157600@www.myepl.org
SUMMARY:Noche de Lotería
DESCRIPTION:La Sirena! La Luna! El Tambor! Come play lotería\, win prizes and munch on snacks.
URL:https://www.myepl.org/event/noche-de-loteria-4/2023-11-16/
LOCATION:Pierre Moran Branch\, 2400 Benham Ave\, Elkhart\, IN\, 46517\, United States
CATEGORIES:Just for Fun
ATTACH;FMTTYPE=image/png:https://www.myepl.org/wp-content/uploads/2023/01/Nocha-De-Loteria-Calendar.png
END:VEVENT
BEGIN:VEVENT
DTSTART;TZID=America/Indiana/Indianapolis:20231116T160000
DTEND;TZID=America/Indiana/Indianapolis:20231116T170000
DTSTAMP:20260421T114518
CREATED:20230926T130812Z
LAST-MODIFIED:20231031T160600Z
UID:39934-1700150400-1700154000@www.myepl.org
SUMMARY:Wheel of Prizes
DESCRIPTION:Teens will spin the wheel\, guess a letter and figure out the word. Enjoy snacks while we play and compete for prizes.
URL:https://www.myepl.org/event/wheel-of-prizes/
LOCATION:Osolo Branch\, 3429 E. Bristol St.\, Elkhart\, IN\, 46516\, United States
CATEGORIES:Just for Fun,Teen Programs
ATTACH;FMTTYPE=image/png:https://www.myepl.org/wp-content/uploads/2023/09/Tween-and-Teen-Prize-Wheel-Calendar.png
END:VEVENT
BEGIN:VEVENT
DTSTART;TZID=America/Indiana/Indianapolis:20231111T110000
DTEND;TZID=America/Indiana/Indianapolis:20231111T123000
DTSTAMP:20260421T114518
CREATED:20230926T132052Z
LAST-MODIFIED:20231031T160034Z
UID:39936-1699700400-1699705800@www.myepl.org
SUMMARY:How to Catch a Turkey
DESCRIPTION:Play turkey-themed games and then try to catch one for a prize. Plus stories about thankfulness and being a good friend.
URL:https://www.myepl.org/event/how-to-catch-a-turkey-2/
LOCATION:Downtown Library\, 300 S. Second St.\, Elkhart\, IN\, 46516\, United States
CATEGORIES:Just for Fun
ATTACH;FMTTYPE=image/png:https://www.myepl.org/wp-content/uploads/2023/09/How-to-Catch-a-Turkey_calendar-DOWNTOWN.png
END:VEVENT
BEGIN:VEVENT
DTSTART;TZID=America/Indiana/Indianapolis:20231109T163000
DTEND;TZID=America/Indiana/Indianapolis:20231109T173000
DTSTAMP:20260421T114518
CREATED:20230925T141711Z
LAST-MODIFIED:20231030T160609Z
UID:39707-1699547400-1699551000@www.myepl.org
SUMMARY:LEGO Sparks
DESCRIPTION:Bring movement to LEGO builds with coding\, motors and lights. \nRegistration for this program opens Oct. 1.
URL:https://www.myepl.org/event/lego-sparks-3/
LOCATION:Downtown Library\, 300 S. Second St.\, Elkhart\, IN\, 46516\, United States
CATEGORIES:Just for Fun
END:VEVENT
BEGIN:VEVENT
DTSTART;TZID=America/Indiana/Indianapolis:20231101T090000
DTEND;TZID=America/Indiana/Indianapolis:20231101T190000
DTSTAMP:20260421T114518
CREATED:20231025T204001Z
LAST-MODIFIED:20231025T204001Z
UID:40513-1698829200-1698865200@www.myepl.org
SUMMARY:Di-November
DESCRIPTION:Visit Dunlap Branch throughout November during open hours for a dinosaur scavenger hunt\, dinosaur rubbing and many dinosaur books to check out. Create a dinosaur and show a librarian for a prize!
URL:https://www.myepl.org/event/di-november/
LOCATION:Dunlap Branch\, 58485 C.R. 13 East\, Elkhart\, IN\, 46516\, United States
CATEGORIES:Educational,Just for Fun
ATTACH;FMTTYPE=image/png:https://www.myepl.org/wp-content/uploads/2022/10/DiNovember-Calendar.png
END:VEVENT
BEGIN:VEVENT
DTSTART;TZID=America/Indiana/Indianapolis:20231031T100000
DTEND;TZID=America/Indiana/Indianapolis:20231031T110000
DTSTAMP:20260421T114518
CREATED:20230621T170933Z
LAST-MODIFIED:20230621T170934Z
UID:37258-1698746400-1698750000@www.myepl.org
SUMMARY:Halloween Parade
DESCRIPTION:Costumes\, music\, a craft and more are part of the preschool-age celebration that finishes with a parade around the library to collect candy.
URL:https://www.myepl.org/event/halloween-parade-4/
LOCATION:Downtown Library\, 300 S. Second St.\, Elkhart\, IN\, 46516\, United States
CATEGORIES:Just for Fun
ATTACH;FMTTYPE=image/jpeg:https://www.myepl.org/wp-content/uploads/2023/06/Halloween-Parade-05-scaled.jpg
END:VEVENT
BEGIN:VEVENT
DTSTART;TZID=America/Indiana/Indianapolis:20231027T150000
DTEND;TZID=America/Indiana/Indianapolis:20231027T170000
DTSTAMP:20260421T114518
CREATED:20230623T163124Z
LAST-MODIFIED:20230623T163125Z
UID:37331-1698418800-1698426000@www.myepl.org
SUMMARY:Halloween Party
DESCRIPTION:Come in your costume for a monster mash of games\, crafts and more. 
URL:https://www.myepl.org/event/halloween-party-4/
LOCATION:Downtown Library\, 300 S. Second St.\, Elkhart\, IN\, 46516\, United States
CATEGORIES:Just for Fun
ATTACH;FMTTYPE=image/jpeg:https://www.myepl.org/wp-content/uploads/2023/06/Halloween-Party-09-scaled.jpg
END:VEVENT
BEGIN:VEVENT
DTSTART;TZID=America/Indiana/Indianapolis:20231020T180000
DTEND;TZID=America/Indiana/Indianapolis:20231020T200000
DTSTAMP:20260421T114518
CREATED:20230707T171230Z
LAST-MODIFIED:20231019T220925Z
UID:37555-1697824800-1697832000@www.myepl.org
SUMMARY:CANCELLED: Teen and Young Adult Board Game Night
DESCRIPTION:(Due to unforeseen circumstances\, this event has been cancelled.)  \nEnjoy an after-hours game night with food. Bring your own board game or enjoy ours.
URL:https://www.myepl.org/event/teen-and-young-adult-board-game-night/
LOCATION:Dunlap Branch\, 58485 C.R. 13 East\, Elkhart\, IN\, 46516\, United States
CATEGORIES:Just for Fun
ATTACH;FMTTYPE=image/png:https://www.myepl.org/wp-content/uploads/2023/07/Teen-and-Young-Adult-Board-Game-Night-Calendar.png
END:VEVENT
BEGIN:VEVENT
DTSTART;TZID=America/Indiana/Indianapolis:20231019T160000
DTEND;TZID=America/Indiana/Indianapolis:20231019T183000
DTSTAMP:20260421T114518
CREATED:20230707T163410Z
LAST-MODIFIED:20231010T132004Z
UID:37545-1697731200-1697740200@www.myepl.org
SUMMARY:Halloween Party at Pierre Moran
DESCRIPTION:Families are invited to come in costume for face painting\, games\, snacks\, stories and trick-or-treating around the library.
URL:https://www.myepl.org/event/halloween-party-at-pierre-moran/
LOCATION:Pierre Moran Branch\, 2400 Benham Ave\, Elkhart\, IN\, 46517\, United States
CATEGORIES:Just for Fun
ATTACH;FMTTYPE=image/jpeg:https://www.myepl.org/wp-content/uploads/2023/07/Halloween-Party-22-scaled.jpg
END:VEVENT
BEGIN:VEVENT
DTSTART;TZID=America/Indiana/Indianapolis:20231017T100000
DTEND;TZID=America/Indiana/Indianapolis:20231017T110000
DTSTAMP:20260421T114518
CREATED:20230621T154013Z
LAST-MODIFIED:20230621T154300Z
UID:37233-1697536800-1697540400@www.myepl.org
SUMMARY:Spidey and His Amazing Friends Preschool Party
DESCRIPTION:The amazing Spidey and his friends set the theme for activities\, stories and games.
URL:https://www.myepl.org/event/spidey-and-his-amazing-friends-preschool-party/
LOCATION:Downtown Library\, 300 S. Second St.\, Elkhart\, IN\, 46516\, United States
CATEGORIES:Just for Fun,Storytimes
ATTACH;FMTTYPE=image/jpeg:https://www.myepl.org/wp-content/uploads/2023/06/spidey.jpeg
END:VEVENT
BEGIN:VEVENT
DTSTART;TZID=America/Indiana/Indianapolis:20231016T160000
DTEND;TZID=America/Indiana/Indianapolis:20231016T180000
DTSTAMP:20260421T114518
CREATED:20230622T123307Z
LAST-MODIFIED:20231012T123543Z
UID:37319-1697472000-1697479200@www.myepl.org
SUMMARY:Mario Kart Tournament
DESCRIPTION:Bring your Mario Kart skills to compete in a bracket-style tournament and try to take home the top prize. We’ll have snacks between races. Brackets will be for ages 6 to 9 and ages 10 to 12.
URL:https://www.myepl.org/event/mario-kart-tournament/
LOCATION:Downtown Library\, 300 S. Second St.\, Elkhart\, IN\, 46516\, United States
CATEGORIES:Just for Fun
ATTACH;FMTTYPE=image/png:https://www.myepl.org/wp-content/uploads/2023/06/Mario-Kart-Tournament-Calendar.png
END:VEVENT
BEGIN:VEVENT
DTSTART;TZID=America/Indiana/Indianapolis:20231005T163000
DTEND;TZID=America/Indiana/Indianapolis:20231005T173000
DTSTAMP:20260421T114518
CREATED:20230711T142710Z
LAST-MODIFIED:20230928T173232Z
UID:37689-1696523400-1696527000@www.myepl.org
SUMMARY:LEGO Sparks
DESCRIPTION:Create a moving device using LEGO Sparks. A great hands-on STEM activity for kids ages 9 and up. \nRegistration for this event opens Sept. 1.
URL:https://www.myepl.org/event/lego-sparks-2/
LOCATION:Downtown Library\, 300 S. Second St.\, Elkhart\, IN\, 46516\, United States
CATEGORIES:Just for Fun
END:VEVENT
BEGIN:VEVENT
DTSTART;TZID=America/Indiana/Indianapolis:20230928T180000
DTEND;TZID=America/Indiana/Indianapolis:20230928T193000
DTSTAMP:20260421T114518
CREATED:20230621T180715Z
LAST-MODIFIED:20230815T185710Z
UID:37279-1695924000-1695929400@www.myepl.org
SUMMARY:Page to Stage
DESCRIPTION:Third-to-fifth graders\, with help from local actor and improv expert Julie Cotton\, will read a book from a local author and create a play based on it. Premier Arts theater ambassadors will help the kids rehearse. Rehearsals will be Monday to Thursday and the performance on Thursday\, Sept. 28 at 6 p.m. during ArtWalk. \nClick here to register for this program.
URL:https://www.myepl.org/event/page-to-stage-2-2023-09-28/
LOCATION:Downtown Library\, 300 S. Second St.\, Elkhart\, IN\, 46516\, United States
CATEGORIES:Just for Fun
ATTACH;FMTTYPE=image/png:https://www.myepl.org/wp-content/uploads/2023/08/Page-to-Stage-�-Calendar.png
END:VEVENT
END:VCALENDAR