BEGIN:VCALENDAR
VERSION:2.0
PRODID:-//Elkhart Public Library - ECPv6.15.20//NONSGML v1.0//EN
CALSCALE:GREGORIAN
METHOD:PUBLISH
X-ORIGINAL-URL:https://www.myepl.org
X-WR-CALDESC:Events for Elkhart Public Library
REFRESH-INTERVAL;VALUE=DURATION:PT1H
X-Robots-Tag:noindex
X-PUBLISHED-TTL:PT1H
BEGIN:VTIMEZONE
TZID:America/Indiana/Indianapolis
BEGIN:DAYLIGHT
TZOFFSETFROM:-0500
TZOFFSETTO:-0400
TZNAME:EDT
DTSTART:20220313T070000
END:DAYLIGHT
BEGIN:STANDARD
TZOFFSETFROM:-0400
TZOFFSETTO:-0500
TZNAME:EST
DTSTART:20221106T060000
END:STANDARD
BEGIN:DAYLIGHT
TZOFFSETFROM:-0500
TZOFFSETTO:-0400
TZNAME:EDT
DTSTART:20230312T070000
END:DAYLIGHT
BEGIN:STANDARD
TZOFFSETFROM:-0400
TZOFFSETTO:-0500
TZNAME:EST
DTSTART:20231105T060000
END:STANDARD
BEGIN:DAYLIGHT
TZOFFSETFROM:-0500
TZOFFSETTO:-0400
TZNAME:EDT
DTSTART:20240310T070000
END:DAYLIGHT
BEGIN:STANDARD
TZOFFSETFROM:-0400
TZOFFSETTO:-0500
TZNAME:EST
DTSTART:20241103T060000
END:STANDARD
END:VTIMEZONE
BEGIN:VEVENT
DTSTART;TZID=America/Indiana/Indianapolis:20230916T100000
DTEND;TZID=America/Indiana/Indianapolis:20230916T140000
DTSTAMP:20260422T011936
CREATED:20230621T184736Z
LAST-MODIFIED:20230809T141750Z
UID:37287-1694858400-1694872800@www.myepl.org
SUMMARY:Escape Minecraft
DESCRIPTION:Escape from Minecraft using the crafting and survival skills you have. Put together an all-ages team of two to six players and call the Children’s desk at 574.522.2223 to reserve your 30-minute time slot.
URL:https://www.myepl.org/event/escape-minecraft/2023-09-16/
LOCATION:Downtown Library\, 300 S. Second St.\, Elkhart\, IN\, 46516\, United States
CATEGORIES:Just for Fun
END:VEVENT
BEGIN:VEVENT
DTSTART;TZID=America/Indiana/Indianapolis:20230915T190000
DTEND;TZID=America/Indiana/Indianapolis:20230915T233000
DTSTAMP:20260422T011936
CREATED:20230809T174828Z
LAST-MODIFIED:20230809T174829Z
UID:39116-1694804400-1694820600@www.myepl.org
SUMMARY:Curbside Concerts: Rica Obsesion\, Los Ortega\, Grupo Renacer
DESCRIPTION:The fall finale of Curbside Concerts will rock late into the night.\n\nRica Obsesion from Chicago – an Elkhart Jazz Fest main stage favorite – will take the stage at 10 p.m. Friday\, Sept. 15\, to cap a night of tremendous Latin music. Grupo Renacer will open at 7 p.m.\, followed by Los Ortega at about 8:15. Come ready to dance and celebrate.\n\nLas Patronas and Hotdogeddy’s will sell food\, and our beverage tent will be set up. Bring camp chairs or blanket and enjoy the show.\n\nThese concerts on the roof of the downtown library are powered by AEP and Well Crafted with the support of Experience Elkhart County\, Indiana.\n\nFor the whole series schedule\, visit MyEPL.org/curbside
URL:https://www.myepl.org/event/curbside-concerts-rica-obsesion-los-ortega-grupo-renacer/
LOCATION:Downtown Library\, 300 S. Second St.\, Elkhart\, IN\, 46516\, United States
CATEGORIES:Featured,Just for Fun,Music
ATTACH;FMTTYPE=image/jpeg:https://www.myepl.org/wp-content/uploads/2023/08/Rico-Obsesion-14-scaled.jpg
END:VEVENT
BEGIN:VEVENT
DTSTART;TZID=America/Indiana/Indianapolis:20230915T120000
DTEND;TZID=America/Indiana/Indianapolis:20230915T170000
DTSTAMP:20260422T011936
CREATED:20230901T142025Z
LAST-MODIFIED:20230905T151928Z
UID:39335-1694779200-1694797200@www.myepl.org
SUMMARY:Mercado Day
DESCRIPTION:Trae a la familia a una tarde de arte\, vendedores locales\, camiones de comida como Hotdogeddy’s y la Heladería Tropicana y mucho más durante un mercado para celebrar el Mes de la Herencia Hispana el 15 de Septiembre de mediodía a las 5pm. No te pierdas el concierto gratis a las 7 de la noche\, con el Grupo Renacer\, Los Ortega y Rica Obsesión.\n\n\nLos vendedores son Mina’s Designs\, Aspeitia Damien Candle\, Yeliz Creations\, Essence Aurelina Spa Loro Verde Imports\, y mas. Los artistas locales exponen sus obras dentro de la biblioteca y también hay juegos de lotería.\nBring the family to an afternoon of art\, local vendors\, food trucks like Hotdogeddy’s and Tropicana Ice Cream Shop and more during a market to celebrate Hispanic Heritage Month. Hang around for the free Curbside Concert at 7 p.m. with Grupo Renacer\, Los Ortega and Rica Obsesion. \nVendors include Mina’s Designs\, Aspeitia Damien Candle\, Yeliz Creations\, Essence Aurelina Spa\, Loro Verde Imports. Local artists show their work inside the library and games of lotería\, too.
URL:https://www.myepl.org/event/mercado-day/
LOCATION:Downtown Library\, 300 S. Second St.\, Elkhart\, IN\, 46516\, United States
CATEGORIES:Just for Fun
ATTACH;FMTTYPE=image/png:https://www.myepl.org/wp-content/uploads/2023/09/Mercado-Day-Calendar.png
END:VEVENT
BEGIN:VEVENT
DTSTART;TZID=America/Indiana/Indianapolis:20230912T100000
DTEND;TZID=America/Indiana/Indianapolis:20230912T110000
DTSTAMP:20260422T011936
CREATED:20230621T145120Z
LAST-MODIFIED:20230621T145120Z
UID:37217-1694512800-1694516400@www.myepl.org
SUMMARY:Cocomelon Preschool Party
DESCRIPTION:Sing and play along to Cocomelon songs. We’ll make a special craft and focus on our colors.
URL:https://www.myepl.org/event/cocomelon-preschool-party/
LOCATION:Downtown Library\, 300 S. Second St.\, Elkhart\, IN\, 46516\, United States
CATEGORIES:Just for Fun
ATTACH;FMTTYPE=image/webp:https://www.myepl.org/wp-content/uploads/2023/06/cocomelon.webp
END:VEVENT
BEGIN:VEVENT
DTSTART;TZID=America/Indiana/Indianapolis:20230908T190000
DTEND;TZID=America/Indiana/Indianapolis:20230908T213000
DTSTAMP:20260422T011936
CREATED:20230809T174832Z
LAST-MODIFIED:20230810T145559Z
UID:39115-1694199600-1694208600@www.myepl.org
SUMMARY:Curbside Concerts: SPACESHIPS wsg SHAM
DESCRIPTION:CAPS LOCK IS NOT NECESSARY ALL THE TIME. THIS NEEDS TO BE ONE OF THOSE EXCEPTIONS.\n\nSPACESHIPS and SHAM are two bands from South Bend you need to see. THAT GUYS GOURMET RIBS will be on the scene.\n\nAs the opener at 7pm\, SHAM gives off vibes as the wig-headed merchild of Nirvana & the B-52s. Taking the stage about 8:15\, SPACESHIPS delivers a soaring post-gaze dream metal sound.\n\nThese concerts with BANDS ON THE ROOF of the downtown library are powered by AEP and WELL CRAFTED with the support of Experience Elkhart County\, Indiana. Bring CAMP CHAIRS or a blanket and ENJOY THE SHOW.\n\nFor the whole series schedule\, visit MyEPL.org/curbside.
URL:https://www.myepl.org/event/curbside-concerts-spaceships-wsg-sham/
LOCATION:Downtown Library\, 300 S. Second St.\, Elkhart\, IN\, 46516\, United States
CATEGORIES:Featured,Just for Fun,Music
ATTACH;FMTTYPE=image/jpeg:https://www.myepl.org/wp-content/uploads/2023/08/space1-e1691603040285.jpg
END:VEVENT
BEGIN:VEVENT
DTSTART;TZID=America/Indiana/Indianapolis:20230907T163000
DTEND;TZID=America/Indiana/Indianapolis:20230907T173000
DTSTAMP:20260422T011936
CREATED:20230711T142540Z
LAST-MODIFIED:20230831T143257Z
UID:37685-1694104200-1694107800@www.myepl.org
SUMMARY:LEGO Sparks
DESCRIPTION:(This event is full. Keep watching for more great activities.) \nCreate a moving device using LEGO Sparks. A great hands-on STEM activity for kids ages 9 and up.
URL:https://www.myepl.org/event/lego-sparks/
LOCATION:Downtown Library\, 300 S. Second St.\, Elkhart\, IN\, 46516\, United States
CATEGORIES:Just for Fun
ATTACH;FMTTYPE=image/jpeg:https://www.myepl.org/wp-content/uploads/2023/07/Cleveland-LEGO-02-scaled.jpg
END:VEVENT
BEGIN:VEVENT
DTSTART;TZID=America/Indiana/Indianapolis:20230905T140000
DTEND;TZID=America/Indiana/Indianapolis:20230905T183000
DTSTAMP:20260422T011936
CREATED:20230707T160938Z
LAST-MODIFIED:20230707T160955Z
UID:37534-1693922400-1693938600@www.myepl.org
SUMMARY:D&D at PMB
DESCRIPTION:Whether you’re wanting to learn to play Dungeons and Dragons or are already experienced\, embark on our epic 8-week campaign.  \nRegistration for this series opens Aug. 1. Registration is for all event dates.
URL:https://www.myepl.org/event/dd-at-pmb-3/
LOCATION:Pierre Moran Branch\, 2400 Benham Ave\, Elkhart\, IN\, 46517\, United States
CATEGORIES:Just for Fun
ATTACH;FMTTYPE=image/png:https://www.myepl.org/wp-content/uploads/2023/04/DD-at-PMB-Calendar.png
END:VEVENT
BEGIN:VEVENT
DTSTART;TZID=America/Indiana/Indianapolis:20230901T190000
DTEND;TZID=America/Indiana/Indianapolis:20230901T213000
DTSTAMP:20260422T011936
CREATED:20230809T174837Z
LAST-MODIFIED:20230809T174838Z
UID:39114-1693594800-1693603800@www.myepl.org
SUMMARY:Curbside Concerts: Quite Frank Lee
DESCRIPTION:Quite Frank Lee takes the stage during the second week of our fall Curbside Concerts. This local band plays everything from Del Shannon and Paul Simon to Ryan Adams and The Civil Wars\, with some originals thrown in.\n\nPinyo’s Kitchen food truck will be on hand\, and our beverage tent will be set up. Bring a camp chair or blanket and enjoy the show.\n\nThese concerts on the roof of the downtown library are powered by AEP and Well Crafted with the support of Experience Elkhart County\, Indiana.\n\nFor the whole series schedule\, visit MyEPL.org/curbside
URL:https://www.myepl.org/event/curbside-concerts-quite-frank-lee/
LOCATION:Downtown Library\, 300 S. Second St.\, Elkhart\, IN\, 46516\, United States
CATEGORIES:Featured,Just for Fun,Music
ATTACH;FMTTYPE=image/jpeg:https://www.myepl.org/wp-content/uploads/2023/08/quitefranklee.jpg
END:VEVENT
BEGIN:VEVENT
DTSTART;TZID=America/Indiana/Indianapolis:20230831T153000
DTEND;TZID=America/Indiana/Indianapolis:20230831T170000
DTSTAMP:20260422T011937
CREATED:20230818T203628Z
LAST-MODIFIED:20230818T203629Z
UID:39219-1693495800-1693501200@www.myepl.org
SUMMARY:Tie-Dye T-Shirts
DESCRIPTION:Join us outside Osolo to create a tie-dye shirt! All shirts are free. Bring your own or we’ll have you S to L and adult M to XL. \nIf it rains\, it’s canceled.
URL:https://www.myepl.org/event/tie-dye-t-shirts/
LOCATION:Osolo Branch\, 3429 E. Bristol St.\, Elkhart\, IN\, 46516\, United States
CATEGORIES:Crafts,Just for Fun
ATTACH;FMTTYPE=image/jpeg:https://www.myepl.org/wp-content/uploads/2019/03/Tie-Dye-09.jpg
END:VEVENT
BEGIN:VEVENT
DTSTART;TZID=America/Indiana/Indianapolis:20230831T100000
DTEND;TZID=America/Indiana/Indianapolis:20230831T110000
DTSTAMP:20260422T011937
CREATED:20230621T154815Z
LAST-MODIFIED:20230621T154816Z
UID:37238-1693476000-1693479600@www.myepl.org
SUMMARY:Preschool Playdate
DESCRIPTION:Join an informal playtime with lots of activity stations for little ones to try. Music\, bubbles\, playdough and more are part of the fun.
URL:https://www.myepl.org/event/preschool-playdate/
LOCATION:Downtown Library\, 300 S. Second St.\, Elkhart\, IN\, 46516\, United States
CATEGORIES:Just for Fun
ATTACH;FMTTYPE=image/jpeg:https://www.myepl.org/wp-content/uploads/2023/06/Baby-and-Me-12-scaled.jpg
END:VEVENT
BEGIN:VEVENT
DTSTART;TZID=America/Indiana/Indianapolis:20230825T190000
DTEND;TZID=America/Indiana/Indianapolis:20230825T213000
DTSTAMP:20260422T011937
CREATED:20230809T174843Z
LAST-MODIFIED:20230809T174844Z
UID:39113-1692990000-1692999000@www.myepl.org
SUMMARY:Curbside Concerts: Paul Erdman Trio
DESCRIPTION:Paul Erdman kicks off our fall series of free Curbside Concerts. Hotdogeddy’s and our beverage tent will be set up – bring a camp chair or blanket and enjoy the show.\n\nThese concerts on the roof of the downtown library are powered by AEP and Well Crafted with the support of Experience Elkhart County\, Indiana.\n\nFor the whole series schedule\, visit MyEPL.org/curbside
URL:https://www.myepl.org/event/curbside-concerts-paul-erdman-trio/
LOCATION:Downtown Library\, 300 S. Second St.\, Elkhart\, IN\, 46516\, United States
CATEGORIES:Featured,Just for Fun,Music
ATTACH;FMTTYPE=image/jpeg:https://www.myepl.org/wp-content/uploads/2023/08/paule-scaled-e1691602473852.jpg
END:VEVENT
BEGIN:VEVENT
DTSTART;TZID=America/Indiana/Indianapolis:20230824T170000
DTEND;TZID=America/Indiana/Indianapolis:20230824T183000
DTSTAMP:20260422T011937
CREATED:20230621T151333Z
LAST-MODIFIED:20230621T151800Z
UID:37225-1692896400-1692901800@www.myepl.org
SUMMARY:Puzzle Competition
DESCRIPTION:Gather a team of two to four people and race to complete a puzzle. Teams will all go home with a puzzle of their own.
URL:https://www.myepl.org/event/puzzle-competition/
LOCATION:Downtown Library\, 300 S. Second St.\, Elkhart\, IN\, 46516\, United States
CATEGORIES:Just for Fun
ATTACH;FMTTYPE=image/jpeg:https://www.myepl.org/wp-content/uploads/2023/06/Puzzles.jpg
END:VEVENT
BEGIN:VEVENT
DTSTART;TZID=America/Indiana/Indianapolis:20230823T100000
DTEND;TZID=America/Indiana/Indianapolis:20230823T110000
DTSTAMP:20260422T011937
CREATED:20230621T193901Z
LAST-MODIFIED:20230807T184921Z
UID:37302-1692784800-1692788400@www.myepl.org
SUMMARY:Baby Play Day
DESCRIPTION:Bring your little one to the library to play with other babies. We will have baby-safe sensory explorations and many different play activities just right for little ones under the age of 2.
URL:https://www.myepl.org/event/baby-play-day-2/
LOCATION:Downtown Library\, 300 S. Second St.\, Elkhart\, IN\, 46516\, United States
CATEGORIES:Infant Programs,Just for Fun
ATTACH;FMTTYPE=image/jpeg:https://www.myepl.org/wp-content/uploads/2023/06/Baby-and-Me-05-scaled.jpg
END:VEVENT
BEGIN:VEVENT
DTSTART;TZID=America/Indiana/Indianapolis:20230810T160000
DTEND;TZID=America/Indiana/Indianapolis:20230810T173000
DTSTAMP:20260422T011937
CREATED:20230727T130843Z
LAST-MODIFIED:20230727T130844Z
UID:37742-1691683200-1691688600@www.myepl.org
SUMMARY:Tie Dye Party
DESCRIPTION:Bring your own shirt or we’ll have limited supplies of shirts available for tie-dying in the library parking lot.
URL:https://www.myepl.org/event/tie-dye-party/
LOCATION:Downtown Library\, 300 S. Second St.\, Elkhart\, IN\, 46516\, United States
CATEGORIES:Just for Fun
ATTACH;FMTTYPE=image/jpeg:https://www.myepl.org/wp-content/uploads/2019/03/Tie-Dye-09.jpg
END:VEVENT
BEGIN:VEVENT
DTSTART;TZID=America/Indiana/Indianapolis:20230810T150000
DTEND;TZID=America/Indiana/Indianapolis:20230810T160000
DTSTAMP:20260422T011937
CREATED:20230621T173743Z
LAST-MODIFIED:20230621T173744Z
UID:37265-1691679600-1691683200@www.myepl.org
SUMMARY:End of Summer Bingo
DESCRIPTION:Finish the summer break with games of bingo and a chance to take home a book or small prize.
URL:https://www.myepl.org/event/end-of-summer-bingo/
LOCATION:Downtown Library\, 300 S. Second St.\, Elkhart\, IN\, 46516\, United States
CATEGORIES:Just for Fun
ATTACH;FMTTYPE=image/jpeg:https://www.myepl.org/wp-content/uploads/2023/04/Bingo.jpg
END:VEVENT
BEGIN:VEVENT
DTSTART;TZID=America/Indiana/Indianapolis:20230809T163000
DTEND;TZID=America/Indiana/Indianapolis:20230809T180000
DTSTAMP:20260422T011937
CREATED:20230626T184313Z
LAST-MODIFIED:20230626T184313Z
UID:37357-1691598600-1691604000@www.myepl.org
SUMMARY:Teen Clown Day
DESCRIPTION:Clown around with other teens and learn to make balloon animals and how to juggle.
URL:https://www.myepl.org/event/teen-clown-day/
LOCATION:Downtown Library\, 300 S. Second St.\, Elkhart\, IN\, 46516\, United States
CATEGORIES:Just for Fun
END:VEVENT
BEGIN:VEVENT
DTSTART;TZID=America/Indiana/Indianapolis:20230804T090000
DTEND;TZID=America/Indiana/Indianapolis:20230804T180000
DTSTAMP:20260422T011937
CREATED:20230630T131310Z
LAST-MODIFIED:20230630T131310Z
UID:37394-1691139600-1691172000@www.myepl.org
SUMMARY:Teenage Mutant Ninja Turtles Day
DESCRIPTION:Celebrate all things TMNT with games\, activities and more throughout the Downtown library\, available all day during open hours.
URL:https://www.myepl.org/event/teenage-mutant-ninja-turtles-day/
LOCATION:Downtown Library\, 300 S. Second St.\, Elkhart\, IN\, 46516\, United States
CATEGORIES:Just for Fun
ATTACH;FMTTYPE=image/webp:https://www.myepl.org/wp-content/uploads/2023/06/teenage-mutant-ninja-turtles-ninja-mayhem.webp
END:VEVENT
BEGIN:VEVENT
DTSTART;TZID=America/Indiana/Indianapolis:20230727T163000
DTEND;TZID=America/Indiana/Indianapolis:20230727T173000
DTSTAMP:20260422T011937
CREATED:20230331T122821Z
LAST-MODIFIED:20230331T122821Z
UID:35851-1690475400-1690479000@www.myepl.org
SUMMARY:Teen DIY Faux Stained Glass
DESCRIPTION:Bring color and light into your space with some gorgeous faux stained glass.
URL:https://www.myepl.org/event/teen-diy-faux-stained-glass-2/
LOCATION:Downtown Library\, 300 S. Second St.\, Elkhart\, IN\, 46516\, United States
CATEGORIES:Crafts,Just for Fun
END:VEVENT
BEGIN:VEVENT
DTSTART;TZID=America/Indiana/Indianapolis:20230720T150000
DTEND;TZID=America/Indiana/Indianapolis:20230720T180000
DTSTAMP:20260422T011937
CREATED:20230629T143123Z
LAST-MODIFIED:20230629T143124Z
UID:37380-1689865200-1689876000@www.myepl.org
SUMMARY:Summer Reading Prize Party
DESCRIPTION:We celebrate Summer Reading with games\, activities\, a bounce house and Summer Reading winners. Check back and stay tuned to our Facebook Page for more details.
URL:https://www.myepl.org/event/summer-reading-prize-party/
LOCATION:Kardzhali Park\, 303 Nibco Pkwy\, Elkhart\, IN\, 46516\, United States
CATEGORIES:Just for Fun,Summer Reading
ATTACH;FMTTYPE=image/jpeg:https://www.myepl.org/wp-content/uploads/2023/06/Summer-Reading-End-Party-32-scaled.jpg
END:VEVENT
BEGIN:VEVENT
DTSTART;TZID=America/Indiana/Indianapolis:20230720T150000
DTEND;TZID=America/Indiana/Indianapolis:20230720T180000
DTSTAMP:20260422T011937
CREATED:20230403T210409Z
LAST-MODIFIED:20230713T124309Z
UID:36055-1689865200-1689876000@www.myepl.org
SUMMARY:Noche de Lotería
DESCRIPTION:This event will now be part of the Summer Reading Prize Party! Join us at Kardzhali Park for lotería! \nLa Sirena! La Luna! El Tambor! Come play Lotería\, win prizes and munch on snacks.
URL:https://www.myepl.org/event/noche-de-loteria-2-2023-07-20/
LOCATION:Kardzhali Park\, 303 Nibco Pkwy\, Elkhart\, IN\, 46516\, United States
CATEGORIES:Just for Fun
ATTACH;FMTTYPE=image/png:https://www.myepl.org/wp-content/uploads/2023/01/Nocha-De-Loteria-Calendar.png
END:VEVENT
BEGIN:VEVENT
DTSTART;TZID=America/Indiana/Indianapolis:20230719T163000
DTEND;TZID=America/Indiana/Indianapolis:20230719T180000
DTSTAMP:20260422T011937
CREATED:20230315T135618Z
LAST-MODIFIED:20230315T135618Z
UID:35635-1689784200-1689789600@www.myepl.org
SUMMARY:Teen Temporary Tattoos
DESCRIPTION:Before you get that tattoo\, try out where you want it and what you want by designing your own temporary tattoo.
URL:https://www.myepl.org/event/teen-temporary-tattoos/
LOCATION:Downtown Library\, 300 S. Second St.\, Elkhart\, IN\, 46516\, United States
CATEGORIES:Just for Fun
END:VEVENT
BEGIN:VEVENT
DTSTART;TZID=America/Indiana/Indianapolis:20230719T153000
DTEND;TZID=America/Indiana/Indianapolis:20230719T163000
DTSTAMP:20260422T011937
CREATED:20230331T192441Z
LAST-MODIFIED:20230629T210209Z
UID:35884-1689780600-1689784200@www.myepl.org
SUMMARY:Return to Camp Read-A-Lot
DESCRIPTION:Return to Camp Read-A-Lot for another round of stories and songs around the campfire\, arts and crafts and tents to build and read inside.
URL:https://www.myepl.org/event/return-to-camp-read-a-lot/
LOCATION:Osolo Branch\, 3429 E. Bristol St.\, Elkhart\, IN\, 46516\, United States
CATEGORIES:Just for Fun,Summer Reading
ATTACH;FMTTYPE=image/png:https://www.myepl.org/wp-content/uploads/2023/03/Camp-Read-A-Lot-Calendar.png
END:VEVENT
BEGIN:VEVENT
DTSTART;TZID=America/Indiana/Indianapolis:20230713T140000
DTEND;TZID=America/Indiana/Indianapolis:20230713T150000
DTSTAMP:20260422T011937
CREATED:20230403T211357Z
LAST-MODIFIED:20230710T141950Z
UID:36081-1689256800-1689260400@www.myepl.org
SUMMARY:Dog Man Book Party
DESCRIPTION:Enjoy games and stories from the popular Dog Man series. Play Dog Man Bingo\, find which character you are\, enjoy snacks and you could win a Dog Man book.
URL:https://www.myepl.org/event/dog-man-book-party/
LOCATION:Dunlap Branch\, 58485 C.R. 13 East\, Elkhart\, IN\, 46516\, United States
CATEGORIES:Just for Fun,Summer Reading
END:VEVENT
BEGIN:VEVENT
DTSTART;TZID=America/Indiana/Indianapolis:20230711T140000
DTEND;TZID=America/Indiana/Indianapolis:20230711T150000
DTSTAMP:20260422T011937
CREATED:20230403T132224Z
LAST-MODIFIED:20230629T133545Z
UID:35937-1689084000-1689087600@www.myepl.org
SUMMARY:Preschool Pirate Party
DESCRIPTION:Put on your pirate gear and head to Dunlap. We’ll make sand art\, decorate a pirate hat and even walk the plank.
URL:https://www.myepl.org/event/preschool-pirate-party/
LOCATION:Dunlap Branch\, 58485 C.R. 13 East\, Elkhart\, IN\, 46516\, United States
CATEGORIES:Just for Fun,Storytimes
END:VEVENT
BEGIN:VEVENT
DTSTART;TZID=America/Indiana/Indianapolis:20230711T100000
DTEND;TZID=America/Indiana/Indianapolis:20230711T110000
DTSTAMP:20260422T011937
CREATED:20230322T130536Z
LAST-MODIFIED:20230322T130536Z
UID:35696-1689069600-1689073200@www.myepl.org
SUMMARY:Preschool Dance Party
DESCRIPTION:Exercise those large motor skills\, learn parts of the body and just have fun. We’ll dance with ribbons\, Beanie Babies and scarves.
URL:https://www.myepl.org/event/preschool-dance-party/
LOCATION:Downtown Library\, 300 S. Second St.\, Elkhart\, IN\, 46516\, United States
CATEGORIES:Just for Fun
ATTACH;FMTTYPE=image/jpeg:https://www.myepl.org/wp-content/uploads/2022/12/Little-Explorers-3.jpg
END:VEVENT
BEGIN:VEVENT
DTSTART;TZID=America/Indiana/Indianapolis:20230707T160000
DTEND;TZID=America/Indiana/Indianapolis:20230707T170000
DTSTAMP:20260422T011937
CREATED:20230328T185843Z
LAST-MODIFIED:20230621T160334Z
UID:35767-1688745600-1688749200@www.myepl.org
SUMMARY:Turtles
DESCRIPTION:Elkhart County Parks talk all about turtles. Learn about local varieties and more. Come dressed up like a favorite fictional turtle\, if you choose and you could win a prize.
URL:https://www.myepl.org/event/turtles/
LOCATION:Downtown Library\, 300 S. Second St.\, Elkhart\, IN\, 46516\, United States
CATEGORIES:Just for Fun,Summer Reading
ATTACH;FMTTYPE=image/jpeg:https://www.myepl.org/wp-content/uploads/2023/03/NN-Turtles-7-5-23-1024x683-1.jpeg
END:VEVENT
BEGIN:VEVENT
DTSTART;TZID=America/Indiana/Indianapolis:20230705T140000
DTEND;TZID=America/Indiana/Indianapolis:20230705T160000
DTSTAMP:20260422T011937
CREATED:20230403T134832Z
LAST-MODIFIED:20230626T153331Z
UID:35998-1688565600-1688572800@www.myepl.org
SUMMARY:Readers Spin to Win
DESCRIPTION:Come into Osolo\, show Miss Janell any three books you have read for the Summer Reading Challenge and spin the wheel to get a prize.
URL:https://www.myepl.org/event/readers-spin-to-win/
LOCATION:Osolo Branch\, 3429 E. Bristol St.\, Elkhart\, IN\, 46516\, United States
CATEGORIES:Just for Fun,Summer Reading
END:VEVENT
BEGIN:VEVENT
DTSTART;TZID=America/Indiana/Indianapolis:20230630T183000
DTEND;TZID=America/Indiana/Indianapolis:20230630T200000
DTSTAMP:20260422T011937
CREATED:20230314T132707Z
LAST-MODIFIED:20230530T183219Z
UID:35611-1688149800-1688155200@www.myepl.org
SUMMARY:Teen Library Lock In
DESCRIPTION:Spend an evening playing games\, making things and eating snacks. Wear comfy clothes and join us for a fun night at the library.
URL:https://www.myepl.org/event/teen-lock-in/2023-06-30/
LOCATION:Downtown Library\, 300 S. Second St.\, Elkhart\, IN\, 46516\, United States
CATEGORIES:Just for Fun
ATTACH;FMTTYPE=image/png:https://www.myepl.org/wp-content/uploads/2022/07/Calendar-Library-Lock-In-01.png
END:VEVENT
BEGIN:VEVENT
DTSTART;TZID=America/Indiana/Indianapolis:20230630T150000
DTEND;TZID=America/Indiana/Indianapolis:20230630T173000
DTSTAMP:20260422T011937
CREATED:20230330T143520Z
LAST-MODIFIED:20230621T190231Z
UID:35831-1688137200-1688146200@www.myepl.org
SUMMARY:Theater Camp
DESCRIPTION:(This event is full. Keep watching for more great activities.) \nJoin our play and we’ll practice for four days before our performance. Great for ages 8 and up.
URL:https://www.myepl.org/event/theater-camp-2023-06-30/
LOCATION:Downtown Library\, 300 S. Second St.\, Elkhart\, IN\, 46516\, United States
CATEGORIES:Just for Fun,Summer Reading
ATTACH;FMTTYPE=image/png:https://www.myepl.org/wp-content/uploads/2022/07/Junior-Theatre-Camp-Calendar-01.png
END:VEVENT
BEGIN:VEVENT
DTSTART;TZID=America/Indiana/Indianapolis:20230626T150000
DTEND;TZID=America/Indiana/Indianapolis:20230626T170000
DTSTAMP:20260422T011937
CREATED:20230330T143520Z
LAST-MODIFIED:20230627T192919Z
UID:35826-1687791600-1687798800@www.myepl.org
SUMMARY:Theater Camp
DESCRIPTION:Registration for this event is closed. \nJoin our play and we’ll practice for four days before our performance. Great for ages 8 and up.
URL:https://www.myepl.org/event/theater-camp/2023-06-26/
LOCATION:Downtown Library\, 300 S. Second St.\, Elkhart\, IN\, 46516\, United States
CATEGORIES:Just for Fun,Summer Reading
ATTACH;FMTTYPE=image/png:https://www.myepl.org/wp-content/uploads/2022/07/Junior-Theatre-Camp-Calendar-01.png
END:VEVENT
END:VCALENDAR