BEGIN:VCALENDAR
VERSION:2.0
PRODID:-//Elkhart Public Library - ECPv6.15.20//NONSGML v1.0//EN
CALSCALE:GREGORIAN
METHOD:PUBLISH
X-ORIGINAL-URL:https://www.myepl.org
X-WR-CALDESC:Events for Elkhart Public Library
REFRESH-INTERVAL;VALUE=DURATION:PT1H
X-Robots-Tag:noindex
X-PUBLISHED-TTL:PT1H
BEGIN:VTIMEZONE
TZID:America/Indiana/Indianapolis
BEGIN:DAYLIGHT
TZOFFSETFROM:-0500
TZOFFSETTO:-0400
TZNAME:EDT
DTSTART:20250309T070000
END:DAYLIGHT
BEGIN:STANDARD
TZOFFSETFROM:-0400
TZOFFSETTO:-0500
TZNAME:EST
DTSTART:20251102T060000
END:STANDARD
BEGIN:DAYLIGHT
TZOFFSETFROM:-0500
TZOFFSETTO:-0400
TZNAME:EDT
DTSTART:20260308T070000
END:DAYLIGHT
BEGIN:STANDARD
TZOFFSETFROM:-0400
TZOFFSETTO:-0500
TZNAME:EST
DTSTART:20261101T060000
END:STANDARD
BEGIN:DAYLIGHT
TZOFFSETFROM:-0500
TZOFFSETTO:-0400
TZNAME:EDT
DTSTART:20270314T070000
END:DAYLIGHT
BEGIN:STANDARD
TZOFFSETFROM:-0400
TZOFFSETTO:-0500
TZNAME:EST
DTSTART:20271107T060000
END:STANDARD
END:VTIMEZONE
BEGIN:VEVENT
DTSTART;TZID=America/Indiana/Indianapolis:20260706T140000
DTEND;TZID=America/Indiana/Indianapolis:20260706T170000
DTSTAMP:20260423T153136
CREATED:20250325T142850Z
LAST-MODIFIED:20260311T180536Z
UID:48915-1783346400-1783357200@www.myepl.org
SUMMARY:Junior Theater Camp
DESCRIPTION:Get on stage with our fun and free theater camp. We’ll rehearse Monday through Friday and perform our show for friends and family on Friday evening. The show is best for kids ages 6 to 13. \nRegistration for this camp opens June 1.
URL:https://www.myepl.org/event/junior-theater-camp/2026-07-06/
LOCATION:Dunlap Branch\, 58485 C.R. 13 East\, Elkhart\, IN\, 46516\, United States
CATEGORIES:Just for Fun,School Age Programs
ATTACH;FMTTYPE=image/jpeg:https://www.myepl.org/wp-content/uploads/2023/03/received_6075275275820566.jpeg
END:VEVENT
BEGIN:VEVENT
DTSTART;VALUE=DATE:20260707
DTEND;VALUE=DATE:20260708
DTSTAMP:20260423T153136
CREATED:20260320T151719Z
LAST-MODIFIED:20260320T151719Z
UID:55694-1783382400-1783468799@www.myepl.org
SUMMARY:Happy Birthday America Project
DESCRIPTION:Come by Cleveland to decorate and add a star to our collaborative art project. We’re kicking off the project with snacks\, while supplies last\, on Monday\, June 29.
URL:https://www.myepl.org/event/happy-birthday-america-project/2026-07-07/
LOCATION:Cleveland Branch\, 53715 C.R. 1\, Elkhart\, IN\, 46514\, United States
CATEGORIES:Art,Just for Fun
END:VEVENT
BEGIN:VEVENT
DTSTART;TZID=America/Indiana/Indianapolis:20260707T100000
DTEND;TZID=America/Indiana/Indianapolis:20260707T120000
DTSTAMP:20260423T153136
CREATED:20240108T211718Z
LAST-MODIFIED:20240108T211718Z
UID:55205-1783418400-1783425600@www.myepl.org
SUMMARY:Hooks and Needles
DESCRIPTION:Beginner and expert knitters and crocheters are welcome to work on new or existing projects\, share tips\, ideas and meet other enthusiasts.
URL:https://www.myepl.org/event/hooks-and-needles/2026-07-07/
LOCATION:Cleveland Branch\, 53715 C.R. 1\, Elkhart\, IN\, 46514\, United States
CATEGORIES:Crafts,Educational,Just for Fun
ATTACH;FMTTYPE=image/png:https://www.myepl.org/wp-content/uploads/2024/01/hooksandneedles_Calendar-1.png
END:VEVENT
BEGIN:VEVENT
DTSTART;TZID=America/Indiana/Indianapolis:20260707T140000
DTEND;TZID=America/Indiana/Indianapolis:20260707T170000
DTSTAMP:20260423T153136
CREATED:20250325T142850Z
LAST-MODIFIED:20250325T142850Z
UID:55082-1783432800-1783443600@www.myepl.org
SUMMARY:Junior Theater Camp
DESCRIPTION:Get on stage with our fun and free theater camp. We’ll rehearse Monday through Friday and perform our show for friends and family on Friday evening. The show is best for kids ages 6 to 13. \nRegistration for this camp opens June 1.
URL:https://www.myepl.org/event/junior-theater-camp/2026-07-07/
LOCATION:Dunlap Branch\, 58485 C.R. 13 East\, Elkhart\, IN\, 46516\, United States
CATEGORIES:Just for Fun,School Age Programs
ATTACH;FMTTYPE=image/jpeg:https://www.myepl.org/wp-content/uploads/2023/03/received_6075275275820566.jpeg
END:VEVENT
BEGIN:VEVENT
DTSTART;TZID=America/Indiana/Indianapolis:20260707T163000
DTEND;TZID=America/Indiana/Indianapolis:20260707T180000
DTSTAMP:20260423T153136
CREATED:20230621T172139Z
LAST-MODIFIED:20230621T172139Z
UID:55393-1783441800-1783447200@www.myepl.org
SUMMARY:Teen Anime Club
DESCRIPTION:Enjoy anime and manga with other fans. We’ll share Japanese snacks and make crafts\, too.
URL:https://www.myepl.org/event/teen-anime-club-5/2026-07-07/
LOCATION:Downtown Library\, 300 S. Second St.\, Elkhart\, IN\, 46516\, United States
CATEGORIES:Just for Fun,Teen Programs
ATTACH;FMTTYPE=image/png:https://www.myepl.org/wp-content/uploads/2021/09/Calendar-_-Anime-Club-01-1.png
END:VEVENT
BEGIN:VEVENT
DTSTART;VALUE=DATE:20260708
DTEND;VALUE=DATE:20260709
DTSTAMP:20260423T153136
CREATED:20260320T151719Z
LAST-MODIFIED:20260320T151719Z
UID:55695-1783468800-1783555199@www.myepl.org
SUMMARY:Happy Birthday America Project
DESCRIPTION:Come by Cleveland to decorate and add a star to our collaborative art project. We’re kicking off the project with snacks\, while supplies last\, on Monday\, June 29.
URL:https://www.myepl.org/event/happy-birthday-america-project/2026-07-08/
LOCATION:Cleveland Branch\, 53715 C.R. 1\, Elkhart\, IN\, 46514\, United States
CATEGORIES:Art,Just for Fun
END:VEVENT
BEGIN:VEVENT
DTSTART;TZID=America/Indiana/Indianapolis:20260708T140000
DTEND;TZID=America/Indiana/Indianapolis:20260708T170000
DTSTAMP:20260423T153136
CREATED:20250325T142850Z
LAST-MODIFIED:20250325T142850Z
UID:55083-1783519200-1783530000@www.myepl.org
SUMMARY:Junior Theater Camp
DESCRIPTION:Get on stage with our fun and free theater camp. We’ll rehearse Monday through Friday and perform our show for friends and family on Friday evening. The show is best for kids ages 6 to 13. \nRegistration for this camp opens June 1.
URL:https://www.myepl.org/event/junior-theater-camp/2026-07-08/
LOCATION:Dunlap Branch\, 58485 C.R. 13 East\, Elkhart\, IN\, 46516\, United States
CATEGORIES:Just for Fun,School Age Programs
ATTACH;FMTTYPE=image/jpeg:https://www.myepl.org/wp-content/uploads/2023/03/received_6075275275820566.jpeg
END:VEVENT
BEGIN:VEVENT
DTSTART;VALUE=DATE:20260709
DTEND;VALUE=DATE:20260710
DTSTAMP:20260423T153136
CREATED:20260320T151719Z
LAST-MODIFIED:20260320T151719Z
UID:55696-1783555200-1783641599@www.myepl.org
SUMMARY:Happy Birthday America Project
DESCRIPTION:Come by Cleveland to decorate and add a star to our collaborative art project. We’re kicking off the project with snacks\, while supplies last\, on Monday\, June 29.
URL:https://www.myepl.org/event/happy-birthday-america-project/2026-07-09/
LOCATION:Cleveland Branch\, 53715 C.R. 1\, Elkhart\, IN\, 46514\, United States
CATEGORIES:Art,Just for Fun
END:VEVENT
BEGIN:VEVENT
DTSTART;TZID=America/Indiana/Indianapolis:20260709T100000
DTEND;TZID=America/Indiana/Indianapolis:20260709T110000
DTSTAMP:20260423T153136
CREATED:20260312T155901Z
LAST-MODIFIED:20260312T155901Z
UID:55164-1783591200-1783594800@www.myepl.org
SUMMARY:Worms! Worms! Worms!
DESCRIPTION:Learn all about how important these squirmy creatures are to our planet. Hear stories\, examine live worms and create a model in an earth habitat. \nRegistration for this program starts June 1.
URL:https://www.myepl.org/event/worms-worms-worms/
LOCATION:Osolo Branch\, 3429 E. Bristol St.\, Elkhart\, IN\, 46516\, United States
CATEGORIES:Educational,Just for Fun
END:VEVENT
BEGIN:VEVENT
DTSTART;TZID=America/Indiana/Indianapolis:20260709T140000
DTEND;TZID=America/Indiana/Indianapolis:20260709T170000
DTSTAMP:20260423T153136
CREATED:20250325T142850Z
LAST-MODIFIED:20250325T142850Z
UID:55084-1783605600-1783616400@www.myepl.org
SUMMARY:Junior Theater Camp
DESCRIPTION:Get on stage with our fun and free theater camp. We’ll rehearse Monday through Friday and perform our show for friends and family on Friday evening. The show is best for kids ages 6 to 13. \nRegistration for this camp opens June 1.
URL:https://www.myepl.org/event/junior-theater-camp/2026-07-09/
LOCATION:Dunlap Branch\, 58485 C.R. 13 East\, Elkhart\, IN\, 46516\, United States
CATEGORIES:Just for Fun,School Age Programs
ATTACH;FMTTYPE=image/jpeg:https://www.myepl.org/wp-content/uploads/2023/03/received_6075275275820566.jpeg
END:VEVENT
BEGIN:VEVENT
DTSTART;TZID=America/Indiana/Indianapolis:20260709T173000
DTEND;TZID=America/Indiana/Indianapolis:20260709T190000
DTSTAMP:20260423T153136
CREATED:20251219T174419Z
LAST-MODIFIED:20251219T174419Z
UID:55685-1783618200-1783623600@www.myepl.org
SUMMARY:Adult LEGO Club
DESCRIPTION:Kids shouldn’t have all the LEGO fun. Join other adult brick builders to complete a challenge or create your own build from our LEGO stash. 
URL:https://www.myepl.org/event/adult-lego-club/2026-07-09/
LOCATION:Cleveland Branch\, 53715 C.R. 1\, Elkhart\, IN\, 46514\, United States
CATEGORIES:Adult Programs,Just for Fun
ATTACH;FMTTYPE=image/jpeg:https://www.myepl.org/wp-content/uploads/2025/12/Adult-LEGO-Club_Calendar.jpg
END:VEVENT
BEGIN:VEVENT
DTSTART;VALUE=DATE:20260710
DTEND;VALUE=DATE:20260711
DTSTAMP:20260423T153136
CREATED:20260320T151719Z
LAST-MODIFIED:20260320T151719Z
UID:55697-1783641600-1783727999@www.myepl.org
SUMMARY:Happy Birthday America Project
DESCRIPTION:Come by Cleveland to decorate and add a star to our collaborative art project. We’re kicking off the project with snacks\, while supplies last\, on Monday\, June 29.
URL:https://www.myepl.org/event/happy-birthday-america-project/2026-07-10/
LOCATION:Cleveland Branch\, 53715 C.R. 1\, Elkhart\, IN\, 46514\, United States
CATEGORIES:Art,Just for Fun
END:VEVENT
BEGIN:VEVENT
DTSTART;TZID=America/Indiana/Indianapolis:20260710T100000
DTEND;TZID=America/Indiana/Indianapolis:20260710T110000
DTSTAMP:20260423T153136
CREATED:20260316T174125Z
LAST-MODIFIED:20260316T174125Z
UID:55416-1783677600-1783681200@www.myepl.org
SUMMARY:Glow-in-the-Dark Toddler Rave
DESCRIPTION:Dance in the dark with glow sticks\, black lights and bubbles.
URL:https://www.myepl.org/event/glow-in-the-dark-toddler-rave/
LOCATION:Downtown Library\, 300 S. Second St.\, Elkhart\, IN\, 46516\, United States
CATEGORIES:Just for Fun,Preschool Programs
ATTACH;FMTTYPE=image/jpeg:https://www.myepl.org/wp-content/uploads/2024/09/Glow-in-the-Dark-Party-02.jpg
END:VEVENT
BEGIN:VEVENT
DTSTART;TZID=America/Indiana/Indianapolis:20260710T140000
DTEND;TZID=America/Indiana/Indianapolis:20260710T170000
DTSTAMP:20260423T153136
CREATED:20250325T142850Z
LAST-MODIFIED:20250325T142850Z
UID:55085-1783692000-1783702800@www.myepl.org
SUMMARY:Junior Theater Camp
DESCRIPTION:Get on stage with our fun and free theater camp. We’ll rehearse Monday through Friday and perform our show for friends and family on Friday evening. The show is best for kids ages 6 to 13. \nRegistration for this camp opens June 1.
URL:https://www.myepl.org/event/junior-theater-camp/2026-07-10/
LOCATION:Dunlap Branch\, 58485 C.R. 13 East\, Elkhart\, IN\, 46516\, United States
CATEGORIES:Just for Fun,School Age Programs
ATTACH;FMTTYPE=image/jpeg:https://www.myepl.org/wp-content/uploads/2023/03/received_6075275275820566.jpeg
END:VEVENT
BEGIN:VEVENT
DTSTART;TZID=America/Indiana/Indianapolis:20260710T163000
DTEND;TZID=America/Indiana/Indianapolis:20260710T173000
DTSTAMP:20260423T153136
CREATED:20260320T140747Z
LAST-MODIFIED:20260320T140747Z
UID:55679-1783701000-1783704600@www.myepl.org
SUMMARY:Friday Night Bingo
DESCRIPTION:Enjoy themed bingo for the whole family. Win snacks and prizes. \nMay 8 – Ocean creature bingo\nJune 19 – Playing card bingo\nJuly 10 – State trivia bingo
URL:https://www.myepl.org/event/friday-night-bingo-2/2026-07-10/
LOCATION:Osolo Branch\, 3429 E. Bristol St.\, Elkhart\, IN\, 46516\, United States
CATEGORIES:Adult Programs,Just for Fun,Preschool Programs,School Age Programs,Teen Programs
ATTACH;FMTTYPE=image/jpeg:https://www.myepl.org/wp-content/uploads/2025/12/Friday-Night-Bingo_Calendar.jpg
END:VEVENT
BEGIN:VEVENT
DTSTART;VALUE=DATE:20260711
DTEND;VALUE=DATE:20260712
DTSTAMP:20260423T153136
CREATED:20260320T151719Z
LAST-MODIFIED:20260320T151719Z
UID:55699-1783728000-1783814399@www.myepl.org
SUMMARY:Happy Birthday America Project
DESCRIPTION:Come by Cleveland to decorate and add a star to our collaborative art project. We’re kicking off the project with snacks\, while supplies last\, on Monday\, June 29.
URL:https://www.myepl.org/event/happy-birthday-america-project/2026-07-11/
LOCATION:Cleveland Branch\, 53715 C.R. 1\, Elkhart\, IN\, 46514\, United States
CATEGORIES:Art,Just for Fun
END:VEVENT
BEGIN:VEVENT
DTSTART;VALUE=DATE:20260713
DTEND;VALUE=DATE:20260714
DTSTAMP:20260423T153136
CREATED:20260320T151719Z
LAST-MODIFIED:20260320T151719Z
UID:55700-1783900800-1783987199@www.myepl.org
SUMMARY:Happy Birthday America Project
DESCRIPTION:Come by Cleveland to decorate and add a star to our collaborative art project. We’re kicking off the project with snacks\, while supplies last\, on Monday\, June 29.
URL:https://www.myepl.org/event/happy-birthday-america-project/2026-07-13/
LOCATION:Cleveland Branch\, 53715 C.R. 1\, Elkhart\, IN\, 46514\, United States
CATEGORIES:Art,Just for Fun
END:VEVENT
BEGIN:VEVENT
DTSTART;VALUE=DATE:20260714
DTEND;VALUE=DATE:20260715
DTSTAMP:20260423T153136
CREATED:20260320T151719Z
LAST-MODIFIED:20260320T151719Z
UID:55701-1783987200-1784073599@www.myepl.org
SUMMARY:Happy Birthday America Project
DESCRIPTION:Come by Cleveland to decorate and add a star to our collaborative art project. We’re kicking off the project with snacks\, while supplies last\, on Monday\, June 29.
URL:https://www.myepl.org/event/happy-birthday-america-project/2026-07-14/
LOCATION:Cleveland Branch\, 53715 C.R. 1\, Elkhart\, IN\, 46514\, United States
CATEGORIES:Art,Just for Fun
END:VEVENT
BEGIN:VEVENT
DTSTART;TZID=America/Indiana/Indianapolis:20260714T163000
DTEND;TZID=America/Indiana/Indianapolis:20260714T180000
DTSTAMP:20260423T153137
CREATED:20260316T163413Z
LAST-MODIFIED:20260316T163539Z
UID:55384-1784046600-1784052000@www.myepl.org
SUMMARY:Teen Cupcake Wars
DESCRIPTION:Use creativity\, ingenuity and decorating skills to use our pantry of ingredients to decorate your cupcake. \nRegistration for this program opens June 1.
URL:https://www.myepl.org/event/cupcake-wars/
LOCATION:Downtown Library\, 300 S. Second St.\, Elkhart\, IN\, 46516\, United States
CATEGORIES:Just for Fun,Teen Programs
ATTACH;FMTTYPE=image/jpeg:https://www.myepl.org/wp-content/uploads/2026/03/DSC0252-scaled-e1773678840358.jpg
END:VEVENT
BEGIN:VEVENT
DTSTART;TZID=America/Indiana/Indianapolis:20260714T170000
DTEND;TZID=America/Indiana/Indianapolis:20260714T180000
DTSTAMP:20260423T153137
CREATED:20231211T143927Z
LAST-MODIFIED:20231211T143927Z
UID:55465-1784048400-1784052000@www.myepl.org
SUMMARY:Cleveland LEGO Club
DESCRIPTION:Bring your ideas to life by building and showing off your creation.
URL:https://www.myepl.org/event/cleveland-lego-club-3-2024-04-09/2026-07-14/
LOCATION:Cleveland Branch\, 53715 C.R. 1\, Elkhart\, IN\, 46514\, United States
CATEGORIES:Just for Fun
ATTACH;FMTTYPE=image/jpeg:https://www.myepl.org/wp-content/uploads/2023/12/Cleveland-LEGO-03-scaled.jpg
END:VEVENT
BEGIN:VEVENT
DTSTART;VALUE=DATE:20260715
DTEND;VALUE=DATE:20260716
DTSTAMP:20260423T153137
CREATED:20260320T151719Z
LAST-MODIFIED:20260320T151719Z
UID:55702-1784073600-1784159999@www.myepl.org
SUMMARY:Happy Birthday America Project
DESCRIPTION:Come by Cleveland to decorate and add a star to our collaborative art project. We’re kicking off the project with snacks\, while supplies last\, on Monday\, June 29.
URL:https://www.myepl.org/event/happy-birthday-america-project/2026-07-15/
LOCATION:Cleveland Branch\, 53715 C.R. 1\, Elkhart\, IN\, 46514\, United States
CATEGORIES:Art,Just for Fun
END:VEVENT
BEGIN:VEVENT
DTSTART;VALUE=DATE:20260716
DTEND;VALUE=DATE:20260717
DTSTAMP:20260423T153137
CREATED:20260320T151719Z
LAST-MODIFIED:20260320T151719Z
UID:55703-1784160000-1784246399@www.myepl.org
SUMMARY:Happy Birthday America Project
DESCRIPTION:Come by Cleveland to decorate and add a star to our collaborative art project. We’re kicking off the project with snacks\, while supplies last\, on Monday\, June 29.
URL:https://www.myepl.org/event/happy-birthday-america-project/2026-07-16/
LOCATION:Cleveland Branch\, 53715 C.R. 1\, Elkhart\, IN\, 46514\, United States
CATEGORIES:Art,Just for Fun
END:VEVENT
BEGIN:VEVENT
DTSTART;TZID=America/Indiana/Indianapolis:20260716T093000
DTEND;TZID=America/Indiana/Indianapolis:20260716T110000
DTSTAMP:20260423T153137
CREATED:20251205T203235Z
LAST-MODIFIED:20251205T203235Z
UID:55144-1784194200-1784199600@www.myepl.org
SUMMARY:Open Doors: A community for adults with disabilities
DESCRIPTION:Join us for fun and enriching activities to build a community supporting adults with intellectual disabilities. Explore creativity\, build skills and connect.
URL:https://www.myepl.org/event/open-doors-a-community-for-adults-with-disabilities/2026-07-16/
LOCATION:Downtown Library\, 300 S. Second St.\, Elkhart\, IN\, 46516\, United States
CATEGORIES:Adult Programs,Just for Fun
ATTACH;FMTTYPE=image/png:https://www.myepl.org/wp-content/uploads/2025/12/open-doors.png
END:VEVENT
BEGIN:VEVENT
DTSTART;VALUE=DATE:20260717
DTEND;VALUE=DATE:20260718
DTSTAMP:20260423T153137
CREATED:20260320T151719Z
LAST-MODIFIED:20260320T151719Z
UID:55704-1784246400-1784332799@www.myepl.org
SUMMARY:Happy Birthday America Project
DESCRIPTION:Come by Cleveland to decorate and add a star to our collaborative art project. We’re kicking off the project with snacks\, while supplies last\, on Monday\, June 29.
URL:https://www.myepl.org/event/happy-birthday-america-project/2026-07-17/
LOCATION:Cleveland Branch\, 53715 C.R. 1\, Elkhart\, IN\, 46514\, United States
CATEGORIES:Art,Just for Fun
END:VEVENT
BEGIN:VEVENT
DTSTART;VALUE=DATE:20260718
DTEND;VALUE=DATE:20260719
DTSTAMP:20260423T153137
CREATED:20260320T151719Z
LAST-MODIFIED:20260320T151719Z
UID:55705-1784332800-1784419199@www.myepl.org
SUMMARY:Happy Birthday America Project
DESCRIPTION:Come by Cleveland to decorate and add a star to our collaborative art project. We’re kicking off the project with snacks\, while supplies last\, on Monday\, June 29.
URL:https://www.myepl.org/event/happy-birthday-america-project/2026-07-18/
LOCATION:Cleveland Branch\, 53715 C.R. 1\, Elkhart\, IN\, 46514\, United States
CATEGORIES:Art,Just for Fun
END:VEVENT
BEGIN:VEVENT
DTSTART;VALUE=DATE:20260720
DTEND;VALUE=DATE:20260721
DTSTAMP:20260423T153137
CREATED:20260320T151719Z
LAST-MODIFIED:20260320T151719Z
UID:55706-1784505600-1784591999@www.myepl.org
SUMMARY:Happy Birthday America Project
DESCRIPTION:Come by Cleveland to decorate and add a star to our collaborative art project. We’re kicking off the project with snacks\, while supplies last\, on Monday\, June 29.
URL:https://www.myepl.org/event/happy-birthday-america-project/2026-07-20/
LOCATION:Cleveland Branch\, 53715 C.R. 1\, Elkhart\, IN\, 46514\, United States
CATEGORIES:Art,Just for Fun
END:VEVENT
BEGIN:VEVENT
DTSTART;TZID=America/Indiana/Indianapolis:20260720T130000
DTEND;TZID=America/Indiana/Indianapolis:20260720T140000
DTSTAMP:20260423T153137
CREATED:20260316T205454Z
LAST-MODIFIED:20260316T205454Z
UID:55494-1784552400-1784556000@www.myepl.org
SUMMARY:Homeschool LEGO Bots
DESCRIPTION:Build and create with others while learning coding skills to make LEGOs move\, play sounds and more. \nRegistration for this program opens June 1. 
URL:https://www.myepl.org/event/homeschool-lego-bots-19/
LOCATION:Dunlap Branch\, 58485 C.R. 13 East\, Elkhart\, IN\, 46516\, United States
CATEGORIES:Just for Fun,School Age Programs,Teen Programs
ATTACH;FMTTYPE=image/jpeg:https://www.myepl.org/wp-content/uploads/2025/06/Homeschool-LEGO-Bots-03-scaled.jpg
END:VEVENT
BEGIN:VEVENT
DTSTART;TZID=America/Indiana/Indianapolis:20260720T160000
DTEND;TZID=America/Indiana/Indianapolis:20260720T170000
DTSTAMP:20260423T153137
CREATED:20260318T174917Z
LAST-MODIFIED:20260318T174917Z
UID:55594-1784563200-1784566800@www.myepl.org
SUMMARY:Roz Puppets present "Dinosaur Pirates"
DESCRIPTION:This free puppet show is full of fun and adventure for the whole family.
URL:https://www.myepl.org/event/roz-puppets-present-dinosaur-pirates/
LOCATION:Pierre Moran Branch\, 2400 Benham Ave\, Elkhart\, IN\, 46517\, United States
CATEGORIES:Just for Fun,Preschool Programs,School Age Programs,Teen Programs
ATTACH;FMTTYPE=image/jpeg:https://www.myepl.org/wp-content/uploads/2024/04/Roz-Puppets-01-scaled.jpg
END:VEVENT
BEGIN:VEVENT
DTSTART;VALUE=DATE:20260721
DTEND;VALUE=DATE:20260722
DTSTAMP:20260423T153137
CREATED:20260320T151719Z
LAST-MODIFIED:20260320T151719Z
UID:55707-1784592000-1784678399@www.myepl.org
SUMMARY:Happy Birthday America Project
DESCRIPTION:Come by Cleveland to decorate and add a star to our collaborative art project. We’re kicking off the project with snacks\, while supplies last\, on Monday\, June 29.
URL:https://www.myepl.org/event/happy-birthday-america-project/2026-07-21/
LOCATION:Cleveland Branch\, 53715 C.R. 1\, Elkhart\, IN\, 46514\, United States
CATEGORIES:Art,Just for Fun
END:VEVENT
BEGIN:VEVENT
DTSTART;TZID=America/Indiana/Indianapolis:20260721T100000
DTEND;TZID=America/Indiana/Indianapolis:20260721T120000
DTSTAMP:20260423T153137
CREATED:20240108T211718Z
LAST-MODIFIED:20240108T211718Z
UID:55206-1784628000-1784635200@www.myepl.org
SUMMARY:Hooks and Needles
DESCRIPTION:Beginner and expert knitters and crocheters are welcome to work on new or existing projects\, share tips\, ideas and meet other enthusiasts.
URL:https://www.myepl.org/event/hooks-and-needles/2026-07-21/
LOCATION:Cleveland Branch\, 53715 C.R. 1\, Elkhart\, IN\, 46514\, United States
CATEGORIES:Crafts,Educational,Just for Fun
ATTACH;FMTTYPE=image/png:https://www.myepl.org/wp-content/uploads/2024/01/hooksandneedles_Calendar-1.png
END:VEVENT
END:VCALENDAR