BEGIN:VCALENDAR
VERSION:2.0
PRODID:-//Elkhart Public Library - ECPv6.15.20//NONSGML v1.0//EN
CALSCALE:GREGORIAN
METHOD:PUBLISH
X-WR-CALNAME:Elkhart Public Library
X-ORIGINAL-URL:https://www.myepl.org
X-WR-CALDESC:Events for Elkhart Public Library
REFRESH-INTERVAL;VALUE=DURATION:PT1H
X-Robots-Tag:noindex
X-PUBLISHED-TTL:PT1H
BEGIN:VTIMEZONE
TZID:America/Indiana/Indianapolis
BEGIN:DAYLIGHT
TZOFFSETFROM:-0500
TZOFFSETTO:-0400
TZNAME:EDT
DTSTART:20250309T070000
END:DAYLIGHT
BEGIN:STANDARD
TZOFFSETFROM:-0400
TZOFFSETTO:-0500
TZNAME:EST
DTSTART:20251102T060000
END:STANDARD
BEGIN:DAYLIGHT
TZOFFSETFROM:-0500
TZOFFSETTO:-0400
TZNAME:EDT
DTSTART:20260308T070000
END:DAYLIGHT
BEGIN:STANDARD
TZOFFSETFROM:-0400
TZOFFSETTO:-0500
TZNAME:EST
DTSTART:20261101T060000
END:STANDARD
BEGIN:DAYLIGHT
TZOFFSETFROM:-0500
TZOFFSETTO:-0400
TZNAME:EDT
DTSTART:20270314T070000
END:DAYLIGHT
BEGIN:STANDARD
TZOFFSETFROM:-0400
TZOFFSETTO:-0500
TZNAME:EST
DTSTART:20271107T060000
END:STANDARD
END:VTIMEZONE
BEGIN:VEVENT
DTSTART;TZID=America/Indiana/Indianapolis:20260406T090000
DTEND;TZID=America/Indiana/Indianapolis:20260406T180000
DTSTAMP:20260423T111325
CREATED:20260106T160653Z
LAST-MODIFIED:20260303T193433Z
UID:54046-1775466000-1775498400@www.myepl.org
SUMMARY:Family Movie Marathon
DESCRIPTION:Drop into Osolo for an all-day movie marathon of family favorites. \nMovies are:\n• Zootopia (PG\, 1:48)\n• Home (PG\, 1:50)\n• Princess Diaries (G\, 1:54)\n• Honey\, I Shrunk the Kids (PG\, 1:26)\n• The Parent Trap (1998\, PG\, 2:08)\n• Meet the Robinsons (G\, 1:36)
URL:https://www.myepl.org/event/family-movie-marathon/
LOCATION:Osolo Branch\, 3429 E. Bristol St.\, Elkhart\, IN\, 46516\, United States
CATEGORIES:Just for Fun,Movies
ATTACH;FMTTYPE=image/jpeg:https://www.myepl.org/wp-content/uploads/2026/01/Family-Movie-Marathon_Calendar.jpg
END:VEVENT
BEGIN:VEVENT
DTSTART;TZID=America/Indiana/Indianapolis:20260406T140000
DTEND;TZID=America/Indiana/Indianapolis:20260406T180000
DTSTAMP:20260423T111325
CREATED:20251218T162122Z
LAST-MODIFIED:20260303T194020Z
UID:53878-1775484000-1775498400@www.myepl.org
SUMMARY:Monday Movies: The Super Mario Bros. Movie & The SpongeBob Movie
DESCRIPTION:Join us for free popcorn and a double feature of The Super Mario Bros. Movie (PG\, 1:32) and The SpongeBob Movie: Search for SquarePants (PG\, 1:36).
URL:https://www.myepl.org/event/monday-movies-the-super-mario-bros-movie-the-spongebob-movie/
LOCATION:Pierre Moran Branch\, 2400 Benham Ave\, Elkhart\, IN\, 46517\, United States
CATEGORIES:Movies
ATTACH;FMTTYPE=image/jpeg:https://www.myepl.org/wp-content/uploads/2025/12/super-mario-bros-movie.jpg
END:VEVENT
END:VCALENDAR