BEGIN:VCALENDAR
VERSION:2.0
PRODID:-//Elkhart Public Library - ECPv6.15.20//NONSGML v1.0//EN
CALSCALE:GREGORIAN
METHOD:PUBLISH
X-ORIGINAL-URL:https://www.myepl.org
X-WR-CALDESC:Events for Elkhart Public Library
REFRESH-INTERVAL;VALUE=DURATION:PT1H
X-Robots-Tag:noindex
X-PUBLISHED-TTL:PT1H
BEGIN:VTIMEZONE
TZID:America/Indiana/Indianapolis
BEGIN:DAYLIGHT
TZOFFSETFROM:-0500
TZOFFSETTO:-0400
TZNAME:EDT
DTSTART:20240310T070000
END:DAYLIGHT
BEGIN:STANDARD
TZOFFSETFROM:-0400
TZOFFSETTO:-0500
TZNAME:EST
DTSTART:20241103T060000
END:STANDARD
BEGIN:DAYLIGHT
TZOFFSETFROM:-0500
TZOFFSETTO:-0400
TZNAME:EDT
DTSTART:20250309T070000
END:DAYLIGHT
BEGIN:STANDARD
TZOFFSETFROM:-0400
TZOFFSETTO:-0500
TZNAME:EST
DTSTART:20251102T060000
END:STANDARD
BEGIN:DAYLIGHT
TZOFFSETFROM:-0500
TZOFFSETTO:-0400
TZNAME:EDT
DTSTART:20260308T070000
END:DAYLIGHT
BEGIN:STANDARD
TZOFFSETFROM:-0400
TZOFFSETTO:-0500
TZNAME:EST
DTSTART:20261101T060000
END:STANDARD
BEGIN:DAYLIGHT
TZOFFSETFROM:-0500
TZOFFSETTO:-0400
TZNAME:EDT
DTSTART:20270314T070000
END:DAYLIGHT
BEGIN:STANDARD
TZOFFSETFROM:-0400
TZOFFSETTO:-0500
TZNAME:EST
DTSTART:20271107T060000
END:STANDARD
END:VTIMEZONE
BEGIN:VEVENT
DTSTART;TZID=America/Indiana/Indianapolis:20260416T170000
DTEND;TZID=America/Indiana/Indianapolis:20260416T190000
DTSTAMP:20260423T080047
CREATED:20251218T193341Z
LAST-MODIFIED:20260303T215307Z
UID:53908-1776358800-1776366000@www.myepl.org
SUMMARY:Throwback Theatre: The Goonies
DESCRIPTION:Join us for free popcorn and a classic family movie. We’re watching “The Goonies” (PG\, 1:54).
URL:https://www.myepl.org/event/throwback-theatre-the-goonies/
LOCATION:Osolo Branch\, 3429 E. Bristol St.\, Elkhart\, IN\, 46516\, United States
CATEGORIES:Movies
ATTACH;FMTTYPE=image/jpeg:https://www.myepl.org/wp-content/uploads/2025/12/Throwback-Theatre-The-Goonies_Calendar.jpg
END:VEVENT
BEGIN:VEVENT
DTSTART;TZID=America/Indiana/Indianapolis:20260410T140000
DTEND;TZID=America/Indiana/Indianapolis:20260410T163000
DTSTAMP:20260423T080048
CREATED:20251217T213823Z
LAST-MODIFIED:20260402T131547Z
UID:53811-1775829600-1775838600@www.myepl.org
SUMMARY:All Ages Movie
DESCRIPTION:Spend a spring break afternoon with a free movie and popcorn. We’re watching “Zootopia 2” (PG\, 1:48).
URL:https://www.myepl.org/event/all-ages-movie/
LOCATION:Downtown Library\, 300 S. Second St.\, Elkhart\, IN\, 46516\, United States
CATEGORIES:Movies
ATTACH;FMTTYPE=image/jpeg:https://www.myepl.org/wp-content/uploads/2025/12/zootopia2-button-replacement-1759237213360.jpg
END:VEVENT
BEGIN:VEVENT
DTSTART;TZID=America/Indiana/Indianapolis:20260406T140000
DTEND;TZID=America/Indiana/Indianapolis:20260406T180000
DTSTAMP:20260423T080048
CREATED:20251218T162122Z
LAST-MODIFIED:20260303T194020Z
UID:53878-1775484000-1775498400@www.myepl.org
SUMMARY:Monday Movies: The Super Mario Bros. Movie & The SpongeBob Movie
DESCRIPTION:Join us for free popcorn and a double feature of The Super Mario Bros. Movie (PG\, 1:32) and The SpongeBob Movie: Search for SquarePants (PG\, 1:36).
URL:https://www.myepl.org/event/monday-movies-the-super-mario-bros-movie-the-spongebob-movie/
LOCATION:Pierre Moran Branch\, 2400 Benham Ave\, Elkhart\, IN\, 46517\, United States
CATEGORIES:Movies
ATTACH;FMTTYPE=image/jpeg:https://www.myepl.org/wp-content/uploads/2025/12/super-mario-bros-movie.jpg
END:VEVENT
BEGIN:VEVENT
DTSTART;TZID=America/Indiana/Indianapolis:20260406T090000
DTEND;TZID=America/Indiana/Indianapolis:20260406T180000
DTSTAMP:20260423T080048
CREATED:20260106T160653Z
LAST-MODIFIED:20260303T193433Z
UID:54046-1775466000-1775498400@www.myepl.org
SUMMARY:Family Movie Marathon
DESCRIPTION:Drop into Osolo for an all-day movie marathon of family favorites. \nMovies are:\n• Zootopia (PG\, 1:48)\n• Home (PG\, 1:50)\n• Princess Diaries (G\, 1:54)\n• Honey\, I Shrunk the Kids (PG\, 1:26)\n• The Parent Trap (1998\, PG\, 2:08)\n• Meet the Robinsons (G\, 1:36)
URL:https://www.myepl.org/event/family-movie-marathon/
LOCATION:Osolo Branch\, 3429 E. Bristol St.\, Elkhart\, IN\, 46516\, United States
CATEGORIES:Just for Fun,Movies
ATTACH;FMTTYPE=image/jpeg:https://www.myepl.org/wp-content/uploads/2026/01/Family-Movie-Marathon_Calendar.jpg
END:VEVENT
BEGIN:VEVENT
DTSTART;TZID=America/Indiana/Indianapolis:20260319T170000
DTEND;TZID=America/Indiana/Indianapolis:20260319T183000
DTSTAMP:20260423T080048
CREATED:20251218T193238Z
LAST-MODIFIED:20260303T182321Z
UID:53906-1773939600-1773945000@www.myepl.org
SUMMARY:Throwback Theatre: Matilda
DESCRIPTION:Join us for free popcorn and a classic family movie. We’re watching “Matilda” (PG\, 1:38).
URL:https://www.myepl.org/event/throwback-theatre-matilda/
LOCATION:Osolo Branch\, 3429 E. Bristol St.\, Elkhart\, IN\, 46516\, United States
CATEGORIES:Movies
ATTACH;FMTTYPE=image/png:https://www.myepl.org/wp-content/uploads/2025/12/throwbacktheatre_Calendar.png
END:VEVENT
BEGIN:VEVENT
DTSTART;TZID=America/Indiana/Indianapolis:20260316T140000
DTEND;TZID=America/Indiana/Indianapolis:20260316T180000
DTSTAMP:20260423T080048
CREATED:20251218T161947Z
LAST-MODIFIED:20260303T144748Z
UID:53876-1773669600-1773684000@www.myepl.org
SUMMARY:Monday Movie: Zootopia & Zootopia 2
DESCRIPTION:Join us for free popcorn and a double-feature of Zootopia (PG\, 1:48) and Zootopia 2 (PG\, 1:50).
URL:https://www.myepl.org/event/monday-movie-zootopia-zootopia-2/
LOCATION:Pierre Moran Branch\, 2400 Benham Ave\, Elkhart\, IN\, 46517\, United States
CATEGORIES:Movies
ATTACH;FMTTYPE=image/jpeg:https://www.myepl.org/wp-content/uploads/2025/12/zootopia2-button-replacement-1759237213360.jpg
END:VEVENT
BEGIN:VEVENT
DTSTART;TZID=America/Indiana/Indianapolis:20260219T170000
DTEND;TZID=America/Indiana/Indianapolis:20260219T183000
DTSTAMP:20260423T080048
CREATED:20251218T193118Z
LAST-MODIFIED:20260209T153548Z
UID:53904-1771520400-1771525800@www.myepl.org
SUMMARY:Throwback Theatre: Shrek
DESCRIPTION:Join us for a classic family movie and free popcorn. We’re watching Shrek (PG\, 1:29).
URL:https://www.myepl.org/event/throwback-theatre-shrek/
LOCATION:Osolo Branch\, 3429 E. Bristol St.\, Elkhart\, IN\, 46516\, United States
CATEGORIES:Movies
ATTACH;FMTTYPE=image/jpeg:https://www.myepl.org/wp-content/uploads/2025/12/shrek-vertical-key-art.jpg
END:VEVENT
BEGIN:VEVENT
DTSTART;TZID=America/Indiana/Indianapolis:20260216T150000
DTEND;TZID=America/Indiana/Indianapolis:20260216T170000
DTSTAMP:20260423T080048
CREATED:20251212T181211Z
LAST-MODIFIED:20260120T172637Z
UID:53578-1771254000-1771261200@www.myepl.org
SUMMARY:Fun Family Movie: Freakier Friday
DESCRIPTION:Join us on President’s Day for free popcorn while we watch “Freakier Friday” (2025\, PG\, 1:51).
URL:https://www.myepl.org/event/fun-family-movie-18/
LOCATION:Downtown Library\, 300 S. Second St.\, Elkhart\, IN\, 46516\, United States
CATEGORIES:Movies
ATTACH;FMTTYPE=image/jpeg:https://www.myepl.org/wp-content/uploads/2025/12/Movie-Freakier-Friday_Calendar.jpg
END:VEVENT
BEGIN:VEVENT
DTSTART;TZID=America/Indiana/Indianapolis:20260216T140000
DTEND;TZID=America/Indiana/Indianapolis:20260216T180000
DTSTAMP:20260423T080048
CREATED:20251218T161829Z
LAST-MODIFIED:20251218T162239Z
UID:53873-1771250400-1771264800@www.myepl.org
SUMMARY:Monday Movie: Bad Guys & Bad Guys 2
DESCRIPTION:Join us for free popcorn and a double-feature. We’re showing Bad Guys (PG\, 1:40) and Bad Guys 2 (PG\, 1:44).
URL:https://www.myepl.org/event/monday-movie-bad-guys-bad-guys-2/
LOCATION:Pierre Moran Branch\, 2400 Benham Ave\, Elkhart\, IN\, 46517\, United States
CATEGORIES:Movies
ATTACH;FMTTYPE=image/png:https://www.myepl.org/wp-content/uploads/2025/12/Fun-Family-Movie-The-Bad-Guys-2_Calendar.png
END:VEVENT
BEGIN:VEVENT
DTSTART;TZID=America/Indiana/Indianapolis:20260129T163000
DTEND;TZID=America/Indiana/Indianapolis:20260129T183000
DTSTAMP:20260423T080048
CREATED:20250924T185836Z
LAST-MODIFIED:20260107T203240Z
UID:52310-1769704200-1769711400@www.myepl.org
SUMMARY:Fun Family Movie: Smurfs
DESCRIPTION:Enjoy free popcorn while we watch a recently released movie. We’re watching “Smurfs” (2025\, PG\, 1:29).
URL:https://www.myepl.org/event/fun-family-movie-17/
LOCATION:Downtown Library\, 300 S. Second St.\, Elkhart\, IN\, 46516\, United States
CATEGORIES:Movies
ATTACH;FMTTYPE=image/png:https://www.myepl.org/wp-content/uploads/2025/09/more.6d180d47.png
END:VEVENT
BEGIN:VEVENT
DTSTART;TZID=America/Indiana/Indianapolis:20260115T170000
DTEND;TZID=America/Indiana/Indianapolis:20260115T183000
DTSTAMP:20260423T080048
CREATED:20250917T132045Z
LAST-MODIFIED:20260106T204154Z
UID:51851-1768496400-1768501800@www.myepl.org
SUMMARY:Throwback Theatre
DESCRIPTION:Join us for a nostalgic family movie and free popcorn. \n• Nov. 20 – “The Nightmare Before Christmas” (PG\, 1:16)\n• Dec. 18 – “Home Alone” (PG\, 1:43)\n• Jan. 15 – “Snow Dogs” (PG\, 1:39)
URL:https://www.myepl.org/event/throwback-theatre-2025-12-18/2026-01-15/
LOCATION:Osolo Branch\, 3429 E. Bristol St.\, Elkhart\, IN\, 46516\, United States
CATEGORIES:Movies
ATTACH;FMTTYPE=image/png:https://www.myepl.org/wp-content/uploads/2025/09/Throwback-Theatre_Calendar-copy-2-1-1.png
END:VEVENT
BEGIN:VEVENT
DTSTART;TZID=America/Indiana/Indianapolis:20251230T140000
DTEND;TZID=America/Indiana/Indianapolis:20251230T170000
DTSTAMP:20260423T080048
CREATED:20250917T182900Z
LAST-MODIFIED:20251216T213346Z
UID:51955-1767103200-1767114000@www.myepl.org
SUMMARY:Teen Movie: "Thunderbolts"
DESCRIPTION:Join us for popcorn and a free movie over winter break. Today we’re watching “Thunderbolts” (PG-13\, 2:07).
URL:https://www.myepl.org/event/teen-movie-2025-12-30/
LOCATION:Downtown Library\, 300 S. Second St.\, Elkhart\, IN\, 46516\, United States
CATEGORIES:Movies,Teen Programs
ATTACH;FMTTYPE=image/jpeg:https://www.myepl.org/wp-content/uploads/2025/09/thunderbolts.jpeg
END:VEVENT
BEGIN:VEVENT
DTSTART;TZID=America/Indiana/Indianapolis:20251229T100000
DTEND;TZID=America/Indiana/Indianapolis:20251229T180000
DTSTAMP:20260423T080048
CREATED:20250922T135217Z
LAST-MODIFIED:20251126T182757Z
UID:52190-1767002400-1767031200@www.myepl.org
SUMMARY:Monday Movie Marathon
DESCRIPTION:Come into Pierre Moran for family-friendly movies starting every two hours. \nOn Dec. 22\, from 10 a.m. to 6 p.m.\, enjoy these films. \n• Elf (PG\, 1:35)\n• Disney’s A Christmas Carol (2009\, PG\, 1:36)\n• The Grinch (2018\, PG\, 1:45)\n• The Best Christmas Pageant Ever (PG\, 1:39) \nOn Dec. 29\, from 10 a.m. to 6 p.m.\, enjoy these films. \n• Lilo & Stitch (2025\, PG\, 1:48)\n• How to Train Your Dragon (PG\, 2:05)\n• Elio (PG\, 1:39)\n• Freakier Friday (PG\, 1:51)
URL:https://www.myepl.org/event/monday-movie-marathon/2025-12-29/
LOCATION:Pierre Moran Branch\, 2400 Benham Ave\, Elkhart\, IN\, 46517\, United States
CATEGORIES:Movies,Seasonal
ATTACH;FMTTYPE=image/png:https://www.myepl.org/wp-content/uploads/2025/09/Monday-Movie-Marathon_Calendar.png
END:VEVENT
BEGIN:VEVENT
DTSTART;TZID=America/Indiana/Indianapolis:20251223T140000
DTEND;TZID=America/Indiana/Indianapolis:20251223T170000
DTSTAMP:20260423T080048
CREATED:20250917T182900Z
LAST-MODIFIED:20251216T212844Z
UID:51954-1766498400-1766509200@www.myepl.org
SUMMARY:Teen Movie: "The Nightmare Before Christmas"
DESCRIPTION:Join us for popcorn and a free movie over winter break. We’re watching “The Nightmare Before Christmas” (PG\, 1:16).
URL:https://www.myepl.org/event/teen-movie/
LOCATION:Downtown Library\, 300 S. Second St.\, Elkhart\, IN\, 46516\, United States
CATEGORIES:Movies,Teen Programs
ATTACH;FMTTYPE=image/png:https://www.myepl.org/wp-content/uploads/2025/09/teenmovies-dec_Calendar-copy.png
END:VEVENT
BEGIN:VEVENT
DTSTART;TZID=America/Indiana/Indianapolis:20251222T160000
DTEND;TZID=America/Indiana/Indianapolis:20251222T180000
DTSTAMP:20260423T080048
CREATED:20250924T185652Z
LAST-MODIFIED:20251008T171542Z
UID:52308-1766419200-1766426400@www.myepl.org
SUMMARY:Fun Family Movie: The Bad Guys 2
DESCRIPTION:Enjoy free popcorn while we watch a recently released movie. This month we’re showing “The Bad Guys 2” (PG\, 1:44).
URL:https://www.myepl.org/event/fun-family-movie-16/
LOCATION:Downtown Library\, 300 S. Second St.\, Elkhart\, IN\, 46516\, United States
CATEGORIES:Movies
ATTACH;FMTTYPE=image/png:https://www.myepl.org/wp-content/uploads/2022/07/Fun-Family-Movie-Calendar-01.png
END:VEVENT
BEGIN:VEVENT
DTSTART;TZID=America/Indiana/Indianapolis:20251222T100000
DTEND;TZID=America/Indiana/Indianapolis:20251222T180000
DTSTAMP:20260423T080048
CREATED:20250922T135217Z
LAST-MODIFIED:20251126T182757Z
UID:52139-1766397600-1766426400@www.myepl.org
SUMMARY:Monday Movie Marathon
DESCRIPTION:Come into Pierre Moran for family-friendly movies starting every two hours. \nOn Dec. 22\, from 10 a.m. to 6 p.m.\, enjoy these films. \n• Elf (PG\, 1:35)\n• Disney’s A Christmas Carol (2009\, PG\, 1:36)\n• The Grinch (2018\, PG\, 1:45)\n• The Best Christmas Pageant Ever (PG\, 1:39) \nOn Dec. 29\, from 10 a.m. to 6 p.m.\, enjoy these films. \n• Lilo & Stitch (2025\, PG\, 1:48)\n• How to Train Your Dragon (PG\, 2:05)\n• Elio (PG\, 1:39)\n• Freakier Friday (PG\, 1:51)
URL:https://www.myepl.org/event/monday-movie-marathon/2025-12-22/
LOCATION:Pierre Moran Branch\, 2400 Benham Ave\, Elkhart\, IN\, 46517\, United States
CATEGORIES:Movies,Seasonal
ATTACH;FMTTYPE=image/png:https://www.myepl.org/wp-content/uploads/2025/09/Monday-Movie-Marathon_Calendar.png
END:VEVENT
BEGIN:VEVENT
DTSTART;TZID=America/Indiana/Indianapolis:20251218T170000
DTEND;TZID=America/Indiana/Indianapolis:20251218T183000
DTSTAMP:20260423T080048
CREATED:20250917T132045Z
LAST-MODIFIED:20260106T204154Z
UID:51850-1766077200-1766082600@www.myepl.org
SUMMARY:Throwback Theatre
DESCRIPTION:Join us for a nostalgic family movie and free popcorn. \n• Nov. 20 – “The Nightmare Before Christmas” (PG\, 1:16)\n• Dec. 18 – “Home Alone” (PG\, 1:43)\n• Jan. 15 – “Snow Dogs” (PG\, 1:39)
URL:https://www.myepl.org/event/throwback-theatre-2025-12-18/2025-12-18/
LOCATION:Osolo Branch\, 3429 E. Bristol St.\, Elkhart\, IN\, 46516\, United States
CATEGORIES:Movies
ATTACH;FMTTYPE=image/png:https://www.myepl.org/wp-content/uploads/2025/09/Throwback-Theatre_Calendar-copy-2-1-1.png
END:VEVENT
BEGIN:VEVENT
DTSTART;TZID=America/Indiana/Indianapolis:20251120T170000
DTEND;TZID=America/Indiana/Indianapolis:20251120T183000
DTSTAMP:20260423T080048
CREATED:20250917T132045Z
LAST-MODIFIED:20251105T214518Z
UID:51849-1763658000-1763663400@www.myepl.org
SUMMARY:Throwback Theatre
DESCRIPTION:Join us for a nostalgic family movie and free popcorn. \n• Nov. 20 – “The Nightmare Before Christmas” (PG\, 1:16)\n• Dec. 18 – “Home Alone” (PG\, 1:43)\n• Jan. 15 – “Snow Dogs” (PG\, 1:39)
URL:https://www.myepl.org/event/throwback-theatre/
LOCATION:Osolo Branch\, 3429 E. Bristol St.\, Elkhart\, IN\, 46516\, United States
CATEGORIES:Movies
ATTACH;FMTTYPE=image/png:https://www.myepl.org/wp-content/uploads/2025/09/Throwback-Theatre_Calendar.png
END:VEVENT
BEGIN:VEVENT
DTSTART;TZID=America/Indiana/Indianapolis:20251120T163000
DTEND;TZID=America/Indiana/Indianapolis:20251120T183000
DTSTAMP:20260423T080048
CREATED:20250924T185456Z
LAST-MODIFIED:20251008T171717Z
UID:52306-1763656200-1763663400@www.myepl.org
SUMMARY:Fun Family Movie: How to Train Your Dragon
DESCRIPTION:Join us for free popcorn and a recently released movie. We’re watching “How to Train Your Dragon” (2025\, PG\, 2:05).
URL:https://www.myepl.org/event/fun-family-movie-14/
LOCATION:Downtown Library\, 300 S. Second St.\, Elkhart\, IN\, 46516\, United States
CATEGORIES:Movies
ATTACH;FMTTYPE=image/png:https://www.myepl.org/wp-content/uploads/2022/07/Fun-Family-Movie-Calendar-01.png
END:VEVENT
BEGIN:VEVENT
DTSTART;TZID=America/Indiana/Indianapolis:20251030T173000
DTEND;TZID=America/Indiana/Indianapolis:20251030T183000
DTSTAMP:20260423T080048
CREATED:20250318T163327Z
LAST-MODIFIED:20250505T162515Z
UID:48502-1761845400-1761849000@www.myepl.org
SUMMARY:What to Watchlist
DESCRIPTION:Share the latest on your favorite TV shows and movies. Discuss fan theories and hidden gems. Plus\, we’ll watch trailers for what’s coming up.
URL:https://www.myepl.org/event/what-to-watchlist/2025-10-30/
LOCATION:Downtown Library\, 300 S. Second St.\, Elkhart\, IN\, 46516\, United States
CATEGORIES:Adult Programs,Movies
ATTACH;FMTTYPE=image/png:https://www.myepl.org/wp-content/uploads/2025/03/WhattoWatchlist_Calendar.png
END:VEVENT
BEGIN:VEVENT
DTSTART;TZID=America/Indiana/Indianapolis:20251030T090000
DTEND;TZID=America/Indiana/Indianapolis:20251030T210000
DTSTAMP:20260423T080048
CREATED:20250618T200541Z
LAST-MODIFIED:20251003T131839Z
UID:50356-1761814800-1761858000@www.myepl.org
SUMMARY:Spooky Movie Marathon
DESCRIPTION:Join us for family-friendly spooky horror movies with free popcorn and drinks. Vote for what we watch from the following: \nHotel Translyvania\nHalloweentown\nHocus Pocus\nGhostbusters\nMonster House\nThe Nightmare Before Christmas\nScooby-Doo\nCasper\nAddams Family Values\nGoosebumps \nAfter 7 p.m. we’ll switch to R-rated options:\nFinal Destination (2025)\nPet Sematary (1989)\nScream (1996)
URL:https://www.myepl.org/event/spooky-movie-marathon/
LOCATION:Pierre Moran Branch\, 2400 Benham Ave\, Elkhart\, IN\, 46517\, United States
CATEGORIES:Movies,Seasonal
ATTACH;FMTTYPE=image/png:https://www.myepl.org/wp-content/uploads/2025/06/Spooky-Movie-Marathon_Calendar.png
END:VEVENT
BEGIN:VEVENT
DTSTART;TZID=America/Indiana/Indianapolis:20251023T133000
DTEND;TZID=America/Indiana/Indianapolis:20251023T150000
DTSTAMP:20260423T080048
CREATED:20250623T170710Z
LAST-MODIFIED:20251017T141652Z
UID:50468-1761226200-1761231600@www.myepl.org
SUMMARY:Popcorn and a Movie: "Lilo and Stitch"
DESCRIPTION:Join us for free popcorn and a showing of the 2025 “Lilo and Stitch” (rated PG\, 1h48m).
URL:https://www.myepl.org/event/popcorn-and-a-movie-lilo-and-stitch/
LOCATION:Cleveland Branch\, 53715 C.R. 1\, Elkhart\, IN\, 46514\, United States
CATEGORIES:Movies,School Age Programs
ATTACH;FMTTYPE=image/png:https://www.myepl.org/wp-content/uploads/2025/06/Popcorn-and-a-Movie-Lilo-and-Stitch_Calendar-2.png
END:VEVENT
BEGIN:VEVENT
DTSTART;TZID=America/Indiana/Indianapolis:20251016T170000
DTEND;TZID=America/Indiana/Indianapolis:20251016T183000
DTSTAMP:20260423T080048
CREATED:20250623T180048Z
LAST-MODIFIED:20250728T164116Z
UID:50524-1760634000-1760639400@www.myepl.org
SUMMARY:The Throwback Theatre
DESCRIPTION:Enjoy free popcorn and a nostalgic movie for the whole family. \nAug. 21 – The Princess Bride (PG\, 1:38)\nSept. 18 – The Sandlot (PG\, 1:41)\nOct. 16 – Hocus Pocus (PG\, 1:36) 
URL:https://www.myepl.org/event/the-throwback-theatre-2025-10-16/
LOCATION:Osolo Branch\, 3429 E. Bristol St.\, Elkhart\, IN\, 46516\, United States
CATEGORIES:Adult Programs,Just for Fun,Movies,Preschool Programs,School Age Programs,Teen Programs
ATTACH;FMTTYPE=image/png:https://www.myepl.org/wp-content/uploads/2025/06/throwbacktheatre_calendar2.png
END:VEVENT
BEGIN:VEVENT
DTSTART;TZID=America/Indiana/Indianapolis:20251016T163000
DTEND;TZID=America/Indiana/Indianapolis:20251016T183000
DTSTAMP:20260423T080048
CREATED:20250618T133718Z
LAST-MODIFIED:20251006T203912Z
UID:50258-1760632200-1760639400@www.myepl.org
SUMMARY:Fun Family Movie
DESCRIPTION:Join us for free popcorn and a recently released movie. We’re watching “Karate Kid: Legends” (PG: 1:58).
URL:https://www.myepl.org/event/fun-family-movie-13-2025-10-16/2025-10-16/
LOCATION:Downtown Library\, 300 S. Second St.\, Elkhart\, IN\, 46516\, United States
CATEGORIES:Movies,School Age Programs,Teen Programs
ATTACH;FMTTYPE=image/jpeg:https://www.myepl.org/wp-content/uploads/2025/06/Karate_Kid_Legends8313-scaled.jpg
END:VEVENT
BEGIN:VEVENT
DTSTART;TZID=America/Indiana/Indianapolis:20251004T150000
DTEND;TZID=America/Indiana/Indianapolis:20251004T183000
DTSTAMP:20260423T080048
CREATED:20240627T183413Z
LAST-MODIFIED:20250613T184845Z
UID:50109-1759590000-1759602600@www.myepl.org
SUMMARY:Manhattan SHORT Film Festival
DESCRIPTION:You get to be the judge at this short film festival. Watch 10 movies from around the world and vote for a favorite. Movies are unrated but intended for an adult audience. Click here to find out more about each of the films. \nFriday\, Sept. 26 – Dunlap\, 6:30 p.m.\nSaturday\, Sept. 27 – Downtown\, 5 p.m.\nWednesday\, Oct. 1 – Pierre Moran\, 7 p.m.\nFriday\, Oct. 3 – Osolo\, 6:30 p.m.\nSaturday\, Oct. 4 – Cleveland\, 3 p.m.
URL:https://www.myepl.org/event/manhattan-short-film-festival/2025-10-04/
LOCATION:IN
CATEGORIES:Movies
ATTACH;FMTTYPE=image/png:https://www.myepl.org/wp-content/uploads/2019/09/ManhattanFilmFestival_FBPost.png
END:VEVENT
BEGIN:VEVENT
DTSTART;TZID=America/Indiana/Indianapolis:20251003T183000
DTEND;TZID=America/Indiana/Indianapolis:20251003T220000
DTSTAMP:20260423T080048
CREATED:20240627T183413Z
LAST-MODIFIED:20250613T184845Z
UID:50108-1759516200-1759528800@www.myepl.org
SUMMARY:Manhattan SHORT Film Festival
DESCRIPTION:You get to be the judge at this short film festival. Watch 10 movies from around the world and vote for a favorite. Movies are unrated but intended for an adult audience. Click here to find out more about each of the films. \nFriday\, Sept. 26 – Dunlap\, 6:30 p.m.\nSaturday\, Sept. 27 – Downtown\, 5 p.m.\nWednesday\, Oct. 1 – Pierre Moran\, 7 p.m.\nFriday\, Oct. 3 – Osolo\, 6:30 p.m.\nSaturday\, Oct. 4 – Cleveland\, 3 p.m.
URL:https://www.myepl.org/event/manhattan-short-film-festival/2025-10-03/
LOCATION:IN
CATEGORIES:Movies
ATTACH;FMTTYPE=image/png:https://www.myepl.org/wp-content/uploads/2019/09/ManhattanFilmFestival_FBPost.png
END:VEVENT
BEGIN:VEVENT
DTSTART;TZID=America/Indiana/Indianapolis:20251001T190000
DTEND;TZID=America/Indiana/Indianapolis:20251001T223000
DTSTAMP:20260423T080048
CREATED:20240627T183413Z
LAST-MODIFIED:20250613T184845Z
UID:50107-1759345200-1759357800@www.myepl.org
SUMMARY:Manhattan SHORT Film Festival
DESCRIPTION:You get to be the judge at this short film festival. Watch 10 movies from around the world and vote for a favorite. Movies are unrated but intended for an adult audience. Click here to find out more about each of the films. \nFriday\, Sept. 26 – Dunlap\, 6:30 p.m.\nSaturday\, Sept. 27 – Downtown\, 5 p.m.\nWednesday\, Oct. 1 – Pierre Moran\, 7 p.m.\nFriday\, Oct. 3 – Osolo\, 6:30 p.m.\nSaturday\, Oct. 4 – Cleveland\, 3 p.m.
URL:https://www.myepl.org/event/manhattan-short-film-festival/2025-10-01/
LOCATION:IN
CATEGORIES:Movies
ATTACH;FMTTYPE=image/png:https://www.myepl.org/wp-content/uploads/2019/09/ManhattanFilmFestival_FBPost.png
END:VEVENT
BEGIN:VEVENT
DTSTART;TZID=America/Indiana/Indianapolis:20250927T170000
DTEND;TZID=America/Indiana/Indianapolis:20250927T200000
DTSTAMP:20260423T080048
CREATED:20240627T183413Z
LAST-MODIFIED:20250613T184845Z
UID:50106-1758992400-1759003200@www.myepl.org
SUMMARY:Manhattan SHORT Film Festival
DESCRIPTION:You get to be the judge at this short film festival. Watch 10 movies from around the world and vote for a favorite. Movies are unrated but intended for an adult audience. Click here to find out more about each of the films. \nFriday\, Sept. 26 – Dunlap\, 6:30 p.m.\nSaturday\, Sept. 27 – Downtown\, 5 p.m.\nWednesday\, Oct. 1 – Pierre Moran\, 7 p.m.\nFriday\, Oct. 3 – Osolo\, 6:30 p.m.\nSaturday\, Oct. 4 – Cleveland\, 3 p.m.
URL:https://www.myepl.org/event/manhattan-short-film-festival/2025-09-27/
LOCATION:IN
CATEGORIES:Movies
ATTACH;FMTTYPE=image/png:https://www.myepl.org/wp-content/uploads/2019/09/ManhattanFilmFestival_FBPost.png
END:VEVENT
BEGIN:VEVENT
DTSTART;TZID=America/Indiana/Indianapolis:20250926T183000
DTEND;TZID=America/Indiana/Indianapolis:20250926T220000
DTSTAMP:20260423T080048
CREATED:20240627T183413Z
LAST-MODIFIED:20250613T184845Z
UID:44412-1758911400-1758924000@www.myepl.org
SUMMARY:Manhattan SHORT Film Festival
DESCRIPTION:You get to be the judge at this short film festival. Watch 10 movies from around the world and vote for a favorite. Movies are unrated but intended for an adult audience. Click here to find out more about each of the films. \nFriday\, Sept. 26 – Dunlap\, 6:30 p.m.\nSaturday\, Sept. 27 – Downtown\, 5 p.m.\nWednesday\, Oct. 1 – Pierre Moran\, 7 p.m.\nFriday\, Oct. 3 – Osolo\, 6:30 p.m.\nSaturday\, Oct. 4 – Cleveland\, 3 p.m.
URL:https://www.myepl.org/event/manhattan-short-film-festival/2025-09-26/
LOCATION:IN
CATEGORIES:Movies
ATTACH;FMTTYPE=image/png:https://www.myepl.org/wp-content/uploads/2019/09/ManhattanFilmFestival_FBPost.png
END:VEVENT
BEGIN:VEVENT
DTSTART;TZID=America/Indiana/Indianapolis:20250925T173000
DTEND;TZID=America/Indiana/Indianapolis:20250925T183000
DTSTAMP:20260423T080048
CREATED:20250318T163327Z
LAST-MODIFIED:20250505T162515Z
UID:48501-1758821400-1758825000@www.myepl.org
SUMMARY:What to Watchlist
DESCRIPTION:Share the latest on your favorite TV shows and movies. Discuss fan theories and hidden gems. Plus\, we’ll watch trailers for what’s coming up.
URL:https://www.myepl.org/event/what-to-watchlist/2025-09-25/
LOCATION:Downtown Library\, 300 S. Second St.\, Elkhart\, IN\, 46516\, United States
CATEGORIES:Adult Programs,Movies
ATTACH;FMTTYPE=image/png:https://www.myepl.org/wp-content/uploads/2025/03/WhattoWatchlist_Calendar.png
END:VEVENT
END:VCALENDAR