BEGIN:VCALENDAR
VERSION:2.0
PRODID:-//Elkhart Public Library - ECPv6.15.20//NONSGML v1.0//EN
CALSCALE:GREGORIAN
METHOD:PUBLISH
X-ORIGINAL-URL:https://www.myepl.org
X-WR-CALDESC:Events for Elkhart Public Library
REFRESH-INTERVAL;VALUE=DURATION:PT1H
X-Robots-Tag:noindex
X-PUBLISHED-TTL:PT1H
BEGIN:VTIMEZONE
TZID:America/Indiana/Indianapolis
BEGIN:DAYLIGHT
TZOFFSETFROM:-0500
TZOFFSETTO:-0400
TZNAME:EDT
DTSTART:20250309T070000
END:DAYLIGHT
BEGIN:STANDARD
TZOFFSETFROM:-0400
TZOFFSETTO:-0500
TZNAME:EST
DTSTART:20251102T060000
END:STANDARD
BEGIN:DAYLIGHT
TZOFFSETFROM:-0500
TZOFFSETTO:-0400
TZNAME:EDT
DTSTART:20260308T070000
END:DAYLIGHT
BEGIN:STANDARD
TZOFFSETFROM:-0400
TZOFFSETTO:-0500
TZNAME:EST
DTSTART:20261101T060000
END:STANDARD
BEGIN:DAYLIGHT
TZOFFSETFROM:-0500
TZOFFSETTO:-0400
TZNAME:EDT
DTSTART:20270314T070000
END:DAYLIGHT
BEGIN:STANDARD
TZOFFSETFROM:-0400
TZOFFSETTO:-0500
TZNAME:EST
DTSTART:20271107T060000
END:STANDARD
END:VTIMEZONE
BEGIN:VEVENT
DTSTART;TZID=America/Indiana/Indianapolis:20260504T100000
DTEND;TZID=America/Indiana/Indianapolis:20260504T170000
DTSTAMP:20260423T061107
CREATED:20260320T145254Z
LAST-MODIFIED:20260422T164527Z
UID:55681-1777888800-1777914000@www.myepl.org
SUMMARY:May the Fourth Be with You Movie Marathon
DESCRIPTION:Drop in to the branch from 10 a.m. to 5 p.m. for the original “Star Wars” trilogy playing. Plus\, activities for kids while they watch.  \nA New Hope – PG\, 2:01\nEmpire Strikes Back – PG\, 2:04\nReturn of the Jedi – PG\, 2:11
URL:https://www.myepl.org/event/may-the-fourth-be-with-you-movie-marathon/
LOCATION:Osolo Branch\, 3429 E. Bristol St.\, Elkhart\, IN\, 46516\, United States
CATEGORIES:Adult Programs,Just for Fun,Movies,Preschool Programs,School Age Programs,Teen Programs
ATTACH;FMTTYPE=image/png:https://www.myepl.org/wp-content/uploads/2026/03/starwars.png
END:VEVENT
BEGIN:VEVENT
DTSTART;TZID=America/Indiana/Indianapolis:20260521T170000
DTEND;TZID=America/Indiana/Indianapolis:20260521T183000
DTSTAMP:20260423T061107
CREATED:20260318T202107Z
LAST-MODIFIED:20260318T202107Z
UID:55614-1779382800-1779388200@www.myepl.org
SUMMARY:Throwback Theatre
DESCRIPTION:Join us for free popcorn and a showing of a classic family movie. \nMay 21 – “Beethoven” (PG\, 1:27)\nJune 18 – “A Goofy Movie” (G\, 1:18)\nJuly 16 – “Free Willy” (PG\, 1:52)
URL:https://www.myepl.org/event/throwback-theatre-2/2026-05-21/
LOCATION:Osolo Branch\, 3429 E. Bristol St.\, Elkhart\, IN\, 46516\, United States
CATEGORIES:Movies
END:VEVENT
BEGIN:VEVENT
DTSTART;TZID=America/Indiana/Indianapolis:20260527T140000
DTEND;TZID=America/Indiana/Indianapolis:20260527T180000
DTSTAMP:20260423T061107
CREATED:20260318T173038Z
LAST-MODIFIED:20260318T173038Z
UID:55587-1779890400-1779904800@www.myepl.org
SUMMARY:Double Feature Flick: A timeless gem meets the latest hit
DESCRIPTION:We’re pairing classic family movies with the latest releases for fun double features with free popcorn.  \nMay 27 – “Matilda” (PG\, 1:38) & “GOAT” (PG\, 1:40)\nJune 24 – “Finding Nemo” (G\, 1:40) & “Hoppers” (PG\, 1:44)\nJuly 29 – “Big Hero 6” (PG\, 1:42) & “The Super Mario Galaxy Movie” (PG\, 1:38) 
URL:https://www.myepl.org/event/double-feature-flick-a-timeless-gem-meets-the-latest-hit/2026-05-27/
LOCATION:Pierre Moran Branch\, 2400 Benham Ave\, Elkhart\, IN\, 46517\, United States
CATEGORIES:Movies
END:VEVENT
BEGIN:VEVENT
DTSTART;TZID=America/Indiana/Indianapolis:20260528T140000
DTEND;TZID=America/Indiana/Indianapolis:20260528T160000
DTSTAMP:20260423T061107
CREATED:20260320T195300Z
LAST-MODIFIED:20260320T195300Z
UID:55759-1779976800-1779984000@www.myepl.org
SUMMARY:Mid-Day Matinees
DESCRIPTION:Enjoy popcorn and a free movie. We’re watching “The Spongebob Squarepants Movie: Search for Squarepants” (PG\, 1:28).
URL:https://www.myepl.org/event/mid-day-matinees/
LOCATION:Osolo Branch\, 3429 E. Bristol St.\, Elkhart\, IN\, 46516\, United States
CATEGORIES:Movies,Preschool Programs,School Age Programs,Teen Programs
END:VEVENT
BEGIN:VEVENT
DTSTART;TZID=America/Indiana/Indianapolis:20260528T160000
DTEND;TZID=America/Indiana/Indianapolis:20260528T180000
DTSTAMP:20260423T061107
CREATED:20260320T195444Z
LAST-MODIFIED:20260320T195444Z
UID:55761-1779984000-1779991200@www.myepl.org
SUMMARY:Mid-Day Matinee
DESCRIPTION:Enjoy free popcorn and a movie. We’re watching “Zootopia 2” (PG\, 1:48).
URL:https://www.myepl.org/event/mid-day-matinee/
LOCATION:Osolo Branch\, 3429 E. Bristol St.\, Elkhart\, IN\, 46516\, United States
CATEGORIES:Movies,Preschool Programs,School Age Programs,Teen Programs
ATTACH;FMTTYPE=image/jpeg:https://www.myepl.org/wp-content/uploads/2025/12/zootopia2-button-replacement-1759237213360.jpg
END:VEVENT
BEGIN:VEVENT
DTSTART;TZID=America/Indiana/Indianapolis:20260529T090000
DTEND;TZID=America/Indiana/Indianapolis:20260529T170000
DTSTAMP:20260423T061107
CREATED:20260415T160526Z
LAST-MODIFIED:20260415T160526Z
UID:56006-1780045200-1780074000@www.myepl.org
SUMMARY:Family Movie Marathon
DESCRIPTION:Drop into Osolo for an end-of-school all-day movie marathon of family favorites. \nMovies are:\nLyle\, Lyle\, Crocodile (PG\, 1:46)\nHarold and the Purple Crayon (PG\, 1:34)\nDog Man (PG\, 1:33)\nThe Wild Robot (PG\, 1:41)\nThe Bad Guys (PG\, 1:40)
URL:https://www.myepl.org/event/family-movie-marathon-2/
LOCATION:Osolo Branch\, 3429 E. Bristol St.\, Elkhart\, IN\, 46516\, United States
CATEGORIES:Adult Programs,Movies,Preschool Programs,School Age Programs,Teen Programs
END:VEVENT
BEGIN:VEVENT
DTSTART;TZID=America/Indiana/Indianapolis:20260608T160000
DTEND;TZID=America/Indiana/Indianapolis:20260608T173000
DTSTAMP:20260423T061107
CREATED:20260325T115640Z
LAST-MODIFIED:20260325T115640Z
UID:55797-1780934400-1780939800@www.myepl.org
SUMMARY:Fun Family Movie
DESCRIPTION:Enjoy free popcorn while we watch “GOAT” (PG\, 1:33).
URL:https://www.myepl.org/event/fun-family-movie-27/
LOCATION:Downtown Library\, 300 S. Second St.\, Elkhart\, IN\, 46516\, United States
CATEGORIES:Movies
END:VEVENT
BEGIN:VEVENT
DTSTART;TZID=America/Indiana/Indianapolis:20260616T160000
DTEND;TZID=America/Indiana/Indianapolis:20260616T174500
DTSTAMP:20260423T061107
CREATED:20260316T162728Z
LAST-MODIFIED:20260422T181444Z
UID:55382-1781625600-1781631900@www.myepl.org
SUMMARY:Teen Movie: Five Nights at Freddy's 2
DESCRIPTION:Bring your friends to hang out and watch “Five Nights at Freddy’s 2” (PG-13\, 1:44).
URL:https://www.myepl.org/event/teen-movie-five-nights-at-freddys-2/
LOCATION:Downtown Library\, 300 S. Second St.\, Elkhart\, IN\, 46516\, United States
CATEGORIES:Movies,Teen Programs
END:VEVENT
BEGIN:VEVENT
DTSTART;TZID=America/Indiana/Indianapolis:20260618T170000
DTEND;TZID=America/Indiana/Indianapolis:20260618T183000
DTSTAMP:20260423T061107
CREATED:20260318T202107Z
LAST-MODIFIED:20260318T202107Z
UID:55615-1781802000-1781807400@www.myepl.org
SUMMARY:Throwback Theatre
DESCRIPTION:Join us for free popcorn and a showing of a classic family movie. \nMay 21 – “Beethoven” (PG\, 1:27)\nJune 18 – “A Goofy Movie” (G\, 1:18)\nJuly 16 – “Free Willy” (PG\, 1:52)
URL:https://www.myepl.org/event/throwback-theatre-2/2026-06-18/
LOCATION:Osolo Branch\, 3429 E. Bristol St.\, Elkhart\, IN\, 46516\, United States
CATEGORIES:Movies
END:VEVENT
BEGIN:VEVENT
DTSTART;TZID=America/Indiana/Indianapolis:20260619T140000
DTEND;TZID=America/Indiana/Indianapolis:20260619T154000
DTSTAMP:20260423T061107
CREATED:20260320T200604Z
LAST-MODIFIED:20260320T200604Z
UID:55763-1781877600-1781883600@www.myepl.org
SUMMARY:Mid-Day Matinee
DESCRIPTION:Join us for free popcorn and a movie. We’re watching “GOAT” (PG\, 1:40).
URL:https://www.myepl.org/event/mid-day-matinee-2/
LOCATION:Osolo Branch\, 3429 E. Bristol St.\, Elkhart\, IN\, 46516\, United States
CATEGORIES:Movies,Preschool Programs,School Age Programs,Teen Programs
END:VEVENT
BEGIN:VEVENT
DTSTART;TZID=America/Indiana/Indianapolis:20260624T140000
DTEND;TZID=America/Indiana/Indianapolis:20260624T180000
DTSTAMP:20260423T061107
CREATED:20260318T173038Z
LAST-MODIFIED:20260318T173038Z
UID:55588-1782309600-1782324000@www.myepl.org
SUMMARY:Double Feature Flick: A timeless gem meets the latest hit
DESCRIPTION:We’re pairing classic family movies with the latest releases for fun double features with free popcorn.  \nMay 27 – “Matilda” (PG\, 1:38) & “GOAT” (PG\, 1:40)\nJune 24 – “Finding Nemo” (G\, 1:40) & “Hoppers” (PG\, 1:44)\nJuly 29 – “Big Hero 6” (PG\, 1:42) & “The Super Mario Galaxy Movie” (PG\, 1:38) 
URL:https://www.myepl.org/event/double-feature-flick-a-timeless-gem-meets-the-latest-hit/2026-06-24/
LOCATION:Pierre Moran Branch\, 2400 Benham Ave\, Elkhart\, IN\, 46517\, United States
CATEGORIES:Movies
END:VEVENT
BEGIN:VEVENT
DTSTART;TZID=America/Indiana/Indianapolis:20260706T140000
DTEND;TZID=America/Indiana/Indianapolis:20260706T160000
DTSTAMP:20260423T061107
CREATED:20260320T200733Z
LAST-MODIFIED:20260320T200733Z
UID:55765-1783346400-1783353600@www.myepl.org
SUMMARY:Mid-Day Matinee
DESCRIPTION:Join us for free popcorn and a movie in the afternoon. We’re watching “Hoppers” (PG\, 1:44).
URL:https://www.myepl.org/event/mid-day-matinee-3/
LOCATION:Osolo Branch\, 3429 E. Bristol St.\, Elkhart\, IN\, 46516\, United States
CATEGORIES:Movies,Preschool Programs,School Age Programs,Teen Programs
END:VEVENT
BEGIN:VEVENT
DTSTART;TZID=America/Indiana/Indianapolis:20260716T170000
DTEND;TZID=America/Indiana/Indianapolis:20260716T183000
DTSTAMP:20260423T061107
CREATED:20260318T202107Z
LAST-MODIFIED:20260318T202107Z
UID:55616-1784221200-1784226600@www.myepl.org
SUMMARY:Throwback Theatre
DESCRIPTION:Join us for free popcorn and a showing of a classic family movie. \nMay 21 – “Beethoven” (PG\, 1:27)\nJune 18 – “A Goofy Movie” (G\, 1:18)\nJuly 16 – “Free Willy” (PG\, 1:52)
URL:https://www.myepl.org/event/throwback-theatre-2/2026-07-16/
LOCATION:Osolo Branch\, 3429 E. Bristol St.\, Elkhart\, IN\, 46516\, United States
CATEGORIES:Movies
END:VEVENT
BEGIN:VEVENT
DTSTART;TZID=America/Indiana/Indianapolis:20260729T140000
DTEND;TZID=America/Indiana/Indianapolis:20260729T180000
DTSTAMP:20260423T061107
CREATED:20260318T173038Z
LAST-MODIFIED:20260318T173038Z
UID:55589-1785333600-1785348000@www.myepl.org
SUMMARY:Double Feature Flick: A timeless gem meets the latest hit
DESCRIPTION:We’re pairing classic family movies with the latest releases for fun double features with free popcorn.  \nMay 27 – “Matilda” (PG\, 1:38) & “GOAT” (PG\, 1:40)\nJune 24 – “Finding Nemo” (G\, 1:40) & “Hoppers” (PG\, 1:44)\nJuly 29 – “Big Hero 6” (PG\, 1:42) & “The Super Mario Galaxy Movie” (PG\, 1:38) 
URL:https://www.myepl.org/event/double-feature-flick-a-timeless-gem-meets-the-latest-hit/2026-07-29/
LOCATION:Pierre Moran Branch\, 2400 Benham Ave\, Elkhart\, IN\, 46517\, United States
CATEGORIES:Movies
END:VEVENT
END:VCALENDAR