BEGIN:VCALENDAR
VERSION:2.0
PRODID:-//Elkhart Public Library - ECPv6.15.20//NONSGML v1.0//EN
CALSCALE:GREGORIAN
METHOD:PUBLISH
X-ORIGINAL-URL:https://www.myepl.org
X-WR-CALDESC:Events for Elkhart Public Library
REFRESH-INTERVAL;VALUE=DURATION:PT1H
X-Robots-Tag:noindex
X-PUBLISHED-TTL:PT1H
BEGIN:VTIMEZONE
TZID:America/Indiana/Indianapolis
BEGIN:DAYLIGHT
TZOFFSETFROM:-0500
TZOFFSETTO:-0400
TZNAME:EDT
DTSTART:20230312T070000
END:DAYLIGHT
BEGIN:STANDARD
TZOFFSETFROM:-0400
TZOFFSETTO:-0500
TZNAME:EST
DTSTART:20231105T060000
END:STANDARD
BEGIN:DAYLIGHT
TZOFFSETFROM:-0500
TZOFFSETTO:-0400
TZNAME:EDT
DTSTART:20240310T070000
END:DAYLIGHT
BEGIN:STANDARD
TZOFFSETFROM:-0400
TZOFFSETTO:-0500
TZNAME:EST
DTSTART:20241103T060000
END:STANDARD
BEGIN:DAYLIGHT
TZOFFSETFROM:-0500
TZOFFSETTO:-0400
TZNAME:EDT
DTSTART:20250309T070000
END:DAYLIGHT
BEGIN:STANDARD
TZOFFSETFROM:-0400
TZOFFSETTO:-0500
TZNAME:EST
DTSTART:20251102T060000
END:STANDARD
BEGIN:DAYLIGHT
TZOFFSETFROM:-0500
TZOFFSETTO:-0400
TZNAME:EDT
DTSTART:20260308T070000
END:DAYLIGHT
BEGIN:STANDARD
TZOFFSETFROM:-0400
TZOFFSETTO:-0500
TZNAME:EST
DTSTART:20261101T060000
END:STANDARD
END:VTIMEZONE
BEGIN:VEVENT
DTSTART;TZID=America/Indiana/Indianapolis:20250528T160000
DTEND;TZID=America/Indiana/Indianapolis:20250528T180000
DTSTAMP:20260423T172242
CREATED:20250320T194153Z
LAST-MODIFIED:20250320T194213Z
UID:48729-1748448000-1748455200@www.myepl.org
SUMMARY:Wednesday Movie Matinees
DESCRIPTION:Enjoy snacks and drinks while supplies last and watch a family movie.  \nMay 28 – “Dog Man” (rated PG\, 1:29)  \nJune 25 – “A Minecraft Movie” (rated PG\, 1:41)  \nJuly 30 – “Paddington in Peru” (rated PG\, 1:46) 
URL:https://www.myepl.org/event/wednesday-movie-matinees-3/2025-05-28/
LOCATION:Pierre Moran Branch\, 2400 Benham Ave\, Elkhart\, IN\, 46517\, United States
CATEGORIES:Movies
ATTACH;FMTTYPE=image/png:https://www.myepl.org/wp-content/uploads/2024/03/wednesdaymoviematinees.png
END:VEVENT
BEGIN:VEVENT
DTSTART;TZID=America/Indiana/Indianapolis:20250522T163000
DTEND;TZID=America/Indiana/Indianapolis:20250522T180000
DTSTAMP:20260423T172242
CREATED:20250324T135252Z
LAST-MODIFIED:20250324T135252Z
UID:48883-1747931400-1747936800@www.myepl.org
SUMMARY:Summer Fun Family Movie
DESCRIPTION:Enjoy free popcorn while we watch “Dog Man” (PG\, 1h\, 33m).
URL:https://www.myepl.org/event/summer-fun-family-movie/
LOCATION:Downtown Library\, 300 S. Second St.\, Elkhart\, IN\, 46516\, United States
CATEGORIES:Movies
ATTACH;FMTTYPE=image/png:https://www.myepl.org/wp-content/uploads/2024/09/dogmanparty_Calendar.png
END:VEVENT
BEGIN:VEVENT
DTSTART;TZID=America/Indiana/Indianapolis:20250503T153000
DTEND;TZID=America/Indiana/Indianapolis:20250503T170000
DTSTAMP:20260423T172242
CREATED:20250103T210536Z
LAST-MODIFIED:20250505T140420Z
UID:47681-1746286200-1746291600@www.myepl.org
SUMMARY:Indie Lens Pop-Up
DESCRIPTION:Enjoy free popcorn and soft drinks while we watch PBS documentaries. A group discussion will follow each screening.  \nJune – Free for All: The Public Library 
URL:https://www.myepl.org/event/independent-lens-pop-up/2025-05-03/
LOCATION:Downtown Library\, 300 S. Second St.\, Elkhart\, IN\, 46516\, United States
CATEGORIES:Movies
ATTACH;FMTTYPE=image/png:https://www.myepl.org/wp-content/uploads/2025/01/FreeforAllLibraryFilm_Calendar-1.png
END:VEVENT
BEGIN:VEVENT
DTSTART;TZID=America/Indiana/Indianapolis:20250424T163000
DTEND;TZID=America/Indiana/Indianapolis:20250424T183000
DTSTAMP:20260423T172242
CREATED:20241211T165538Z
LAST-MODIFIED:20250414T174637Z
UID:47011-1745512200-1745519400@www.myepl.org
SUMMARY:Fun Family Movie: "Mufasa The Lion King"
DESCRIPTION:Enjoy free popcorn and a family-friendly movie. RSVP on our Facebook page.
URL:https://www.myepl.org/event/fun-family-movie-26/
LOCATION:Downtown Library\, 300 S. Second St.\, Elkhart\, IN\, 46516\, United States
CATEGORIES:Movies
ATTACH;FMTTYPE=image/png:https://www.myepl.org/wp-content/uploads/2024/12/617ff90b-97c5-425b-a1cd-2ac79e26aacc-1.png
END:VEVENT
BEGIN:VEVENT
DTSTART;TZID=America/Indiana/Indianapolis:20250416T153000
DTEND;TZID=America/Indiana/Indianapolis:20250416T183000
DTSTAMP:20260423T172242
CREATED:20241226T155733Z
LAST-MODIFIED:20250128T200833Z
UID:47449-1744817400-1744828200@www.myepl.org
SUMMARY:Wednesday Movie Matinees
DESCRIPTION:Enjoy free popcorn and a movie showing. \nFeb. 19 – “The Wild Robot” (rated PG\, 1:41) \nMarch 19 – “Moana 2” (PG\, 1:40) \nApril 16 – “Sonic the Hedgehog 3” (PG\, 1:49)
URL:https://www.myepl.org/event/wednesday-movie-matinees-2/2025-04-16/
LOCATION:Pierre Moran Branch\, 2400 Benham Ave\, Elkhart\, IN\, 46517\, United States
CATEGORIES:Movies
ATTACH;FMTTYPE=image/png:https://www.myepl.org/wp-content/uploads/2024/03/wednesdaymoviematinees.png
END:VEVENT
BEGIN:VEVENT
DTSTART;TZID=America/Indiana/Indianapolis:20250405T153000
DTEND;TZID=America/Indiana/Indianapolis:20250405T170000
DTSTAMP:20260423T172242
CREATED:20250103T210536Z
LAST-MODIFIED:20250505T140419Z
UID:47680-1743867000-1743872400@www.myepl.org
SUMMARY:Indie Lens Pop-Up
DESCRIPTION:Enjoy free popcorn and soft drinks while we watch PBS documentaries. A group discussion will follow each screening.  \nJune – Free for All: The Public Library 
URL:https://www.myepl.org/event/independent-lens-pop-up/2025-04-05/
LOCATION:Downtown Library\, 300 S. Second St.\, Elkhart\, IN\, 46516\, United States
CATEGORIES:Movies
ATTACH;FMTTYPE=image/png:https://www.myepl.org/wp-content/uploads/2025/01/FreeforAllLibraryFilm_Calendar-1.png
END:VEVENT
BEGIN:VEVENT
DTSTART;TZID=America/Indiana/Indianapolis:20250327T163000
DTEND;TZID=America/Indiana/Indianapolis:20250327T183000
DTSTAMP:20260423T172242
CREATED:20241211T165434Z
LAST-MODIFIED:20250306T154637Z
UID:47009-1743093000-1743100200@www.myepl.org
SUMMARY:Fun Family Movie
DESCRIPTION:Enjoy free popcorn and a family-friendly movie. RSVP on our Facebook page.
URL:https://www.myepl.org/event/fun-family-movie-25/
LOCATION:Downtown Library\, 300 S. Second St.\, Elkhart\, IN\, 46516\, United States
CATEGORIES:Movies
ATTACH;FMTTYPE=image/webp:https://www.myepl.org/wp-content/uploads/2024/12/moana2.webp
END:VEVENT
BEGIN:VEVENT
DTSTART;TZID=America/Indiana/Indianapolis:20250319T153000
DTEND;TZID=America/Indiana/Indianapolis:20250319T183000
DTSTAMP:20260423T172242
CREATED:20241226T155733Z
LAST-MODIFIED:20250128T200831Z
UID:47448-1742398200-1742409000@www.myepl.org
SUMMARY:Wednesday Movie Matinees
DESCRIPTION:Enjoy free popcorn and a movie showing. \nFeb. 19 – “The Wild Robot” (rated PG\, 1:41) \nMarch 19 – “Moana 2” (PG\, 1:40) \nApril 16 – “Sonic the Hedgehog 3” (PG\, 1:49)
URL:https://www.myepl.org/event/wednesday-movie-matinees-2/2025-03-19/
LOCATION:Pierre Moran Branch\, 2400 Benham Ave\, Elkhart\, IN\, 46517\, United States
CATEGORIES:Movies
ATTACH;FMTTYPE=image/png:https://www.myepl.org/wp-content/uploads/2024/03/wednesdaymoviematinees.png
END:VEVENT
BEGIN:VEVENT
DTSTART;TZID=America/Indiana/Indianapolis:20250301T153000
DTEND;TZID=America/Indiana/Indianapolis:20250301T170000
DTSTAMP:20260423T172242
CREATED:20250103T210536Z
LAST-MODIFIED:20250505T140419Z
UID:47679-1740843000-1740848400@www.myepl.org
SUMMARY:Indie Lens Pop-Up
DESCRIPTION:Enjoy free popcorn and soft drinks while we watch PBS documentaries. A group discussion will follow each screening.  \nJune – Free for All: The Public Library 
URL:https://www.myepl.org/event/independent-lens-pop-up/2025-03-01/
LOCATION:Downtown Library\, 300 S. Second St.\, Elkhart\, IN\, 46516\, United States
CATEGORIES:Movies
ATTACH;FMTTYPE=image/png:https://www.myepl.org/wp-content/uploads/2025/01/FreeforAllLibraryFilm_Calendar-1.png
END:VEVENT
BEGIN:VEVENT
DTSTART;TZID=America/Indiana/Indianapolis:20250220T163000
DTEND;TZID=America/Indiana/Indianapolis:20250220T183000
DTSTAMP:20260423T172242
CREATED:20241211T165322Z
LAST-MODIFIED:20250130T195717Z
UID:47007-1740069000-1740076200@www.myepl.org
SUMMARY:Fun Family Movie
DESCRIPTION:Enjoy free popcorn and a showing of Despicable Me 4. The movie is rated PG and is 1h:34m long.
URL:https://www.myepl.org/event/fun-family-movie-15/
LOCATION:Downtown Library\, 300 S. Second St.\, Elkhart\, IN\, 46516\, United States
CATEGORIES:Movies
ATTACH;FMTTYPE=image/jpeg:https://www.myepl.org/wp-content/uploads/2024/12/despicable-me-4.jpg
END:VEVENT
BEGIN:VEVENT
DTSTART;TZID=America/Indiana/Indianapolis:20250219T153000
DTEND;TZID=America/Indiana/Indianapolis:20250219T183000
DTSTAMP:20260423T172242
CREATED:20241226T155733Z
LAST-MODIFIED:20250128T200831Z
UID:47447-1739979000-1739989800@www.myepl.org
SUMMARY:Wednesday Movie Matinees
DESCRIPTION:Enjoy free popcorn and a movie showing. \nFeb. 19 – “The Wild Robot” (rated PG\, 1:41) \nMarch 19 – “Moana 2” (PG\, 1:40) \nApril 16 – “Sonic the Hedgehog 3” (PG\, 1:49)
URL:https://www.myepl.org/event/wednesday-movie-matinees-2/2025-02-19/
LOCATION:Pierre Moran Branch\, 2400 Benham Ave\, Elkhart\, IN\, 46517\, United States
CATEGORIES:Movies
ATTACH;FMTTYPE=image/png:https://www.myepl.org/wp-content/uploads/2024/03/wednesdaymoviematinees.png
END:VEVENT
BEGIN:VEVENT
DTSTART;TZID=America/Indiana/Indianapolis:20250214T133000
DTEND;TZID=America/Indiana/Indianapolis:20250214T153000
DTSTAMP:20260423T172242
CREATED:20241226T133356Z
LAST-MODIFIED:20241226T133927Z
UID:47375-1739539800-1739547000@www.myepl.org
SUMMARY:Popcorn and a Movie
DESCRIPTION:Come in for free popcorn while we watch “The Wild Robot” (rated PG\, 1h:41m).
URL:https://www.myepl.org/event/popcorn-and-a-movie-2/
LOCATION:Cleveland Branch\, 53715 C.R. 1\, Elkhart\, IN\, 46514\, United States
CATEGORIES:Movies
ATTACH;FMTTYPE=image/png:https://www.myepl.org/wp-content/uploads/2023/04/Movie-and-Popcorn-Calendar.png
END:VEVENT
BEGIN:VEVENT
DTSTART;TZID=America/Indiana/Indianapolis:20250201T153000
DTEND;TZID=America/Indiana/Indianapolis:20250201T170000
DTSTAMP:20260423T172242
CREATED:20250103T210536Z
LAST-MODIFIED:20250505T140419Z
UID:47678-1738423800-1738429200@www.myepl.org
SUMMARY:Indie Lens Pop-Up
DESCRIPTION:Enjoy free popcorn and soft drinks while we watch PBS documentaries. A group discussion will follow each screening.  \nJune – Free for All: The Public Library 
URL:https://www.myepl.org/event/independent-lens-pop-up/2025-02-01/
LOCATION:Downtown Library\, 300 S. Second St.\, Elkhart\, IN\, 46516\, United States
CATEGORIES:Movies
ATTACH;FMTTYPE=image/png:https://www.myepl.org/wp-content/uploads/2025/01/FreeforAllLibraryFilm_Calendar-1.png
END:VEVENT
BEGIN:VEVENT
DTSTART;TZID=America/Indiana/Indianapolis:20250123T163000
DTEND;TZID=America/Indiana/Indianapolis:20250123T180000
DTSTAMP:20260423T172242
CREATED:20240919T145106Z
LAST-MODIFIED:20250108T183524Z
UID:45560-1737649800-1737655200@www.myepl.org
SUMMARY:Fun Family Movie - Harold and the Purple Crayon
DESCRIPTION:Enjoy free popcorn and a movie. We’re showing “Harold and the Purple Crayon\,” based on the popular children’s book. The movie is rated PG and is 1h;30m. RSVP on our Facebook page.
URL:https://www.myepl.org/event/fun-family-movie-12/
LOCATION:Downtown Library\, 300 S. Second St.\, Elkhart\, IN\, 46516\, United States
CATEGORIES:Movies
ATTACH;FMTTYPE=image/jpeg:https://www.myepl.org/wp-content/uploads/2024/09/harold-and-the-purple-crayon_f.jpg
END:VEVENT
BEGIN:VEVENT
DTSTART;TZID=America/Indiana/Indianapolis:20250103T133000
DTEND;TZID=America/Indiana/Indianapolis:20250103T150000
DTSTAMP:20260423T172242
CREATED:20240925T134007Z
LAST-MODIFIED:20240925T134007Z
UID:46929-1735911000-1735916400@www.myepl.org
SUMMARY:Popcorn and a Movie
DESCRIPTION:Enjoy free popcorn and an afternoon movie over winter break. \nFriday\, Dec. 27 – “Inside Out 2” (rated PG\, 1h;40m) \nFriday\, Jan. 3 – “Despicable Me 4” (rated PG\, 1h;34m)
URL:https://www.myepl.org/event/popcorn-and-a-movie/2025-01-03/
LOCATION:Cleveland Branch\, 53715 C.R. 1\, Elkhart\, IN\, 46514\, United States
CATEGORIES:Movies
ATTACH;FMTTYPE=image/png:https://www.myepl.org/wp-content/uploads/2023/04/Movie-and-Popcorn-Calendar.png
END:VEVENT
BEGIN:VEVENT
DTSTART;TZID=America/Indiana/Indianapolis:20241227T133000
DTEND;TZID=America/Indiana/Indianapolis:20241227T150000
DTSTAMP:20260423T172242
CREATED:20240925T134007Z
LAST-MODIFIED:20241209T185553Z
UID:45771-1735306200-1735311600@www.myepl.org
SUMMARY:Popcorn and a Movie
DESCRIPTION:Enjoy free popcorn and an afternoon movie over winter break. \nFriday\, Dec. 27 – “Inside Out 2” (rated PG\, 1h;40m) \nFriday\, Jan. 3 – “Despicable Me 4” (rated PG\, 1h;34m)
URL:https://www.myepl.org/event/popcorn-and-a-movie/2024-12-27/
LOCATION:Cleveland Branch\, 53715 C.R. 1\, Elkhart\, IN\, 46514\, United States
CATEGORIES:Movies
ATTACH;FMTTYPE=image/png:https://www.myepl.org/wp-content/uploads/2023/04/Movie-and-Popcorn-Calendar.png
END:VEVENT
BEGIN:VEVENT
DTSTART;TZID=America/Indiana/Indianapolis:20241121T163000
DTEND;TZID=America/Indiana/Indianapolis:20241121T180000
DTSTAMP:20260423T172242
CREATED:20240919T144639Z
LAST-MODIFIED:20241113T215414Z
UID:45558-1732206600-1732212000@www.myepl.org
SUMMARY:Fun Family Movie
DESCRIPTION:Enjoy free popcorn and a movie showing. Check our Facebook to see what’s playing.
URL:https://www.myepl.org/event/fun-family-movie-11/
LOCATION:Downtown Library\, 300 S. Second St.\, Elkhart\, IN\, 46516\, United States
CATEGORIES:Movies
ATTACH;FMTTYPE=image/png:https://www.myepl.org/wp-content/uploads/2024/09/garfieldmovie.png
END:VEVENT
BEGIN:VEVENT
DTSTART;TZID=America/Indiana/Indianapolis:20241025T133000
DTEND;TZID=America/Indiana/Indianapolis:20241025T153000
DTSTAMP:20260423T172242
CREATED:20240627T184335Z
LAST-MODIFIED:20240627T184446Z
UID:44422-1729863000-1729870200@www.myepl.org
SUMMARY:Popcorn and a Movie: "IF"
DESCRIPTION:Enjoy free popcorn and a showing of the movie “IF” (PG\, 1h:34m).
URL:https://www.myepl.org/event/popcorn-and-a-movie-if/
LOCATION:Cleveland Branch\, 53715 C.R. 1\, Elkhart\, IN\, 46514\, United States
CATEGORIES:Movies
ATTACH;FMTTYPE=image/png:https://www.myepl.org/wp-content/uploads/2023/04/Movie-and-Popcorn-Calendar.png
END:VEVENT
BEGIN:VEVENT
DTSTART;TZID=America/Indiana/Indianapolis:20241023T163000
DTEND;TZID=America/Indiana/Indianapolis:20241023T183000
DTSTAMP:20260423T172242
CREATED:20240923T192713Z
LAST-MODIFIED:20240925T122736Z
UID:45727-1729701000-1729708200@www.myepl.org
SUMMARY:Free Teen Movie: Hocus Pocus 2
DESCRIPTION:Get into the spooky season spirit with a free showing of “Hocus Pocus 2.” The movie is 1h:43m and rated PG. Get a free just for showing up\, while supplies last.
URL:https://www.myepl.org/event/free-teen-movie-hocus-pocus-2/
LOCATION:Downtown Library\, 300 S. Second St.\, Elkhart\, IN\, 46516\, United States
CATEGORIES:Movies
ATTACH;FMTTYPE=image/jpeg:https://www.myepl.org/wp-content/uploads/2024/09/hocus-pocus-2.jpeg
END:VEVENT
BEGIN:VEVENT
DTSTART;TZID=America/Indiana/Indianapolis:20241017T163000
DTEND;TZID=America/Indiana/Indianapolis:20241017T183000
DTSTAMP:20260423T172242
CREATED:20240628T200933Z
LAST-MODIFIED:20240930T143442Z
UID:44524-1729182600-1729189800@www.myepl.org
SUMMARY:Fun Family Movie: "Inside Out 2"
DESCRIPTION:Enjoy popcorn and a showing of a recent movie. We’re showing “Inside Out 2” (rated PG\, 1h36m). 
URL:https://www.myepl.org/event/fun-family-movie-10/
LOCATION:Downtown Library\, 300 S. Second St.\, Elkhart\, IN\, 46516\, United States
CATEGORIES:Movies
ATTACH;FMTTYPE=image/webp:https://www.myepl.org/wp-content/uploads/2024/06/74049229007-inside-out-2-onlineus-epubstillpub-16.webp
END:VEVENT
BEGIN:VEVENT
DTSTART;TZID=America/Indiana/Indianapolis:20240926T163000
DTEND;TZID=America/Indiana/Indianapolis:20240926T180000
DTSTAMP:20260423T172242
CREATED:20240628T200821Z
LAST-MODIFIED:20240917T183824Z
UID:44522-1727368200-1727373600@www.myepl.org
SUMMARY:Fun Family Movie: "IF
DESCRIPTION:Enjoy popcorn and a showing of a recent movie. Check our Facebook page to see what’s playing.
URL:https://www.myepl.org/event/fun-family-movie-9/
LOCATION:Downtown Library\, 300 S. Second St.\, Elkhart\, IN\, 46516\, United States
CATEGORIES:Movies
ATTACH;FMTTYPE=image/jpeg:https://www.myepl.org/wp-content/uploads/2024/06/Comicbookcom.jpg
END:VEVENT
BEGIN:VEVENT
DTSTART;TZID=America/Indiana/Indianapolis:20240828T150000
DTEND;TZID=America/Indiana/Indianapolis:20240828T163000
DTSTAMP:20260423T172242
CREATED:20240327T161715Z
LAST-MODIFIED:20240730T125724Z
UID:43062-1724857200-1724862600@www.myepl.org
SUMMARY:Wednesday Movie Matinees
DESCRIPTION:Enjoy popcorn and drinks while we watch a family movie. \nAug. 28 – The Garfield Movie (rated PG)
URL:https://www.myepl.org/event/wednesday-movie-matinees/
LOCATION:Pierre Moran Branch\, 2400 Benham Ave\, Elkhart\, IN\, 46517\, United States
CATEGORIES:Movies
ATTACH;FMTTYPE=image/png:https://www.myepl.org/wp-content/uploads/2024/03/wednesdaymoviematinees.png
END:VEVENT
BEGIN:VEVENT
DTSTART;TZID=America/Indiana/Indianapolis:20240808T133000
DTEND;TZID=America/Indiana/Indianapolis:20240808T150000
DTSTAMP:20260423T172242
CREATED:20240325T140748Z
LAST-MODIFIED:20240730T125620Z
UID:43016-1723123800-1723129200@www.myepl.org
SUMMARY:Popcorn and Movies
DESCRIPTION:Join us at Cleveland for free popcorn and a movie showing. \nAug. 8 – Kung Fu Panda 4\, rated PG\, 92 minutes
URL:https://www.myepl.org/event/popcorn-and-movies/
LOCATION:Cleveland Branch\, 53715 C.R. 1\, Elkhart\, IN\, 46514\, United States
CATEGORIES:Movies
ATTACH;FMTTYPE=image/png:https://www.myepl.org/wp-content/uploads/2023/04/Movie-and-Popcorn-Calendar.png
END:VEVENT
BEGIN:VEVENT
DTSTART;TZID=America/Indiana/Indianapolis:20240620T163000
DTEND;TZID=America/Indiana/Indianapolis:20240620T180000
DTSTAMP:20260423T172242
CREATED:20240401T160831Z
LAST-MODIFIED:20240611T164002Z
UID:43216-1718901000-1718906400@www.myepl.org
SUMMARY:Fun Family Movie: Migration
DESCRIPTION:Join us for free popcorn and a recently released movie. We’re showing “Migration” (rated PG\, 1 hour\, 22 minutes). RSVP on our Facebook page.
URL:https://www.myepl.org/event/fun-family-movie-8/
LOCATION:Downtown Library\, 300 S. Second St.\, Elkhart\, IN\, 46516\, United States
CATEGORIES:Movies
ATTACH;FMTTYPE=image/jpeg:https://www.myepl.org/wp-content/uploads/2024/04/migration-review-blogroll-1702843620076.jpg
END:VEVENT
BEGIN:VEVENT
DTSTART;TZID=America/Indiana/Indianapolis:20240523T163000
DTEND;TZID=America/Indiana/Indianapolis:20240523T183000
DTSTAMP:20260423T172243
CREATED:20240401T160424Z
LAST-MODIFIED:20240507T140320Z
UID:43213-1716481800-1716489000@www.myepl.org
SUMMARY:Fun Family Movie: Wonka
DESCRIPTION:Enjoy free popcorn and a showing of Wonka (rated PG; run time 1:58).
URL:https://www.myepl.org/event/fun-family-movie-7/
LOCATION:Downtown Library\, 300 S. Second St.\, Elkhart\, IN\, 46516\, United States
CATEGORIES:Movies
ATTACH;FMTTYPE=image/jpeg:https://www.myepl.org/wp-content/uploads/2024/04/movie-review-wonka.800x600.jpg
END:VEVENT
BEGIN:VEVENT
DTSTART;TZID=America/Indiana/Indianapolis:20240429T163000
DTEND;TZID=America/Indiana/Indianapolis:20240429T180000
DTSTAMP:20260423T172243
CREATED:20240222T195443Z
LAST-MODIFIED:20240417T203021Z
UID:42336-1714408200-1714413600@www.myepl.org
SUMMARY:Fun Family Movie
DESCRIPTION:Join us for free popcorn and a showing of “Paw Patrol: The Mighty Movie.” It is rated PG and 95 minutes.
URL:https://www.myepl.org/event/fun-family-movie-6/
LOCATION:Downtown Library\, 300 S. Second St.\, Elkhart\, IN\, 46516\, United States
CATEGORIES:Movies
ATTACH;FMTTYPE=image/jpeg:https://www.myepl.org/wp-content/uploads/2018/08/Paw-Patrol.jpg
END:VEVENT
BEGIN:VEVENT
DTSTART;TZID=America/Indiana/Indianapolis:20240403T140000
DTEND;TZID=America/Indiana/Indianapolis:20240403T160000
DTSTAMP:20260423T172243
CREATED:20231220T140443Z
LAST-MODIFIED:20240320T151728Z
UID:41369-1712152800-1712160000@www.myepl.org
SUMMARY:Teen Movie Matinee
DESCRIPTION:School is out\, so bring your friends and enjoy an afternoon movie. Check our Facebook Page to see what’s playing.
URL:https://www.myepl.org/event/teen-movie-matinee-2/
LOCATION:Downtown Library\, 300 S. Second St.\, Elkhart\, IN\, 46516\, United States
CATEGORIES:Movies
ATTACH;FMTTYPE=image/jpeg:https://www.myepl.org/wp-content/uploads/2023/12/hunger-games-ballad.jpeg
END:VEVENT
BEGIN:VEVENT
DTSTART;TZID=America/Indiana/Indianapolis:20240321T163000
DTEND;TZID=America/Indiana/Indianapolis:20240321T180000
DTSTAMP:20260423T172243
CREATED:20240222T195326Z
LAST-MODIFIED:20240311T193939Z
UID:42334-1711038600-1711044000@www.myepl.org
SUMMARY:Fun Family Movie
DESCRIPTION:Join us for free popcorn and a showing of Disney’s “Wish.” It is rated PG and is 95 minutes.
URL:https://www.myepl.org/event/fun-family-movie-5/
LOCATION:Downtown Library\, 300 S. Second St.\, Elkhart\, IN\, 46516\, United States
CATEGORIES:Movies
ATTACH;FMTTYPE=image/jpeg:https://www.myepl.org/wp-content/uploads/2024/02/p24646117_v_h10_ag.jpg
END:VEVENT
BEGIN:VEVENT
DTSTART;TZID=America/Indiana/Indianapolis:20240222T163000
DTEND;TZID=America/Indiana/Indianapolis:20240222T183000
DTSTAMP:20260423T172243
CREATED:20240108T201949Z
LAST-MODIFIED:20240222T194845Z
UID:41719-1708619400-1708626600@www.myepl.org
SUMMARY:Fun Family Movie
DESCRIPTION:Join us for free popcorn and a recently released movie. We’re showing “Trolls Band Together\,” rated PG\, 91 minutes.
URL:https://www.myepl.org/event/fun-family-movie-4/
LOCATION:Downtown Library\, 300 S. Second St.\, Elkhart\, IN\, 46516\, United States
CATEGORIES:Movies
ATTACH;FMTTYPE=image/png:https://www.myepl.org/wp-content/uploads/2022/07/Fun-Family-Movie-Calendar-01.png
END:VEVENT
BEGIN:VEVENT
DTSTART;TZID=America/Indiana/Indianapolis:20240216T140000
DTEND;TZID=America/Indiana/Indianapolis:20240216T160000
DTSTAMP:20260423T172243
CREATED:20231220T140241Z
LAST-MODIFIED:20231220T140241Z
UID:41366-1708092000-1708099200@www.myepl.org
SUMMARY:Teen Movie Matinee: "Five Nights at Freddy's"
DESCRIPTION:Spend the afternoon of your day off school watching a movie with friends. The movie is 1 hour\, 49 minutes long and rated PG-13.
URL:https://www.myepl.org/event/teen-movie-matinee-five-nights-at-freddys/
LOCATION:Downtown Library\, 300 S. Second St.\, Elkhart\, IN\, 46516\, United States
CATEGORIES:Movies
END:VEVENT
END:VCALENDAR