BEGIN:VCALENDAR
VERSION:2.0
PRODID:-//Elkhart Public Library - ECPv6.15.20//NONSGML v1.0//EN
CALSCALE:GREGORIAN
METHOD:PUBLISH
X-ORIGINAL-URL:https://www.myepl.org
X-WR-CALDESC:Events for Elkhart Public Library
REFRESH-INTERVAL;VALUE=DURATION:PT1H
X-Robots-Tag:noindex
X-PUBLISHED-TTL:PT1H
BEGIN:VTIMEZONE
TZID:America/Indiana/Indianapolis
BEGIN:DAYLIGHT
TZOFFSETFROM:-0500
TZOFFSETTO:-0400
TZNAME:EDT
DTSTART:20220313T070000
END:DAYLIGHT
BEGIN:STANDARD
TZOFFSETFROM:-0400
TZOFFSETTO:-0500
TZNAME:EST
DTSTART:20221106T060000
END:STANDARD
BEGIN:DAYLIGHT
TZOFFSETFROM:-0500
TZOFFSETTO:-0400
TZNAME:EDT
DTSTART:20230312T070000
END:DAYLIGHT
BEGIN:STANDARD
TZOFFSETFROM:-0400
TZOFFSETTO:-0500
TZNAME:EST
DTSTART:20231105T060000
END:STANDARD
BEGIN:DAYLIGHT
TZOFFSETFROM:-0500
TZOFFSETTO:-0400
TZNAME:EDT
DTSTART:20240310T070000
END:DAYLIGHT
BEGIN:STANDARD
TZOFFSETFROM:-0400
TZOFFSETTO:-0500
TZNAME:EST
DTSTART:20241103T060000
END:STANDARD
END:VTIMEZONE
BEGIN:VEVENT
DTSTART;TZID=America/Indiana/Indianapolis:20231027T133000
DTEND;TZID=America/Indiana/Indianapolis:20231027T150000
DTSTAMP:20260424T090351
CREATED:20230929T173216Z
LAST-MODIFIED:20231009T135015Z
UID:40120-1698413400-1698418800@www.myepl.org
SUMMARY:Free Movie: Hotel Transylvania: Transformania
DESCRIPTION:Come in for a free spooky season movie. Hotel Transylvania: Transformania is rated PG and is 87 minutes long.
URL:https://www.myepl.org/event/free-movie-hotel-transylvania-transformania/
LOCATION:Cleveland Branch\, 53715 C.R. 1\, Elkhart\, IN\, 46514\, United States
CATEGORIES:Movies
ATTACH;FMTTYPE=image/png:https://www.myepl.org/wp-content/uploads/2023/09/Free-Movie-Hotel-Transylvania-Transformania-Calendar.png
END:VEVENT
BEGIN:VEVENT
DTSTART;TZID=America/Indiana/Indianapolis:20231019T163000
DTEND;TZID=America/Indiana/Indianapolis:20231019T180000
DTSTAMP:20260424T090351
CREATED:20230630T132425Z
LAST-MODIFIED:20231012T131205Z
UID:37401-1697733000-1697738400@www.myepl.org
SUMMARY:Fun Family Movie - Spider-Man Across the Spider-Verse
DESCRIPTION:Enjoy free popcorn and a recently released movie. We’re showing Spider-Man: Across the Spider-Verse\, rated PG\, 2 hours\, 16 minutes run time. RSVP on our Facebook Page.
URL:https://www.myepl.org/event/fun-family-movie-24/
LOCATION:Downtown Library\, 300 S. Second St.\, Elkhart\, IN\, 46516\, United States
CATEGORIES:Movies
ATTACH;FMTTYPE=image/png:https://www.myepl.org/wp-content/uploads/2022/07/Fun-Family-Movie-Calendar-01.png
END:VEVENT
BEGIN:VEVENT
DTSTART;TZID=America/Indiana/Indianapolis:20230921T163000
DTEND;TZID=America/Indiana/Indianapolis:20230921T180000
DTSTAMP:20260424T090351
CREATED:20230630T132055Z
LAST-MODIFIED:20230907T123217Z
UID:37399-1695313800-1695319200@www.myepl.org
SUMMARY:Fun Family Movie
DESCRIPTION:Free popcorn and a recently released movie. We’re showing “The Super Mario Bros. Movie.” It’s 1 hour\, 32 minutes and rated PG. RSVP on our Facebook Page.
URL:https://www.myepl.org/event/fun-family-movie-23/
LOCATION:Downtown Library\, 300 S. Second St.\, Elkhart\, IN\, 46516\, United States
CATEGORIES:Movies
ATTACH;FMTTYPE=image/jpeg:https://www.myepl.org/wp-content/uploads/2023/06/02-smb-dm-mobile-banner-1080x745-pl-f01-022723-63fe3cbc4df54-1.jpeg
END:VEVENT
BEGIN:VEVENT
DTSTART;TZID=America/Indiana/Indianapolis:20230607T163000
DTEND;TZID=America/Indiana/Indianapolis:20230607T183000
DTSTAMP:20260424T090351
CREATED:20230403T164416Z
LAST-MODIFIED:20230403T164416Z
UID:36007-1686155400-1686162600@www.myepl.org
SUMMARY:Fun Family Movie
DESCRIPTION:Enjoy free popcorn and a movie. Check our Facebook for what’s playing.
URL:https://www.myepl.org/event/fun-family-movie-22/
LOCATION:Downtown Library\, 300 S. Second St.\, Elkhart\, IN\, 46516\, United States
CATEGORIES:Movies
ATTACH;FMTTYPE=image/png:https://www.myepl.org/wp-content/uploads/2022/07/Fun-Family-Movie-Calendar-01.png
END:VEVENT
BEGIN:VEVENT
DTSTART;TZID=America/Indiana/Indianapolis:20230606T130000
DTEND;TZID=America/Indiana/Indianapolis:20230606T150000
DTSTAMP:20260424T090351
CREATED:20230403T133204Z
LAST-MODIFIED:20230629T193143Z
UID:35986-1686056400-1686063600@www.myepl.org
SUMMARY:Movie and Popcorn
DESCRIPTION:Join us monthly for a free movie and popcorn. \nJune 6 – DC League of Super-Pets\nJuly 11 – Puss in Boots: The Last Wish\nAug. 8 – Minions: The Rise of Gru
URL:https://www.myepl.org/event/movie-and-popcorn/2023-06-06/
LOCATION:Cleveland Branch\, 53715 C.R. 1\, Elkhart\, IN\, 46514\, United States
CATEGORIES:Movies
ATTACH;FMTTYPE=image/png:https://www.myepl.org/wp-content/uploads/2023/04/Movie-and-Popcorn-Calendar.png
END:VEVENT
BEGIN:VEVENT
DTSTART;TZID=America/Indiana/Indianapolis:20230602T203000
DTEND;TZID=America/Indiana/Indianapolis:20230602T223000
DTSTAMP:20260424T090351
CREATED:20230404T162818Z
LAST-MODIFIED:20230523T181901Z
UID:36146-1685737800-1685745000@www.myepl.org
SUMMARY:Movies Under the Stars
DESCRIPTION:Bring a blanket or chair and join us for a movie under the stars. Check our Facebook page to see what’s playing.
URL:https://www.myepl.org/event/movies-under-the-stars/2023-06-02/
LOCATION:Pierre Moran Branch\, 2400 Benham Ave\, Elkhart\, IN\, 46517\, United States
CATEGORIES:Movies
ATTACH;FMTTYPE=image/png:https://www.myepl.org/wp-content/uploads/2023/04/Movies-Under-the-Stars-Calendar.png
END:VEVENT
BEGIN:VEVENT
DTSTART;TZID=America/Indiana/Indianapolis:20230420T163000
DTEND;TZID=America/Indiana/Indianapolis:20230420T183000
DTSTAMP:20260424T090351
CREATED:20221215T172001Z
LAST-MODIFIED:20230413T194923Z
UID:34259-1682008200-1682015400@www.myepl.org
SUMMARY:Fun Family Movie: Rumble
DESCRIPTION:Enjoy free popcorn and a recent release movie. We’re showing “Rumble” (2021). The movie is rated PG and is 104 minutes. RSVP on our Facebook page.
URL:https://www.myepl.org/event/fun-family-movie-21/
LOCATION:Downtown Library\, 300 S. Second St.\, Elkhart\, IN\, 46516\, United States
CATEGORIES:Movies
ATTACH;FMTTYPE=image/jpeg:https://www.myepl.org/wp-content/uploads/2022/12/rumble-movie.jpeg
END:VEVENT
BEGIN:VEVENT
DTSTART;TZID=America/Indiana/Indianapolis:20230405T130000
DTEND;TZID=America/Indiana/Indianapolis:20230405T150000
DTSTAMP:20260424T090351
CREATED:20230309T155225Z
LAST-MODIFIED:20230329T151855Z
UID:35534-1680699600-1680706800@www.myepl.org
SUMMARY:Free Spring Break Movie: Lyle\, Lyle Crocodile
DESCRIPTION:Enjoy free popcorn and a showing of “Lyle\, Lyle Crocodile.” The movie is rated PG and is 1 hour\, 46 minutes.
URL:https://www.myepl.org/event/free-spring-break-movie-lyle-lyle-crocodile/
LOCATION:Cleveland Branch\, 53715 C.R. 1\, Elkhart\, IN\, 46514\, United States
CATEGORIES:Movies
END:VEVENT
BEGIN:VEVENT
DTSTART;TZID=America/Indiana/Indianapolis:20230330T163000
DTEND;TZID=America/Indiana/Indianapolis:20230330T183000
DTSTAMP:20260424T090351
CREATED:20221215T171842Z
LAST-MODIFIED:20230314T152524Z
UID:34257-1680193800-1680201000@www.myepl.org
SUMMARY:Fun Family Movie: Puss in Boots
DESCRIPTION:Enjoy free popcorn and Puss in Boots: The Last Wish. The movie is rated PG and 1 hour\, 40 minutes. RSVP on our Facebook page.
URL:https://www.myepl.org/event/fun-family-movie-20/
LOCATION:Downtown Library\, 300 S. Second St.\, Elkhart\, IN\, 46516\, United States
CATEGORIES:Movies
ATTACH;FMTTYPE=image/webp:https://www.myepl.org/wp-content/uploads/2022/12/Puss-in-boots.webp
END:VEVENT
BEGIN:VEVENT
DTSTART;TZID=America/Indiana/Indianapolis:20230223T163000
DTEND;TZID=America/Indiana/Indianapolis:20230223T183000
DTSTAMP:20260424T090351
CREATED:20221215T171741Z
LAST-MODIFIED:20230207T165819Z
UID:34255-1677169800-1677177000@www.myepl.org
SUMMARY:Fun Family Movie: Strange World
DESCRIPTION:Enjoy free popcorn and Strange World (2022)\, rated PG\, 102 minutes. RSVP on our Facebook page.
URL:https://www.myepl.org/event/fun-family-movie-19/
LOCATION:Downtown Library\, 300 S. Second St.\, Elkhart\, IN\, 46516\, United States
CATEGORIES:Movies
END:VEVENT
END:VCALENDAR