BEGIN:VCALENDAR
VERSION:2.0
PRODID:-//Elkhart Public Library - ECPv6.15.20//NONSGML v1.0//EN
CALSCALE:GREGORIAN
METHOD:PUBLISH
X-ORIGINAL-URL:https://www.myepl.org
X-WR-CALDESC:Events for Elkhart Public Library
REFRESH-INTERVAL;VALUE=DURATION:PT1H
X-Robots-Tag:noindex
X-PUBLISHED-TTL:PT1H
BEGIN:VTIMEZONE
TZID:America/Indiana/Indianapolis
BEGIN:DAYLIGHT
TZOFFSETFROM:-0500
TZOFFSETTO:-0400
TZNAME:EDT
DTSTART:20240310T070000
END:DAYLIGHT
BEGIN:STANDARD
TZOFFSETFROM:-0400
TZOFFSETTO:-0500
TZNAME:EST
DTSTART:20241103T060000
END:STANDARD
BEGIN:DAYLIGHT
TZOFFSETFROM:-0500
TZOFFSETTO:-0400
TZNAME:EDT
DTSTART:20250309T070000
END:DAYLIGHT
BEGIN:STANDARD
TZOFFSETFROM:-0400
TZOFFSETTO:-0500
TZNAME:EST
DTSTART:20251102T060000
END:STANDARD
BEGIN:DAYLIGHT
TZOFFSETFROM:-0500
TZOFFSETTO:-0400
TZNAME:EDT
DTSTART:20260308T070000
END:DAYLIGHT
BEGIN:STANDARD
TZOFFSETFROM:-0400
TZOFFSETTO:-0500
TZNAME:EST
DTSTART:20261101T060000
END:STANDARD
END:VTIMEZONE
BEGIN:VEVENT
DTSTART;TZID=America/Indiana/Indianapolis:20251104T160000
DTEND;TZID=America/Indiana/Indianapolis:20251104T170000
DTSTAMP:20260420T173908
CREATED:20250922T161806Z
LAST-MODIFIED:20250922T161806Z
UID:52209-1762272000-1762275600@www.myepl.org
SUMMARY:Bilingual Storytime/Hora de Cuentos Billingües
DESCRIPTION:Hear new phrases and stories in English and in Spanish during this all-ages Storytime. We finish with a hands-on activity. \nAcompáñenos el primer martes de cada mes para escuchar cuentos en inglés y español mientras aprende palabras y frases en español. Después de los cuentos habrá una actividad manual.
URL:https://www.myepl.org/event/bilingual-storytime-hora-de-cuentos-billingues/2025-11-04/
LOCATION:Pierre Moran Branch\, 2400 Benham Ave\, Elkhart\, IN\, 46517\, United States
CATEGORIES:Preschool Programs,School Age Programs,Storytimes,Teen Programs
ATTACH;FMTTYPE=image/jpeg:https://www.myepl.org/wp-content/uploads/2025/06/Storytime-with-Miss-Angie-02-scaled.jpg
END:VEVENT
BEGIN:VEVENT
DTSTART;TZID=America/Indiana/Indianapolis:20251105T160000
DTEND;TZID=America/Indiana/Indianapolis:20251105T180000
DTSTAMP:20260420T173908
CREATED:20250922T154849Z
LAST-MODIFIED:20251031T135327Z
UID:52200-1762358400-1762365600@www.myepl.org
SUMMARY:Cookies and Coloring Club
DESCRIPTION:Drop into Pierre Moran anytime from 4 to 6 p.m. for an all-ages open coloring session. Relax\, get creative and use our available supplies. Snack on cookies while you work.
URL:https://www.myepl.org/event/cookies-and-coloring-club/2025-11-05/
LOCATION:Pierre Moran Branch\, 2400 Benham Ave\, Elkhart\, IN\, 46517\, United States
CATEGORIES:Art,Preschool Programs,School Age Programs
ATTACH;FMTTYPE=image/png:https://www.myepl.org/wp-content/uploads/2025/09/coloring_Calendar-copy.png
END:VEVENT
BEGIN:VEVENT
DTSTART;TZID=America/Indiana/Indianapolis:20251107T110000
DTEND;TZID=America/Indiana/Indianapolis:20251107T120000
DTSTAMP:20260420T173908
CREATED:20251006T141320Z
LAST-MODIFIED:20251006T141320Z
UID:52498-1762513200-1762516800@www.myepl.org
SUMMARY:Talk with Your Baby
DESCRIPTION:This 8-week program for new parents introduces childhood literacy to parents with an expert from Notre Dame’s Robinson Community Learning Center. Receive free books\, tips for talking to your baby and guided activities for your infant.
URL:https://www.myepl.org/event/talk-with-your-baby-2/2025-11-07/
LOCATION:Downtown Library\, 300 S. Second St.\, Elkhart\, IN\, 46516\, United States
CATEGORIES:Infant Programs,Preschool Programs
ATTACH;FMTTYPE=image/jpeg:https://www.myepl.org/wp-content/uploads/2025/10/Talk-With-Your-Baby-1-scaled.jpg
END:VEVENT
BEGIN:VEVENT
DTSTART;TZID=America/Indiana/Indianapolis:20251114T100000
DTEND;TZID=America/Indiana/Indianapolis:20251114T110000
DTSTAMP:20260420T173908
CREATED:20250918T150820Z
LAST-MODIFIED:20251105T143023Z
UID:52052-1763114400-1763118000@www.myepl.org
SUMMARY:Preschool Playdough Party
DESCRIPTION:Stations of playdough fun and creation to explore and play with. Make something to take home.
URL:https://www.myepl.org/event/preschool-playdough-party/
LOCATION:Dunlap Branch\, 58485 C.R. 13 East\, Elkhart\, IN\, 46516\, United States
CATEGORIES:Just for Fun,Preschool Programs
ATTACH;FMTTYPE=image/jpeg:https://www.myepl.org/wp-content/uploads/2025/09/Storytime-with-Miss-Rhonda-11-scaled.jpg
END:VEVENT
BEGIN:VEVENT
DTSTART;TZID=America/Indiana/Indianapolis:20251114T110000
DTEND;TZID=America/Indiana/Indianapolis:20251114T120000
DTSTAMP:20260420T173908
CREATED:20251006T141320Z
LAST-MODIFIED:20251006T141320Z
UID:52500-1763118000-1763121600@www.myepl.org
SUMMARY:Talk with Your Baby
DESCRIPTION:This 8-week program for new parents introduces childhood literacy to parents with an expert from Notre Dame’s Robinson Community Learning Center. Receive free books\, tips for talking to your baby and guided activities for your infant.
URL:https://www.myepl.org/event/talk-with-your-baby-2/2025-11-14/
LOCATION:Downtown Library\, 300 S. Second St.\, Elkhart\, IN\, 46516\, United States
CATEGORIES:Infant Programs,Preschool Programs
ATTACH;FMTTYPE=image/jpeg:https://www.myepl.org/wp-content/uploads/2025/10/Talk-With-Your-Baby-1-scaled.jpg
END:VEVENT
BEGIN:VEVENT
DTSTART;TZID=America/Indiana/Indianapolis:20251121T110000
DTEND;TZID=America/Indiana/Indianapolis:20251121T120000
DTSTAMP:20260420T173908
CREATED:20251006T141320Z
LAST-MODIFIED:20251006T141320Z
UID:52501-1763722800-1763726400@www.myepl.org
SUMMARY:Talk with Your Baby
DESCRIPTION:This 8-week program for new parents introduces childhood literacy to parents with an expert from Notre Dame’s Robinson Community Learning Center. Receive free books\, tips for talking to your baby and guided activities for your infant.
URL:https://www.myepl.org/event/talk-with-your-baby-2/2025-11-21/
LOCATION:Downtown Library\, 300 S. Second St.\, Elkhart\, IN\, 46516\, United States
CATEGORIES:Infant Programs,Preschool Programs
ATTACH;FMTTYPE=image/jpeg:https://www.myepl.org/wp-content/uploads/2025/10/Talk-With-Your-Baby-1-scaled.jpg
END:VEVENT
BEGIN:VEVENT
DTSTART;TZID=America/Indiana/Indianapolis:20251125T100000
DTEND;TZID=America/Indiana/Indianapolis:20251125T110000
DTSTAMP:20260420T173908
CREATED:20250917T160419Z
LAST-MODIFIED:20250917T160419Z
UID:51886-1764064800-1764068400@www.myepl.org
SUMMARY:Preschool Party: Gabby's Dollhouse
DESCRIPTION:Stories and activities inspired by Gabby and her cat friends.
URL:https://www.myepl.org/event/preschool-party-gabbys-dollhouse-2/
LOCATION:Downtown Library\, 300 S. Second St.\, Elkhart\, IN\, 46516\, United States
CATEGORIES:Just for Fun,Preschool Programs
ATTACH;FMTTYPE=image/jpeg:https://www.myepl.org/wp-content/uploads/2022/12/gabbys-dollhouse-season-4-sets-netflix-release-date.jpeg
END:VEVENT
BEGIN:VEVENT
DTSTART;TZID=America/Indiana/Indianapolis:20251128T110000
DTEND;TZID=America/Indiana/Indianapolis:20251128T120000
DTSTAMP:20260420T173908
CREATED:20251006T141320Z
LAST-MODIFIED:20251006T141320Z
UID:52502-1764327600-1764331200@www.myepl.org
SUMMARY:Talk with Your Baby
DESCRIPTION:This 8-week program for new parents introduces childhood literacy to parents with an expert from Notre Dame’s Robinson Community Learning Center. Receive free books\, tips for talking to your baby and guided activities for your infant.
URL:https://www.myepl.org/event/talk-with-your-baby-2/2025-11-28/
LOCATION:Downtown Library\, 300 S. Second St.\, Elkhart\, IN\, 46516\, United States
CATEGORIES:Infant Programs,Preschool Programs
ATTACH;FMTTYPE=image/jpeg:https://www.myepl.org/wp-content/uploads/2025/10/Talk-With-Your-Baby-1-scaled.jpg
END:VEVENT
END:VCALENDAR