BEGIN:VCALENDAR
VERSION:2.0
PRODID:-//Elkhart Public Library - ECPv6.15.20//NONSGML v1.0//EN
CALSCALE:GREGORIAN
METHOD:PUBLISH
X-WR-CALNAME:Elkhart Public Library
X-ORIGINAL-URL:https://www.myepl.org
X-WR-CALDESC:Events for Elkhart Public Library
REFRESH-INTERVAL;VALUE=DURATION:PT1H
X-Robots-Tag:noindex
X-PUBLISHED-TTL:PT1H
BEGIN:VTIMEZONE
TZID:America/Indiana/Indianapolis
BEGIN:DAYLIGHT
TZOFFSETFROM:-0500
TZOFFSETTO:-0400
TZNAME:EDT
DTSTART:20250309T070000
END:DAYLIGHT
BEGIN:STANDARD
TZOFFSETFROM:-0400
TZOFFSETTO:-0500
TZNAME:EST
DTSTART:20251102T060000
END:STANDARD
BEGIN:DAYLIGHT
TZOFFSETFROM:-0500
TZOFFSETTO:-0400
TZNAME:EDT
DTSTART:20260308T070000
END:DAYLIGHT
BEGIN:STANDARD
TZOFFSETFROM:-0400
TZOFFSETTO:-0500
TZNAME:EST
DTSTART:20261101T060000
END:STANDARD
BEGIN:DAYLIGHT
TZOFFSETFROM:-0500
TZOFFSETTO:-0400
TZNAME:EDT
DTSTART:20270314T070000
END:DAYLIGHT
BEGIN:STANDARD
TZOFFSETFROM:-0400
TZOFFSETTO:-0500
TZNAME:EST
DTSTART:20271107T060000
END:STANDARD
END:VTIMEZONE
BEGIN:VEVENT
DTSTART;VALUE=DATE:20260102
DTEND;VALUE=DATE:20260103
DTSTAMP:20260420T014906
CREATED:20250922T162911Z
LAST-MODIFIED:20250922T162911Z
UID:52233-1767312000-1767398399@www.myepl.org
SUMMARY:Winter Break Boredom Busters
DESCRIPTION:Come into Cleveland Branch throughout winter break for a new daily activity during open hours. Puzzles\, games\, and crafts are just some of the fun. Plus\, join us on Fridays Dec. 26 and Jan. 2 at 1:30 p.m. for Popcorn and a Movie. \n• Dec. 26 – The Smurfs (PG\, 1:32)\n• Jan. 2 – How to Train Your Dragon (PG\, 2:05)
URL:https://www.myepl.org/event/winter-break-boredom-busters/2026-01-02/
LOCATION:Cleveland Branch\, 53715 C.R. 1\, Elkhart\, IN\, 46514\, United States
CATEGORIES:Just for Fun,Preschool Programs,School Age Programs,Seasonal,Teen Programs
ATTACH;FMTTYPE=image/png:https://www.myepl.org/wp-content/uploads/2022/10/Winter-Break-Boredom-Busters-01.png
END:VEVENT
BEGIN:VEVENT
DTSTART;VALUE=DATE:20260102
DTEND;VALUE=DATE:20260104
DTSTAMP:20260420T014906
CREATED:20250917T172753Z
LAST-MODIFIED:20251230T194907Z
UID:51931-1767312000-1767484799@www.myepl.org
SUMMARY:Make It and Take It: Polar Bears and Penguins
DESCRIPTION:Come by the downtown library throughout winter break for a new craft each day.
URL:https://www.myepl.org/event/make-it-and-take-it-polar-bears-and-penguins/2026-01-02/
LOCATION:Downtown Library\, 300 S. Second St.\, Elkhart\, IN\, 46516\, United States
CATEGORIES:Crafts,Preschool Programs,School Age Programs
ATTACH;FMTTYPE=image/png:https://www.myepl.org/wp-content/uploads/2025/09/Make-It-and-Take-It-Polar-Bears-and-Penguins_Calendar.png
END:VEVENT
BEGIN:VEVENT
DTSTART;TZID=America/Indiana/Indianapolis:20260102T110000
DTEND;TZID=America/Indiana/Indianapolis:20260102T120000
DTSTAMP:20260420T014906
CREATED:20251006T141320Z
LAST-MODIFIED:20251006T141320Z
UID:52507-1767351600-1767355200@www.myepl.org
SUMMARY:Talk with Your Baby
DESCRIPTION:This 8-week program for new parents introduces childhood literacy to parents with an expert from Notre Dame’s Robinson Community Learning Center. Receive free books\, tips for talking to your baby and guided activities for your infant.
URL:https://www.myepl.org/event/talk-with-your-baby-2/2026-01-02/
LOCATION:Downtown Library\, 300 S. Second St.\, Elkhart\, IN\, 46516\, United States
CATEGORIES:Infant Programs,Preschool Programs
ATTACH;FMTTYPE=image/jpeg:https://www.myepl.org/wp-content/uploads/2025/10/Talk-With-Your-Baby-1-scaled.jpg
END:VEVENT
BEGIN:VEVENT
DTSTART;VALUE=DATE:20260103
DTEND;VALUE=DATE:20260104
DTSTAMP:20260420T014906
CREATED:20250922T162911Z
LAST-MODIFIED:20250922T162911Z
UID:52234-1767398400-1767484799@www.myepl.org
SUMMARY:Winter Break Boredom Busters
DESCRIPTION:Come into Cleveland Branch throughout winter break for a new daily activity during open hours. Puzzles\, games\, and crafts are just some of the fun. Plus\, join us on Fridays Dec. 26 and Jan. 2 at 1:30 p.m. for Popcorn and a Movie. \n• Dec. 26 – The Smurfs (PG\, 1:32)\n• Jan. 2 – How to Train Your Dragon (PG\, 2:05)
URL:https://www.myepl.org/event/winter-break-boredom-busters/2026-01-03/
LOCATION:Cleveland Branch\, 53715 C.R. 1\, Elkhart\, IN\, 46514\, United States
CATEGORIES:Just for Fun,Preschool Programs,School Age Programs,Seasonal,Teen Programs
ATTACH;FMTTYPE=image/png:https://www.myepl.org/wp-content/uploads/2022/10/Winter-Break-Boredom-Busters-01.png
END:VEVENT
BEGIN:VEVENT
DTSTART;TZID=America/Indiana/Indianapolis:20260106T110000
DTEND;TZID=America/Indiana/Indianapolis:20260106T114500
DTSTAMP:20260420T014906
CREATED:20260104T180948Z
LAST-MODIFIED:20260104T180948Z
UID:54025-1767697200-1767699900@www.myepl.org
SUMMARY:Storytime at Osolo
DESCRIPTION:Miss Janell deserves a day off. So\, at this special edition of Storytime on Jan. 6\, Jodi Byer will be leading and reading. Come meet Mrs. Byer and keep making progress on early literacy. \nThe storytime is offered twice on Tuesdays for your convenience – 9:30 and 11 a.m. start times.
URL:https://www.myepl.org/event/storytime-at-osolo-2/
LOCATION:Osolo Branch\, 3429 E. Bristol St.\, Elkhart\, IN\, 46516\, United States
CATEGORIES:Preschool Programs,Storytimes
ATTACH;FMTTYPE=image/jpeg:https://www.myepl.org/wp-content/uploads/2022/12/Storytime-Osolo.jpg
END:VEVENT
BEGIN:VEVENT
DTSTART;TZID=America/Indiana/Indianapolis:20260106T160000
DTEND;TZID=America/Indiana/Indianapolis:20260106T170000
DTSTAMP:20260420T014906
CREATED:20250922T161806Z
LAST-MODIFIED:20250922T161806Z
UID:52211-1767715200-1767718800@www.myepl.org
SUMMARY:Bilingual Storytime/Hora de Cuentos Billingües
DESCRIPTION:Hear new phrases and stories in English and in Spanish during this all-ages Storytime. We finish with a hands-on activity. \nAcompáñenos el primer martes de cada mes para escuchar cuentos en inglés y español mientras aprende palabras y frases en español. Después de los cuentos habrá una actividad manual.
URL:https://www.myepl.org/event/bilingual-storytime-hora-de-cuentos-billingues/2026-01-06/
LOCATION:Pierre Moran Branch\, 2400 Benham Ave\, Elkhart\, IN\, 46517\, United States
CATEGORIES:Preschool Programs,School Age Programs,Storytimes,Teen Programs
ATTACH;FMTTYPE=image/jpeg:https://www.myepl.org/wp-content/uploads/2025/06/Storytime-with-Miss-Angie-02-scaled.jpg
END:VEVENT
BEGIN:VEVENT
DTSTART;TZID=America/Indiana/Indianapolis:20260107T160000
DTEND;TZID=America/Indiana/Indianapolis:20260107T180000
DTSTAMP:20260420T014906
CREATED:20250922T154849Z
LAST-MODIFIED:20251031T135328Z
UID:52202-1767801600-1767808800@www.myepl.org
SUMMARY:Cookies and Coloring Club
DESCRIPTION:Drop into Pierre Moran anytime from 4 to 6 p.m. for an all-ages open coloring session. Relax\, get creative and use our available supplies. Snack on cookies while you work.
URL:https://www.myepl.org/event/cookies-and-coloring-club/2026-01-07/
LOCATION:Pierre Moran Branch\, 2400 Benham Ave\, Elkhart\, IN\, 46517\, United States
CATEGORIES:Art,Preschool Programs,School Age Programs
ATTACH;FMTTYPE=image/png:https://www.myepl.org/wp-content/uploads/2025/09/coloring_Calendar-copy.png
END:VEVENT
BEGIN:VEVENT
DTSTART;TZID=America/Indiana/Indianapolis:20260109T110000
DTEND;TZID=America/Indiana/Indianapolis:20260109T120000
DTSTAMP:20260420T014906
CREATED:20251006T141320Z
LAST-MODIFIED:20251006T141320Z
UID:52508-1767956400-1767960000@www.myepl.org
SUMMARY:Talk with Your Baby
DESCRIPTION:This 8-week program for new parents introduces childhood literacy to parents with an expert from Notre Dame’s Robinson Community Learning Center. Receive free books\, tips for talking to your baby and guided activities for your infant.
URL:https://www.myepl.org/event/talk-with-your-baby-2/2026-01-09/
LOCATION:Downtown Library\, 300 S. Second St.\, Elkhart\, IN\, 46516\, United States
CATEGORIES:Infant Programs,Preschool Programs
ATTACH;FMTTYPE=image/jpeg:https://www.myepl.org/wp-content/uploads/2025/10/Talk-With-Your-Baby-1-scaled.jpg
END:VEVENT
BEGIN:VEVENT
DTSTART;TZID=America/Indiana/Indianapolis:20260116T110000
DTEND;TZID=America/Indiana/Indianapolis:20260116T120000
DTSTAMP:20260420T014906
CREATED:20251006T141320Z
LAST-MODIFIED:20251006T141320Z
UID:52509-1768561200-1768564800@www.myepl.org
SUMMARY:Talk with Your Baby
DESCRIPTION:This 8-week program for new parents introduces childhood literacy to parents with an expert from Notre Dame’s Robinson Community Learning Center. Receive free books\, tips for talking to your baby and guided activities for your infant.
URL:https://www.myepl.org/event/talk-with-your-baby-2/2026-01-16/
LOCATION:Downtown Library\, 300 S. Second St.\, Elkhart\, IN\, 46516\, United States
CATEGORIES:Infant Programs,Preschool Programs
ATTACH;FMTTYPE=image/jpeg:https://www.myepl.org/wp-content/uploads/2025/10/Talk-With-Your-Baby-1-scaled.jpg
END:VEVENT
BEGIN:VEVENT
DTSTART;TZID=America/Indiana/Indianapolis:20260120T100000
DTEND;TZID=America/Indiana/Indianapolis:20260120T110000
DTSTAMP:20260420T014906
CREATED:20250917T161244Z
LAST-MODIFIED:20260114T154814Z
UID:51888-1768903200-1768906800@www.myepl.org
SUMMARY:Preschool Party: Thomas the Train
DESCRIPTION:Chase a rainbow with Thomas the Train and other activities for young learners.
URL:https://www.myepl.org/event/preschool-party-thomas-the-train/
LOCATION:Downtown Library\, 300 S. Second St.\, Elkhart\, IN\, 46516\, United States
CATEGORIES:Preschool Programs
ATTACH;FMTTYPE=image/jpeg:https://www.myepl.org/wp-content/uploads/2025/09/Jan-Calendar-07.jpg
END:VEVENT
END:VCALENDAR