BEGIN:VCALENDAR
VERSION:2.0
PRODID:-//Elkhart Public Library - ECPv6.15.20//NONSGML v1.0//EN
CALSCALE:GREGORIAN
METHOD:PUBLISH
X-ORIGINAL-URL:https://www.myepl.org
X-WR-CALDESC:Events for Elkhart Public Library
REFRESH-INTERVAL;VALUE=DURATION:PT1H
X-Robots-Tag:noindex
X-PUBLISHED-TTL:PT1H
BEGIN:VTIMEZONE
TZID:America/Indiana/Indianapolis
BEGIN:DAYLIGHT
TZOFFSETFROM:-0500
TZOFFSETTO:-0400
TZNAME:EDT
DTSTART:20240310T070000
END:DAYLIGHT
BEGIN:STANDARD
TZOFFSETFROM:-0400
TZOFFSETTO:-0500
TZNAME:EST
DTSTART:20241103T060000
END:STANDARD
BEGIN:DAYLIGHT
TZOFFSETFROM:-0500
TZOFFSETTO:-0400
TZNAME:EDT
DTSTART:20250309T070000
END:DAYLIGHT
BEGIN:STANDARD
TZOFFSETFROM:-0400
TZOFFSETTO:-0500
TZNAME:EST
DTSTART:20251102T060000
END:STANDARD
BEGIN:DAYLIGHT
TZOFFSETFROM:-0500
TZOFFSETTO:-0400
TZNAME:EDT
DTSTART:20260308T070000
END:DAYLIGHT
BEGIN:STANDARD
TZOFFSETFROM:-0400
TZOFFSETTO:-0500
TZNAME:EST
DTSTART:20261101T060000
END:STANDARD
END:VTIMEZONE
BEGIN:VEVENT
DTSTART;VALUE=DATE:20251203
DTEND;VALUE=DATE:20251204
DTSTAMP:20260420T050248
CREATED:20250919T195244Z
LAST-MODIFIED:20251126T182829Z
UID:52163-1764720000-1764806399@www.myepl.org
SUMMARY:Disguise a Gingerbread Person
DESCRIPTION:Come in during open hours and use our available supplies to help a gingerbread person escape from being chased by disguising them as a favorite book character. Take it home or add it to our display. 
URL:https://www.myepl.org/event/disguise-a-ginger-person/2025-12-03/
LOCATION:Cleveland Branch\, 53715 C.R. 1\, Elkhart\, IN\, 46514\, United States
CATEGORIES:Just for Fun,Preschool Programs,School Age Programs,Seasonal
ATTACH;FMTTYPE=image/png:https://www.myepl.org/wp-content/uploads/2025/09/Disguise-a-Gingerbread-Person_Calendar.png
END:VEVENT
BEGIN:VEVENT
DTSTART;TZID=America/Indiana/Indianapolis:20251203T160000
DTEND;TZID=America/Indiana/Indianapolis:20251203T180000
DTSTAMP:20260420T050248
CREATED:20250922T154849Z
LAST-MODIFIED:20251031T135327Z
UID:52201-1764777600-1764784800@www.myepl.org
SUMMARY:Cookies and Coloring Club
DESCRIPTION:Drop into Pierre Moran anytime from 4 to 6 p.m. for an all-ages open coloring session. Relax\, get creative and use our available supplies. Snack on cookies while you work.
URL:https://www.myepl.org/event/cookies-and-coloring-club/2025-12-03/
LOCATION:Pierre Moran Branch\, 2400 Benham Ave\, Elkhart\, IN\, 46517\, United States
CATEGORIES:Art,Preschool Programs,School Age Programs
ATTACH;FMTTYPE=image/png:https://www.myepl.org/wp-content/uploads/2025/09/coloring_Calendar-copy.png
END:VEVENT
END:VCALENDAR