BEGIN:VCALENDAR
VERSION:2.0
PRODID:-//Elkhart Public Library - ECPv6.15.20//NONSGML v1.0//EN
CALSCALE:GREGORIAN
METHOD:PUBLISH
X-ORIGINAL-URL:https://www.myepl.org
X-WR-CALDESC:Events for Elkhart Public Library
REFRESH-INTERVAL;VALUE=DURATION:PT1H
X-Robots-Tag:noindex
X-PUBLISHED-TTL:PT1H
BEGIN:VTIMEZONE
TZID:America/Indiana/Indianapolis
BEGIN:DAYLIGHT
TZOFFSETFROM:-0500
TZOFFSETTO:-0400
TZNAME:EDT
DTSTART:20230312T070000
END:DAYLIGHT
BEGIN:STANDARD
TZOFFSETFROM:-0400
TZOFFSETTO:-0500
TZNAME:EST
DTSTART:20231105T060000
END:STANDARD
BEGIN:DAYLIGHT
TZOFFSETFROM:-0500
TZOFFSETTO:-0400
TZNAME:EDT
DTSTART:20240310T070000
END:DAYLIGHT
BEGIN:STANDARD
TZOFFSETFROM:-0400
TZOFFSETTO:-0500
TZNAME:EST
DTSTART:20241103T060000
END:STANDARD
BEGIN:DAYLIGHT
TZOFFSETFROM:-0500
TZOFFSETTO:-0400
TZNAME:EDT
DTSTART:20250309T070000
END:DAYLIGHT
BEGIN:STANDARD
TZOFFSETFROM:-0400
TZOFFSETTO:-0500
TZNAME:EST
DTSTART:20251102T060000
END:STANDARD
BEGIN:DAYLIGHT
TZOFFSETFROM:-0500
TZOFFSETTO:-0400
TZNAME:EDT
DTSTART:20260308T070000
END:DAYLIGHT
BEGIN:STANDARD
TZOFFSETFROM:-0400
TZOFFSETTO:-0500
TZNAME:EST
DTSTART:20261101T060000
END:STANDARD
END:VTIMEZONE
BEGIN:VEVENT
DTSTART;TZID=America/Indiana/Indianapolis:20250820T093000
DTEND;TZID=America/Indiana/Indianapolis:20250820T101500
DTSTAMP:20260421T014232
CREATED:20250317T203511Z
LAST-MODIFIED:20250725T192205Z
UID:50472-1755682200-1755684900@www.myepl.org
SUMMARY:Storytime at Cleveland
DESCRIPTION:Join us for as we build social and motor skills with stories\, song and a craft. Two sessions are offered for more families.
URL:https://www.myepl.org/event/storytime-with-miss-rhonda/2025-08-20/
LOCATION:Cleveland Branch\, 53715 C.R. 1\, Elkhart\, IN\, 46514\, United States
CATEGORIES:Preschool Programs,Storytimes
ATTACH;FMTTYPE=image/jpeg:https://www.myepl.org/wp-content/uploads/2022/10/Storytime-with-Miss-Rhonda-05-scaled.jpg
END:VEVENT
BEGIN:VEVENT
DTSTART;TZID=America/Indiana/Indianapolis:20250814T160000
DTEND;TZID=America/Indiana/Indianapolis:20250814T164500
DTSTAMP:20260421T014232
CREATED:20250613T200827Z
LAST-MODIFIED:20250613T200827Z
UID:50120-1755187200-1755189900@www.myepl.org
SUMMARY:Bilingual Storytime/Hora de Cuentos Bilingües
DESCRIPTION:Hear stories in English and Spanish words and phrases and we finish with a hands-on activity. 
URL:https://www.myepl.org/event/bilingual-storytime-hora-de-cuentos-bilingues-3/2025-08-14/
LOCATION:Pierre Moran Branch\, 2400 Benham Ave\, Elkhart\, IN\, 46517\, United States
CATEGORIES:Preschool Programs,School Age Programs,Storytimes
ATTACH;FMTTYPE=image/jpeg:https://www.myepl.org/wp-content/uploads/2025/06/Storytime-with-Miss-Angie-02-scaled.jpg
END:VEVENT
BEGIN:VEVENT
DTSTART;TZID=America/Indiana/Indianapolis:20250813T093000
DTEND;TZID=America/Indiana/Indianapolis:20250813T101500
DTSTAMP:20260421T014232
CREATED:20250317T203511Z
LAST-MODIFIED:20250725T192205Z
UID:50471-1755077400-1755080100@www.myepl.org
SUMMARY:Storytime at Cleveland
DESCRIPTION:Join us for as we build social and motor skills with stories\, song and a craft. Two sessions are offered for more families.
URL:https://www.myepl.org/event/storytime-with-miss-rhonda/2025-08-13/
LOCATION:Cleveland Branch\, 53715 C.R. 1\, Elkhart\, IN\, 46514\, United States
CATEGORIES:Preschool Programs,Storytimes
ATTACH;FMTTYPE=image/jpeg:https://www.myepl.org/wp-content/uploads/2022/10/Storytime-with-Miss-Rhonda-05-scaled.jpg
END:VEVENT
BEGIN:VEVENT
DTSTART;TZID=America/Indiana/Indianapolis:20250806T113000
DTEND;TZID=America/Indiana/Indianapolis:20250806T120000
DTSTAMP:20260421T014232
CREATED:20250609T150557Z
LAST-MODIFIED:20250611T154218Z
UID:49944-1754479800-1754481600@www.myepl.org
SUMMARY:Music Together Demo Class
DESCRIPTION:Try a free preview class of Goshen College’s popular Music Together class immediately following our Baby and Me class. These fun and interactive music classes are kids ages 0 to 5. \nMusic together is based on child development research and uses movement\, singing and fun with rhythm instruments and includes caregivers to make it a whole family experence. \n\n\n\n\n\n\n\nMusic Together de Goshen College ofrece clases económicas\, divertidas\, e interactivas de música para las familias con niños de 0-5 años de edad. \nBasado en las investigaciones sobre el desarrollo de los niños\, Music Together promueve la idea que todos los niños son musicales y que aprender la música ayuda con todo el aprendizaje. Venga a cantar\, bailar\, y tocar instrumentos de percusión.\n\n\n\n\n\n\n\nClick here to register for this class
URL:https://www.myepl.org/event/music-together-demo-class/
LOCATION:Downtown Library\, 300 S. Second St.\, Elkhart\, IN\, 46516\, United States
CATEGORIES:Music,Preschool Programs
ATTACH;FMTTYPE=image/jpeg:https://www.myepl.org/wp-content/uploads/2023/08/Music-Together-03.jpg
END:VEVENT
BEGIN:VEVENT
DTSTART;TZID=America/Indiana/Indianapolis:20250806T093000
DTEND;TZID=America/Indiana/Indianapolis:20250806T101500
DTSTAMP:20260421T014232
CREATED:20250317T203511Z
LAST-MODIFIED:20250725T192205Z
UID:50470-1754472600-1754475300@www.myepl.org
SUMMARY:Storytime at Cleveland
DESCRIPTION:Join us for as we build social and motor skills with stories\, song and a craft. Two sessions are offered for more families.
URL:https://www.myepl.org/event/storytime-with-miss-rhonda/2025-08-06/
LOCATION:Cleveland Branch\, 53715 C.R. 1\, Elkhart\, IN\, 46514\, United States
CATEGORIES:Preschool Programs,Storytimes
ATTACH;FMTTYPE=image/jpeg:https://www.myepl.org/wp-content/uploads/2022/10/Storytime-with-Miss-Rhonda-05-scaled.jpg
END:VEVENT
BEGIN:VEVENT
DTSTART;TZID=America/Indiana/Indianapolis:20250805T100000
DTEND;TZID=America/Indiana/Indianapolis:20250805T110000
DTSTAMP:20260421T014232
CREATED:20250618T193231Z
LAST-MODIFIED:20250728T163056Z
UID:50351-1754388000-1754391600@www.myepl.org
SUMMARY:Hot Wheels Preschool Party
DESCRIPTION:Race into stories and activities with cars and trucks. 
URL:https://www.myepl.org/event/hot-wheels-preschool-party/
LOCATION:Downtown Library\, 300 S. Second St.\, Elkhart\, IN\, 46516\, United States
CATEGORIES:Preschool Programs
ATTACH;FMTTYPE=image/png:https://www.myepl.org/wp-content/uploads/2025/06/hotwheelspreschoolparty_Calendar.png
END:VEVENT
BEGIN:VEVENT
DTSTART;TZID=America/Indiana/Indianapolis:20250730T093000
DTEND;TZID=America/Indiana/Indianapolis:20250730T101500
DTSTAMP:20260421T014232
CREATED:20250317T203511Z
LAST-MODIFIED:20250725T192204Z
UID:49647-1753867800-1753870500@www.myepl.org
SUMMARY:Storytime at Cleveland
DESCRIPTION:Join us for as we build social and motor skills with stories\, song and a craft. Two sessions are offered for more families.
URL:https://www.myepl.org/event/storytime-with-miss-rhonda/2025-07-30/
LOCATION:Cleveland Branch\, 53715 C.R. 1\, Elkhart\, IN\, 46514\, United States
CATEGORIES:Preschool Programs,Storytimes
ATTACH;FMTTYPE=image/jpeg:https://www.myepl.org/wp-content/uploads/2022/10/Storytime-with-Miss-Rhonda-05-scaled.jpg
END:VEVENT
BEGIN:VEVENT
DTSTART;TZID=America/Indiana/Indianapolis:20250723T093000
DTEND;TZID=America/Indiana/Indianapolis:20250723T101500
DTSTAMP:20260421T014232
CREATED:20250317T203511Z
LAST-MODIFIED:20250725T192204Z
UID:49646-1753263000-1753265700@www.myepl.org
SUMMARY:Storytime at Cleveland
DESCRIPTION:Join us for as we build social and motor skills with stories\, song and a craft. Two sessions are offered for more families.
URL:https://www.myepl.org/event/storytime-with-miss-rhonda/2025-07-23/
LOCATION:Cleveland Branch\, 53715 C.R. 1\, Elkhart\, IN\, 46514\, United States
CATEGORIES:Preschool Programs,Storytimes
ATTACH;FMTTYPE=image/jpeg:https://www.myepl.org/wp-content/uploads/2022/10/Storytime-with-Miss-Rhonda-05-scaled.jpg
END:VEVENT
BEGIN:VEVENT
DTSTART;TZID=America/Indiana/Indianapolis:20250716T093000
DTEND;TZID=America/Indiana/Indianapolis:20250716T101500
DTSTAMP:20260421T014232
CREATED:20250317T203511Z
LAST-MODIFIED:20250725T192204Z
UID:49645-1752658200-1752660900@www.myepl.org
SUMMARY:Storytime at Cleveland
DESCRIPTION:Join us for as we build social and motor skills with stories\, song and a craft. Two sessions are offered for more families.
URL:https://www.myepl.org/event/storytime-with-miss-rhonda/2025-07-16/
LOCATION:Cleveland Branch\, 53715 C.R. 1\, Elkhart\, IN\, 46514\, United States
CATEGORIES:Preschool Programs,Storytimes
ATTACH;FMTTYPE=image/jpeg:https://www.myepl.org/wp-content/uploads/2022/10/Storytime-with-Miss-Rhonda-05-scaled.jpg
END:VEVENT
BEGIN:VEVENT
DTSTART;TZID=America/Indiana/Indianapolis:20250711T100000
DTEND;TZID=America/Indiana/Indianapolis:20250711T110000
DTSTAMP:20260421T014232
CREATED:20250319T172002Z
LAST-MODIFIED:20250627T181024Z
UID:48609-1752228000-1752231600@www.myepl.org
SUMMARY:Toddler Rave
DESCRIPTION:This glow-in-the-dark party gets toddlers and preschoolers dancing\, playing and exploring.
URL:https://www.myepl.org/event/toddler-rave/
LOCATION:Downtown Library\, 300 S. Second St.\, Elkhart\, IN\, 46516\, United States
CATEGORIES:Just for Fun,Preschool Programs
ATTACH;FMTTYPE=image/png:https://www.myepl.org/wp-content/uploads/2025/03/toddlerRave_Calendar.png
END:VEVENT
BEGIN:VEVENT
DTSTART;TZID=America/Indiana/Indianapolis:20250709T093000
DTEND;TZID=America/Indiana/Indianapolis:20250709T101500
DTSTAMP:20260421T014232
CREATED:20250317T203511Z
LAST-MODIFIED:20250725T192204Z
UID:49644-1752053400-1752056100@www.myepl.org
SUMMARY:Storytime at Cleveland
DESCRIPTION:Join us for as we build social and motor skills with stories\, song and a craft. Two sessions are offered for more families.
URL:https://www.myepl.org/event/storytime-with-miss-rhonda/2025-07-09/
LOCATION:Cleveland Branch\, 53715 C.R. 1\, Elkhart\, IN\, 46514\, United States
CATEGORIES:Preschool Programs,Storytimes
ATTACH;FMTTYPE=image/jpeg:https://www.myepl.org/wp-content/uploads/2022/10/Storytime-with-Miss-Rhonda-05-scaled.jpg
END:VEVENT
BEGIN:VEVENT
DTSTART;TZID=America/Indiana/Indianapolis:20250702T093000
DTEND;TZID=America/Indiana/Indianapolis:20250702T101500
DTSTAMP:20260421T014232
CREATED:20250317T203511Z
LAST-MODIFIED:20250725T192204Z
UID:49643-1751448600-1751451300@www.myepl.org
SUMMARY:Storytime at Cleveland
DESCRIPTION:Join us for as we build social and motor skills with stories\, song and a craft. Two sessions are offered for more families.
URL:https://www.myepl.org/event/storytime-with-miss-rhonda/2025-07-02/
LOCATION:Cleveland Branch\, 53715 C.R. 1\, Elkhart\, IN\, 46514\, United States
CATEGORIES:Preschool Programs,Storytimes
ATTACH;FMTTYPE=image/jpeg:https://www.myepl.org/wp-content/uploads/2022/10/Storytime-with-Miss-Rhonda-05-scaled.jpg
END:VEVENT
BEGIN:VEVENT
DTSTART;TZID=America/Indiana/Indianapolis:20250625T093000
DTEND;TZID=America/Indiana/Indianapolis:20250625T101500
DTSTAMP:20260421T014232
CREATED:20250317T203511Z
LAST-MODIFIED:20250725T192203Z
UID:48477-1750843800-1750846500@www.myepl.org
SUMMARY:Storytime at Cleveland
DESCRIPTION:Join us for as we build social and motor skills with stories\, song and a craft. Two sessions are offered for more families.
URL:https://www.myepl.org/event/storytime-with-miss-rhonda/2025-06-25/
LOCATION:Cleveland Branch\, 53715 C.R. 1\, Elkhart\, IN\, 46514\, United States
CATEGORIES:Preschool Programs,Storytimes
ATTACH;FMTTYPE=image/jpeg:https://www.myepl.org/wp-content/uploads/2022/10/Storytime-with-Miss-Rhonda-05-scaled.jpg
END:VEVENT
BEGIN:VEVENT
DTSTART;TZID=America/Indiana/Indianapolis:20250620T100000
DTEND;TZID=America/Indiana/Indianapolis:20250620T110000
DTSTAMP:20260421T014232
CREATED:20250325T144744Z
LAST-MODIFIED:20250509T121658Z
UID:48932-1750413600-1750417200@www.myepl.org
SUMMARY:Preschool Moana Party
DESCRIPTION:Celebrate all things Moana with stories and activities.
URL:https://www.myepl.org/event/preschool-moana-party/
LOCATION:Dunlap Branch\, 58485 C.R. 13 East\, Elkhart\, IN\, 46516\, United States
CATEGORIES:Just for Fun,Preschool Programs
ATTACH;FMTTYPE=image/png:https://www.myepl.org/wp-content/uploads/2024/09/MoanaPreschoolParty_Calendar.png
END:VEVENT
BEGIN:VEVENT
DTSTART;TZID=America/Indiana/Indianapolis:20250610T100000
DTEND;TZID=America/Indiana/Indianapolis:20250610T110000
DTSTAMP:20260421T014232
CREATED:20250318T190838Z
LAST-MODIFIED:20250318T190838Z
UID:48580-1749549600-1749553200@www.myepl.org
SUMMARY:Messy Play Day
DESCRIPTION:Little ones learn a lot through messy sensory play. Let them make a mess here and we’ll handle the cleanup.
URL:https://www.myepl.org/event/messy-play-day-3/
LOCATION:Downtown Library\, 300 S. Second St.\, Elkhart\, IN\, 46516\, United States
CATEGORIES:Just for Fun,Preschool Programs
ATTACH;FMTTYPE=image/jpeg:https://www.myepl.org/wp-content/uploads/2024/03/Messy-play-day-01.jpg
END:VEVENT
BEGIN:VEVENT
DTSTART;TZID=America/Indiana/Indianapolis:20250528T173000
DTEND;TZID=America/Indiana/Indianapolis:20250528T183000
DTSTAMP:20260421T014232
CREATED:20250318T194923Z
LAST-MODIFIED:20250505T161535Z
UID:48584-1748453400-1748457000@www.myepl.org
SUMMARY:Lilo and Stitch Party
DESCRIPTION:Celebrate the idea of ohana\, which means family and no one gets left behind with stories and activities before the new movie comes out. 
URL:https://www.myepl.org/event/lilo-and-stitch-party/
LOCATION:Downtown Library\, 300 S. Second St.\, Elkhart\, IN\, 46516\, United States
CATEGORIES:Just for Fun,Preschool Programs,School Age Programs
ATTACH;FMTTYPE=image/png:https://www.myepl.org/wp-content/uploads/2025/03/liloandstitchparty_Calendar.png
END:VEVENT
BEGIN:VEVENT
DTSTART;TZID=America/Indiana/Indianapolis:20250509T100000
DTEND;TZID=America/Indiana/Indianapolis:20250509T110000
DTSTAMP:20260421T014232
CREATED:20250318T193203Z
LAST-MODIFIED:20250502T134711Z
UID:48582-1746784800-1746788400@www.myepl.org
SUMMARY:Preschool Party: Work it out Wombats
DESCRIPTION:Activities\, stories and more based on Work It Out Wombats and their computational thinking skills. With help from WNIT\, everyone will be going home with a goody bag while supplies last.
URL:https://www.myepl.org/event/preschool-party-work-it-out-wombats/
LOCATION:Downtown Library\, 300 S. Second St.\, Elkhart\, IN\, 46516\, United States
CATEGORIES:Educational,Preschool Programs
ATTACH;FMTTYPE=image/png:https://www.myepl.org/wp-content/uploads/2025/03/wombats_Calendar.png
END:VEVENT
BEGIN:VEVENT
DTSTART;TZID=America/Indiana/Indianapolis:20250429T100000
DTEND;TZID=America/Indiana/Indianapolis:20250429T110000
DTSTAMP:20260421T014232
CREATED:20241226T165335Z
LAST-MODIFIED:20250407T181327Z
UID:47477-1745920800-1745924400@www.myepl.org
SUMMARY:PJ Masks Power Heroes Preschool Party
DESCRIPTION:Celebrate the PJ Mask heroes and friends with stories\, games and activities. 
URL:https://www.myepl.org/event/pj-masks-power-heroes-preschool-party/
LOCATION:Downtown Library\, 300 S. Second St.\, Elkhart\, IN\, 46516\, United States
CATEGORIES:Preschool Programs
ATTACH;FMTTYPE=image/png:https://www.myepl.org/wp-content/uploads/2024/12/pjmaskparty_Calendar.png
END:VEVENT
BEGIN:VEVENT
DTSTART;TZID=America/Indiana/Indianapolis:20250321T100000
DTEND;TZID=America/Indiana/Indianapolis:20250321T110000
DTSTAMP:20260421T014232
CREATED:20241220T170545Z
LAST-MODIFIED:20250228T162153Z
UID:47295-1742551200-1742554800@www.myepl.org
SUMMARY:Pete the Cat Preschool Party
DESCRIPTION:Party like Pete the Cat with four groovy buttons and white shoes.
URL:https://www.myepl.org/event/pete-the-cat-preschool-party/
LOCATION:Downtown Library\, 300 S. Second St.\, Elkhart\, IN\, 46516\, United States
CATEGORIES:Just for Fun,Preschool Programs
ATTACH;FMTTYPE=image/png:https://www.myepl.org/wp-content/uploads/2024/12/PetetheCat-PreschoolParty_Calendar.png
END:VEVENT
BEGIN:VEVENT
DTSTART;TZID=America/Indiana/Indianapolis:20250228T100000
DTEND;TZID=America/Indiana/Indianapolis:20250228T110000
DTSTAMP:20260421T014232
CREATED:20241227T161206Z
LAST-MODIFIED:20250205T142019Z
UID:47531-1740736800-1740740400@www.myepl.org
SUMMARY:Preschool Danny Go Dance Party
DESCRIPTION:Dance to your favorite Danny Go videos and get moving. Plus\, take home a craft.
URL:https://www.myepl.org/event/preschool-danny-go-dance-party/
LOCATION:Dunlap Branch\, 58485 C.R. 13 East\, Elkhart\, IN\, 46516\, United States
CATEGORIES:Just for Fun,Preschool Programs
ATTACH;FMTTYPE=image/png:https://www.myepl.org/wp-content/uploads/2024/12/PreschoolDanceParty_Calendar.png
END:VEVENT
BEGIN:VEVENT
DTSTART;TZID=America/Indiana/Indianapolis:20250226T173000
DTEND;TZID=America/Indiana/Indianapolis:20250226T183000
DTSTAMP:20260421T014232
CREATED:20241211T182935Z
LAST-MODIFIED:20241211T182935Z
UID:47050-1740591000-1740594600@www.myepl.org
SUMMARY:Bedtime Stories
DESCRIPTION:Bedtime routine is the theme for this evening Storytime for the whole family. Enjoy activities\, stories and songs about bedtime.
URL:https://www.myepl.org/event/bedtime-stories-2/
LOCATION:Downtown Library\, 300 S. Second St.\, Elkhart\, IN\, 46516\, United States
CATEGORIES:Preschool Programs,Storytimes
ATTACH;FMTTYPE=image/png:https://www.myepl.org/wp-content/uploads/2024/07/BedtimeStories_Calendar.png
END:VEVENT
BEGIN:VEVENT
DTSTART;TZID=America/Indiana/Indianapolis:20250221T100000
DTEND;TZID=America/Indiana/Indianapolis:20250221T110000
DTSTAMP:20260421T014232
CREATED:20241220T172406Z
LAST-MODIFIED:20250128T200337Z
UID:47301-1740132000-1740135600@www.myepl.org
SUMMARY:Blaze and the Monster Machines Preschool Party
DESCRIPTION:Celebrate Blaze and the Monster Machines at a party including science\, stories and racing.
URL:https://www.myepl.org/event/blaze-and-the-monster-machines-preschool-party/
LOCATION:Downtown Library\, 300 S. Second St.\, Elkhart\, IN\, 46516\, United States
CATEGORIES:Just for Fun,Preschool Programs
ATTACH;FMTTYPE=image/png:https://www.myepl.org/wp-content/uploads/2024/12/preschoolparty_Calendar-1.png
END:VEVENT
BEGIN:VEVENT
DTSTART;TZID=America/Indiana/Indianapolis:20250121T100000
DTEND;TZID=America/Indiana/Indianapolis:20250121T110000
DTSTAMP:20260421T014232
CREATED:20240920T183415Z
LAST-MODIFIED:20241022T141340Z
UID:45598-1737453600-1737457200@www.myepl.org
SUMMARY:Moana Preschool Party
DESCRIPTION:How far will you go to enjoy some Moana and Maui-themed activities and stories?
URL:https://www.myepl.org/event/moana-preschool-party/
LOCATION:Downtown Library\, 300 S. Second St.\, Elkhart\, IN\, 46516\, United States
CATEGORIES:Just for Fun,Preschool Programs,Storytimes
ATTACH;FMTTYPE=image/png:https://www.myepl.org/wp-content/uploads/2024/09/MoanaPreschoolParty_Calendar.png
END:VEVENT
BEGIN:VEVENT
DTSTART;TZID=America/Indiana/Indianapolis:20241206T100000
DTEND;TZID=America/Indiana/Indianapolis:20241206T110000
DTSTAMP:20260421T014232
CREATED:20240925T141602Z
LAST-MODIFIED:20240925T141602Z
UID:45779-1733479200-1733482800@www.myepl.org
SUMMARY:Bluey Preschool Party
DESCRIPTION:Play magic feather wand\, keepy uppy and verandah Santa as Bluey inspires stories and games.
URL:https://www.myepl.org/event/bluey-preschool-party/
LOCATION:Downtown Library\, 300 S. Second St.\, Elkhart\, IN\, 46516\, United States
CATEGORIES:Preschool Programs,Storytimes
ATTACH;FMTTYPE=image/jpeg:https://www.myepl.org/wp-content/uploads/2022/01/bluey-preview-tw.jpeg
END:VEVENT
BEGIN:VEVENT
DTSTART;TZID=America/Indiana/Indianapolis:20241031T100000
DTEND;TZID=America/Indiana/Indianapolis:20241031T110000
DTSTAMP:20260421T014232
CREATED:20240613T203857Z
LAST-MODIFIED:20240613T203857Z
UID:44230-1730368800-1730372400@www.myepl.org
SUMMARY:Halloween Parade
DESCRIPTION:Preschoolers can come in their costumes for stories\, rhymes and games. We finish with a walk around the building to collect candy.
URL:https://www.myepl.org/event/halloween-parade/
LOCATION:Downtown Library\, 300 S. Second St.\, Elkhart\, IN\, 46516\, United States
CATEGORIES:Just for Fun,Preschool Programs
ATTACH;FMTTYPE=image/jpeg:https://www.myepl.org/wp-content/uploads/2024/06/Halloween-Parade-13-scaled.jpg
END:VEVENT
BEGIN:VEVENT
DTSTART;TZID=America/Indiana/Indianapolis:20241008T100000
DTEND;TZID=America/Indiana/Indianapolis:20241008T110000
DTSTAMP:20260421T014232
CREATED:20240627T192702Z
LAST-MODIFIED:20240930T142019Z
UID:44471-1728381600-1728385200@www.myepl.org
SUMMARY:Little Mermaid Preschool Party
DESCRIPTION:Enjoy mermaid fun with stories\, crafts and activities.
URL:https://www.myepl.org/event/little-mermaid-preschool-party/
LOCATION:Downtown Library\, 300 S. Second St.\, Elkhart\, IN\, 46516\, United States
CATEGORIES:Preschool Programs
ATTACH;FMTTYPE=image/avif:https://www.myepl.org/wp-content/uploads/2024/06/the-little-mermaid-live-action-remake-cast-character-guide.avif
END:VEVENT
BEGIN:VEVENT
DTSTART;TZID=America/Indiana/Indianapolis:20241007T110000
DTEND;TZID=America/Indiana/Indianapolis:20241007T120000
DTSTAMP:20260421T014232
CREATED:20240702T154449Z
LAST-MODIFIED:20241004T135951Z
UID:44615-1728298800-1728302400@www.myepl.org
SUMMARY:Pete the Cat and the Perfect Pizza Party
DESCRIPTION:Make the perfect (Lunchable) pizza and party with us! Plus\, stories\, songs and more! \nRegistration for this program begins Sept. 1.
URL:https://www.myepl.org/event/pete-the-cat-and-the-perfect-pizza-party/
LOCATION:Dunlap Branch\, 58485 C.R. 13 East\, Elkhart\, IN\, 46516\, United States
CATEGORIES:Just for Fun,Preschool Programs
ATTACH;FMTTYPE=image/png:https://www.myepl.org/wp-content/uploads/2024/07/petethecat_Calendar.png
END:VEVENT
BEGIN:VEVENT
DTSTART;TZID=America/Indiana/Indianapolis:20240917T100000
DTEND;TZID=America/Indiana/Indianapolis:20240917T110000
DTSTAMP:20260421T014232
CREATED:20240627T192117Z
LAST-MODIFIED:20240627T192117Z
UID:44469-1726567200-1726570800@www.myepl.org
SUMMARY:Rubble and Crew Preschool Party
DESCRIPTION:Create your own Builder’s Cove using our blocks just like Rubble and his family. Plus we’ll have stories and more activities.
URL:https://www.myepl.org/event/rubble-and-crew-preschool-party-2/
LOCATION:Downtown Library\, 300 S. Second St.\, Elkhart\, IN\, 46516\, United States
CATEGORIES:Preschool Programs
ATTACH;FMTTYPE=image/png:https://www.myepl.org/wp-content/uploads/2023/09/rubble-preschool-party_calendar.png
END:VEVENT
BEGIN:VEVENT
DTSTART;TZID=America/Indiana/Indianapolis:20240816T100000
DTEND;TZID=America/Indiana/Indianapolis:20240816T110000
DTSTAMP:20260421T014232
CREATED:20240628T160731Z
LAST-MODIFIED:20240724T191910Z
UID:44499-1723802400-1723806000@www.myepl.org
SUMMARY:Cookie Monster Preschool Party
DESCRIPTION:Sesame Street brought to you by the letter C and the number 5 with Cookie Monster as the star.
URL:https://www.myepl.org/event/cookie-monster-preschool-party/
LOCATION:Downtown Library\, 300 S. Second St.\, Elkhart\, IN\, 46516\, United States
CATEGORIES:Preschool Programs,Storytimes
ATTACH;FMTTYPE=image/png:https://www.myepl.org/wp-content/uploads/2024/06/Cookie-Monster-Preschool-Party-02.png
END:VEVENT
BEGIN:VEVENT
DTSTART;TZID=America/Indiana/Indianapolis:20240718T100000
DTEND;TZID=America/Indiana/Indianapolis:20240718T110000
DTSTAMP:20260421T014232
CREATED:20230922T172730Z
LAST-MODIFIED:20240315T182835Z
UID:42706-1721296800-1721300400@www.myepl.org
SUMMARY:Little Explorers - Dance Party
DESCRIPTION:Get the wiggles out and enjoy a dance party break from the regular Little Explorers program. Then later in the day\, join us for the Summer Reading Prize Party at the Tolson Center. \n(Little Explorers takes a break for Spring Break April 4 and again at the end of May and for the July 4th holiday.)
URL:https://www.myepl.org/event/little-explorers-2024-07-18/
LOCATION:Downtown Library\, 300 S. Second St.\, Elkhart\, IN\, 46516\, United States
CATEGORIES:Preschool Programs,Storytimes
ATTACH;FMTTYPE=image/jpeg:https://www.myepl.org/wp-content/uploads/2023/09/Little-Explorers-15-scaled.jpg
END:VEVENT
END:VCALENDAR