BEGIN:VCALENDAR
VERSION:2.0
PRODID:-//Elkhart Public Library - ECPv6.15.20//NONSGML v1.0//EN
CALSCALE:GREGORIAN
METHOD:PUBLISH
X-WR-CALNAME:Elkhart Public Library
X-ORIGINAL-URL:https://www.myepl.org
X-WR-CALDESC:Events for Elkhart Public Library
REFRESH-INTERVAL;VALUE=DURATION:PT1H
X-Robots-Tag:noindex
X-PUBLISHED-TTL:PT1H
BEGIN:VTIMEZONE
TZID:America/Indiana/Indianapolis
BEGIN:DAYLIGHT
TZOFFSETFROM:-0500
TZOFFSETTO:-0400
TZNAME:EDT
DTSTART:20250309T070000
END:DAYLIGHT
BEGIN:STANDARD
TZOFFSETFROM:-0400
TZOFFSETTO:-0500
TZNAME:EST
DTSTART:20251102T060000
END:STANDARD
BEGIN:DAYLIGHT
TZOFFSETFROM:-0500
TZOFFSETTO:-0400
TZNAME:EDT
DTSTART:20260308T070000
END:DAYLIGHT
BEGIN:STANDARD
TZOFFSETFROM:-0400
TZOFFSETTO:-0500
TZNAME:EST
DTSTART:20261101T060000
END:STANDARD
BEGIN:DAYLIGHT
TZOFFSETFROM:-0500
TZOFFSETTO:-0400
TZNAME:EDT
DTSTART:20270314T070000
END:DAYLIGHT
BEGIN:STANDARD
TZOFFSETFROM:-0400
TZOFFSETTO:-0500
TZNAME:EST
DTSTART:20271107T060000
END:STANDARD
END:VTIMEZONE
BEGIN:VEVENT
DTSTART;VALUE=DATE:20260410
DTEND;VALUE=DATE:20260411
DTSTAMP:20260422T230226
CREATED:20251210T170417Z
LAST-MODIFIED:20260303T193601Z
UID:53376-1775779200-1775865599@www.myepl.org
SUMMARY:Spring Break Boredom Busters
DESCRIPTION:Break out of the doldrums with fresh daily activities — crafts\, games\, challenges and surprises. Plus\, we pause on Friday for Popcorn and a Movie at 1:30 p.m. We’ll be watching “The Wild Robot” (PG\, 1:42).
URL:https://www.myepl.org/event/spring-break-boredom-busters-2/2026-04-10/
LOCATION:Cleveland Branch\, 53715 C.R. 1\, Elkhart\, IN\, 46514\, United States
CATEGORIES:Just for Fun,School Age Programs,Teen Programs
ATTACH;FMTTYPE=image/jpeg:https://www.myepl.org/wp-content/uploads/2025/12/Spring-Break-Boredom-Busters_Calendar.jpg
END:VEVENT
BEGIN:VEVENT
DTSTART;TZID=America/Indiana/Indianapolis:20260410T130000
DTEND;TZID=America/Indiana/Indianapolis:20260410T143000
DTSTAMP:20260422T230226
CREATED:20250618T203410Z
LAST-MODIFIED:20260305T185017Z
UID:53768-1775826000-1775831400@www.myepl.org
SUMMARY:Ox Bow Books & Boots
DESCRIPTION:Meet Miss Debbie with Elkhart County Parks naturalists for a book discussion and nature activity. Dress for the weather. Books are geared to ages 8-12\, and advanced reading is not required.  \nUpcoming books:  \n\nMarch 13 – “Brighty of the Grand Canyon” by Marguerite Henry\nApril 10 – “Grand Teton Stampede” by C.R. Fulton \nMay 8 – “Heartwood Hotel: Family Forever” by Kallie George\nJune 12 – “My Side of the Mountain” by Jean Craighead George\nJuly 17 – “The Perilous Performance at Milkweed Meadow” by Elaine Dimopoulos 
URL:https://www.myepl.org/event/ox-bow-books-and-boots/2026-04-10/
LOCATION:Dunlap Branch\, 58485 C.R. 13 East\, Elkhart\, IN\, 46516\, United States
CATEGORIES:Book Discussion,Preschool Programs,School Age Programs,Teen Programs
ATTACH;FMTTYPE=image/png:https://www.myepl.org/wp-content/uploads/2022/02/Calender-Books-and-Boots.png
END:VEVENT
END:VCALENDAR