BEGIN:VCALENDAR
VERSION:2.0
PRODID:-//Elkhart Public Library - ECPv6.15.20//NONSGML v1.0//EN
CALSCALE:GREGORIAN
METHOD:PUBLISH
X-WR-CALNAME:Elkhart Public Library
X-ORIGINAL-URL:https://www.myepl.org
X-WR-CALDESC:Events for Elkhart Public Library
REFRESH-INTERVAL;VALUE=DURATION:PT1H
X-Robots-Tag:noindex
X-PUBLISHED-TTL:PT1H
BEGIN:VTIMEZONE
TZID:America/Indiana/Indianapolis
BEGIN:DAYLIGHT
TZOFFSETFROM:-0500
TZOFFSETTO:-0400
TZNAME:EDT
DTSTART:20250309T070000
END:DAYLIGHT
BEGIN:STANDARD
TZOFFSETFROM:-0400
TZOFFSETTO:-0500
TZNAME:EST
DTSTART:20251102T060000
END:STANDARD
BEGIN:DAYLIGHT
TZOFFSETFROM:-0500
TZOFFSETTO:-0400
TZNAME:EDT
DTSTART:20260308T070000
END:DAYLIGHT
BEGIN:STANDARD
TZOFFSETFROM:-0400
TZOFFSETTO:-0500
TZNAME:EST
DTSTART:20261101T060000
END:STANDARD
BEGIN:DAYLIGHT
TZOFFSETFROM:-0500
TZOFFSETTO:-0400
TZNAME:EDT
DTSTART:20270314T070000
END:DAYLIGHT
BEGIN:STANDARD
TZOFFSETFROM:-0400
TZOFFSETTO:-0500
TZNAME:EST
DTSTART:20271107T060000
END:STANDARD
END:VTIMEZONE
BEGIN:VEVENT
DTSTART;VALUE=DATE:20260102
DTEND;VALUE=DATE:20260103
DTSTAMP:20260422T142001
CREATED:20250922T162911Z
LAST-MODIFIED:20250922T162911Z
UID:52233-1767312000-1767398399@www.myepl.org
SUMMARY:Winter Break Boredom Busters
DESCRIPTION:Come into Cleveland Branch throughout winter break for a new daily activity during open hours. Puzzles\, games\, and crafts are just some of the fun. Plus\, join us on Fridays Dec. 26 and Jan. 2 at 1:30 p.m. for Popcorn and a Movie. \n• Dec. 26 – The Smurfs (PG\, 1:32)\n• Jan. 2 – How to Train Your Dragon (PG\, 2:05)
URL:https://www.myepl.org/event/winter-break-boredom-busters/2026-01-02/
LOCATION:Cleveland Branch\, 53715 C.R. 1\, Elkhart\, IN\, 46514\, United States
CATEGORIES:Just for Fun,Preschool Programs,School Age Programs,Seasonal,Teen Programs
ATTACH;FMTTYPE=image/png:https://www.myepl.org/wp-content/uploads/2022/10/Winter-Break-Boredom-Busters-01.png
END:VEVENT
BEGIN:VEVENT
DTSTART;VALUE=DATE:20260103
DTEND;VALUE=DATE:20260104
DTSTAMP:20260422T142001
CREATED:20250922T162911Z
LAST-MODIFIED:20250922T162911Z
UID:52234-1767398400-1767484799@www.myepl.org
SUMMARY:Winter Break Boredom Busters
DESCRIPTION:Come into Cleveland Branch throughout winter break for a new daily activity during open hours. Puzzles\, games\, and crafts are just some of the fun. Plus\, join us on Fridays Dec. 26 and Jan. 2 at 1:30 p.m. for Popcorn and a Movie. \n• Dec. 26 – The Smurfs (PG\, 1:32)\n• Jan. 2 – How to Train Your Dragon (PG\, 2:05)
URL:https://www.myepl.org/event/winter-break-boredom-busters/2026-01-03/
LOCATION:Cleveland Branch\, 53715 C.R. 1\, Elkhart\, IN\, 46514\, United States
CATEGORIES:Just for Fun,Preschool Programs,School Age Programs,Seasonal,Teen Programs
ATTACH;FMTTYPE=image/png:https://www.myepl.org/wp-content/uploads/2022/10/Winter-Break-Boredom-Busters-01.png
END:VEVENT
BEGIN:VEVENT
DTSTART;TZID=America/Indiana/Indianapolis:20260106T160000
DTEND;TZID=America/Indiana/Indianapolis:20260106T170000
DTSTAMP:20260422T142001
CREATED:20250922T161806Z
LAST-MODIFIED:20250922T161806Z
UID:52211-1767715200-1767718800@www.myepl.org
SUMMARY:Bilingual Storytime/Hora de Cuentos Billingües
DESCRIPTION:Hear new phrases and stories in English and in Spanish during this all-ages Storytime. We finish with a hands-on activity. \nAcompáñenos el primer martes de cada mes para escuchar cuentos en inglés y español mientras aprende palabras y frases en español. Después de los cuentos habrá una actividad manual.
URL:https://www.myepl.org/event/bilingual-storytime-hora-de-cuentos-billingues/2026-01-06/
LOCATION:Pierre Moran Branch\, 2400 Benham Ave\, Elkhart\, IN\, 46517\, United States
CATEGORIES:Preschool Programs,School Age Programs,Storytimes,Teen Programs
ATTACH;FMTTYPE=image/jpeg:https://www.myepl.org/wp-content/uploads/2025/06/Storytime-with-Miss-Angie-02-scaled.jpg
END:VEVENT
BEGIN:VEVENT
DTSTART;TZID=America/Indiana/Indianapolis:20260113T163000
DTEND;TZID=America/Indiana/Indianapolis:20260113T180000
DTSTAMP:20260422T142001
CREATED:20250917T151732Z
LAST-MODIFIED:20260109T214221Z
UID:51880-1768321800-1768327200@www.myepl.org
SUMMARY:Teen Mini Bookshelves
DESCRIPTION:Make your dream bookshelf on a miniature scale. Show off your favorite reads or add to your style.
URL:https://www.myepl.org/event/teen-mini-bookshelves/
LOCATION:Downtown Library\, 300 S. Second St.\, Elkhart\, IN\, 46516\, United States
CATEGORIES:Crafts,Teen Programs
ATTACH;FMTTYPE=image/png:https://www.myepl.org/wp-content/uploads/2025/09/programs-jan-08.png
END:VEVENT
BEGIN:VEVENT
DTSTART;TZID=America/Indiana/Indianapolis:20260114T163000
DTEND;TZID=America/Indiana/Indianapolis:20260114T173000
DTSTAMP:20260422T142001
CREATED:20250918T161422Z
LAST-MODIFIED:20260114T175819Z
UID:52083-1768408200-1768411800@www.myepl.org
SUMMARY:LEGO Bots
DESCRIPTION:Work together in teams and learn coding skills to make LEGO builds move\, light up\, play sounds and more. \nRegistration for this program starts Dec. 1.
URL:https://www.myepl.org/event/lego-bots-17/
LOCATION:Downtown Library\, 300 S. Second St.\, Elkhart\, IN\, 46516\, United States
CATEGORIES:Just for Fun,School Age Programs,Teen Programs
ATTACH;FMTTYPE=image/jpeg:https://www.myepl.org/wp-content/uploads/2025/09/Homeschool-LEGO-Bots-09-scaled.jpg
END:VEVENT
BEGIN:VEVENT
DTSTART;TZID=America/Indiana/Indianapolis:20260116T163000
DTEND;TZID=America/Indiana/Indianapolis:20260116T173000
DTSTAMP:20260422T142001
CREATED:20250918T164813Z
LAST-MODIFIED:20260109T182957Z
UID:52088-1768581000-1768584600@www.myepl.org
SUMMARY:KPop Demon Hunters Party
DESCRIPTION:Stay golden\, Huntrix girls! Enjoy snacks\, activities\, sing-alongs\, and learn a dance with other fans of the popular movie.
URL:https://www.myepl.org/event/k-pop-demon-hunters-party/
LOCATION:Downtown Library\, 300 S. Second St.\, Elkhart\, IN\, 46516\, United States
CATEGORIES:Adult Programs,Just for Fun,School Age Programs,Teen Programs
ATTACH;FMTTYPE=image/png:https://www.myepl.org/wp-content/uploads/2025/09/kpopdemonhuntersparty_Calendar.png
END:VEVENT
BEGIN:VEVENT
DTSTART;TZID=America/Indiana/Indianapolis:20260119T153000
DTEND;TZID=America/Indiana/Indianapolis:20260119T163000
DTSTAMP:20260422T142001
CREATED:20250918T144007Z
LAST-MODIFIED:20250918T144007Z
UID:52010-1768836600-1768840200@www.myepl.org
SUMMARY:Kids Art Workshop
DESCRIPTION:Learn about a famous artist and their signature technique. Then\, put into practice while making your own masterpiece.
URL:https://www.myepl.org/event/kids-art-workshop-5/
LOCATION:Cleveland Branch\, 53715 C.R. 1\, Elkhart\, IN\, 46514\, United States
CATEGORIES:Art,School Age Programs,Teen Programs
ATTACH;FMTTYPE=image/png:https://www.myepl.org/wp-content/uploads/2024/12/KidsArtWorkshop_Calendar.png
END:VEVENT
BEGIN:VEVENT
DTSTART;TZID=America/Indiana/Indianapolis:20260119T163000
DTEND;TZID=America/Indiana/Indianapolis:20260119T174500
DTSTAMP:20260422T142001
CREATED:20250917T132837Z
LAST-MODIFIED:20251201T133044Z
UID:51859-1768840200-1768844700@www.myepl.org
SUMMARY:Tween and Teen Cookies and Canvas
DESCRIPTION:Learn new painting and art techniques while creating a picture of your choosing or bring your own. \nRegistration for this program opens Dec. 1.
URL:https://www.myepl.org/event/tween-and-teen-cookies-and-canvas-6/
LOCATION:Downtown Library\, 300 S. Second St.\, Elkhart\, IN\, 46516\, United States
CATEGORIES:Art,Teen Programs
ATTACH;FMTTYPE=image/png:https://www.myepl.org/wp-content/uploads/2025/03/cookies-and-canvas-calendar.png
END:VEVENT
BEGIN:VEVENT
DTSTART;TZID=America/Indiana/Indianapolis:20260120T163000
DTEND;TZID=America/Indiana/Indianapolis:20260120T180000
DTSTAMP:20260422T142001
CREATED:20250917T160056Z
LAST-MODIFIED:20260116T185130Z
UID:51882-1768926600-1768932000@www.myepl.org
SUMMARY:Teen Mario Wonder
DESCRIPTION:Bring your friends to hangout and play Super Mario Wonder on the Switch.
URL:https://www.myepl.org/event/mario-wonder-for-teens/
LOCATION:Downtown Library\, 300 S. Second St.\, Elkhart\, IN\, 46516\, United States
CATEGORIES:Teen Programs
ATTACH;FMTTYPE=image/jpeg:https://www.myepl.org/wp-content/uploads/2025/09/Jan-Calendar-06.jpg
END:VEVENT
BEGIN:VEVENT
DTSTART;TZID=America/Indiana/Indianapolis:20260124T093000
DTEND;TZID=America/Indiana/Indianapolis:20260124T123000
DTSTAMP:20260422T142001
CREATED:20250917T150934Z
LAST-MODIFIED:20250925T181510Z
UID:51875-1769247000-1769257800@www.myepl.org
SUMMARY:Practice SAT Test
DESCRIPTION:Before you take the real thing\, get a free practice test with Sylvan Learning Center. Bring your own calculator or borrow one of ours. \nRegistration for this event opens Dec. 1.
URL:https://www.myepl.org/event/practice-sat-test-2/
LOCATION:Downtown Library\, 300 S. Second St.\, Elkhart\, IN\, 46516\, United States
CATEGORIES:Educational,Teen Programs
ATTACH;FMTTYPE=image/png:https://www.myepl.org/wp-content/uploads/2025/09/PracticeSATTest_Calendar.png
END:VEVENT
BEGIN:VEVENT
DTSTART;TZID=America/Indiana/Indianapolis:20260124T110000
DTEND;TZID=America/Indiana/Indianapolis:20260124T120000
DTSTAMP:20260422T142001
CREATED:20250922T132147Z
LAST-MODIFIED:20260120T171812Z
UID:52186-1769252400-1769256000@www.myepl.org
SUMMARY:Winter Blast!
DESCRIPTION:Celebrate snow\, cold and winter fun inside with games\, stories\, prizes and more. Plus\, we’ll have an indoor snowball fight.
URL:https://www.myepl.org/event/winter-blast-2/
LOCATION:Downtown Library\, 300 S. Second St.\, Elkhart\, IN\, 46516\, United States
CATEGORIES:Just for Fun,School Age Programs,Teen Programs
ATTACH;FMTTYPE=image/png:https://www.myepl.org/wp-content/uploads/2024/09/WinterBlast_Calendar.png
END:VEVENT
BEGIN:VEVENT
DTSTART;TZID=America/Indiana/Indianapolis:20260126T140000
DTEND;TZID=America/Indiana/Indianapolis:20260126T150000
DTSTAMP:20260422T142001
CREATED:20250918T145742Z
LAST-MODIFIED:20250918T145742Z
UID:52038-1769436000-1769439600@www.myepl.org
SUMMARY:Homeschool LEGO Bots
DESCRIPTION:Work together in teams and use coding to make LEGO builds light up\, play sounds or move. This program is best for ages 6 and up. \nRegistration for this program opens Dec. 1.
URL:https://www.myepl.org/event/homeschool-lego-bots-13/
LOCATION:Dunlap Branch\, 58485 C.R. 13 East\, Elkhart\, IN\, 46516\, United States
CATEGORIES:Just for Fun,School Age Programs,Teen Programs
ATTACH;FMTTYPE=image/jpeg:https://www.myepl.org/wp-content/uploads/2025/06/Homeschool-LEGO-Bots-03-scaled.jpg
END:VEVENT
END:VCALENDAR